BEGIN:VCALENDAR
VERSION:2.0
PRODID:-//Rainmakers - ECPv6.15.17.1//NONSGML v1.0//EN
CALSCALE:GREGORIAN
METHOD:PUBLISH
X-ORIGINAL-URL:https://gorainmakers.com
X-WR-CALDESC:Events for Rainmakers
REFRESH-INTERVAL;VALUE=DURATION:PT1H
X-Robots-Tag:noindex
X-PUBLISHED-TTL:PT1H
BEGIN:VTIMEZONE
TZID:America/Indiana/Indianapolis
BEGIN:DAYLIGHT
TZOFFSETFROM:-0500
TZOFFSETTO:-0400
TZNAME:EDT
DTSTART:20200308T070000
END:DAYLIGHT
BEGIN:STANDARD
TZOFFSETFROM:-0400
TZOFFSETTO:-0500
TZNAME:EST
DTSTART:20201101T060000
END:STANDARD
BEGIN:DAYLIGHT
TZOFFSETFROM:-0500
TZOFFSETTO:-0400
TZNAME:EDT
DTSTART:20210314T070000
END:DAYLIGHT
BEGIN:STANDARD
TZOFFSETFROM:-0400
TZOFFSETTO:-0500
TZNAME:EST
DTSTART:20211107T060000
END:STANDARD
BEGIN:DAYLIGHT
TZOFFSETFROM:-0500
TZOFFSETTO:-0400
TZNAME:EDT
DTSTART:20220313T070000
END:DAYLIGHT
BEGIN:STANDARD
TZOFFSETFROM:-0400
TZOFFSETTO:-0500
TZNAME:EST
DTSTART:20221106T060000
END:STANDARD
END:VTIMEZONE
BEGIN:VEVENT
DTSTART;TZID=America/Indiana/Indianapolis:20210119T090000
DTEND;TZID=America/Indiana/Indianapolis:20210119T100000
DTSTAMP:20260424T184704
CREATED:20201208T192325Z
LAST-MODIFIED:20201214T184405Z
UID:123543-1611046800-1611050400@gorainmakers.com
SUMMARY:Critical Sales Habits
DESCRIPTION:January Topic: An Introduction that Works! \nHave you ever been to a networking event where someone is trying to explain what it is that they do\, and you’re left scratching your head after a ten minute conversation thinking “I’m still not 100% sure what that guy does\, or who he helps”? \nBeing able to introduce yourself and your profession in a clear and unambiguous way is critically important.  Potential prospects and partners need to understand the types of problems you solve in order to determine if there is synergy and alignment.  You may not have a lot of time to convey this message\, which is why context and clarity are so important. \nIn this session\, you’ll learn a simple six step process for creating an effective 60-second commercial that will check all the boxes.  By honing and developing yours\, you will: \n\nSet more qualified appointments!\nIncrease confidence in introducing yourself and your services in a compelling way.\nAllow your potential prospect or partner to qualify themselves organically.\nIntroduce yourself and your organization in an unambiguous way\, with great context and clarity.\n\nThis is a great step to add to your 2021 plan! \n  \n  \nOur Facilitator: \n \nDenny Ward \nWith a deep passion for solving problems\, Denny has been in the human capital management space for 13 years. \nHe now leads the charge at Velocity Sales Consulting. Denny strives to help organizations unpack the cause of sales team challenges so they can maximize team performance and be more intentional about engaging their people and improving processes. \nDenny has a Bachelor of Arts in Communications from Bowling Green State University\, where he majored in communications with a focus in business. His first role in business development and sales management was at WFAL Radio\, where he sold advertising. After cutting his teeth in sales\, Denny enjoyed a successful 12-year career at ADP in several leadership and business development roles. There he worked with companies of all sizes to help them solve organizational and associate challenges. \nIn 2014 he became a licensed Benefits Consultant and helped Indiana companies with their insurance and compliance goals.  His ability to help his clients reach their goals\, as well as provide impeccable service and follow up earned him many referrals and new clients. He has a proven track record of increasing revenue year over year at two fortune 500 companies. He is considered an expert in the area of sales process and employee engagement.
URL:https://gorainmakers.com/event/critical-sales-habits/
LOCATION:Zoom Webinar\, Indianapolis\, IN
CATEGORIES:Sales Habits,Small Business,Training
ATTACH;FMTTYPE=image/png:https://gorainmakers.com/wp-content/uploads/2020/12/Rainmakers-Presents_Critical-Sales-Habits.png
END:VEVENT
END:VCALENDAR