BEGIN:VCALENDAR
VERSION:2.0
PRODID:-//Rainmakers - ECPv6.15.17.1//NONSGML v1.0//EN
CALSCALE:GREGORIAN
METHOD:PUBLISH
X-WR-CALNAME:Rainmakers
X-ORIGINAL-URL:https://gorainmakers.com
X-WR-CALDESC:Events for Rainmakers
REFRESH-INTERVAL;VALUE=DURATION:PT1H
X-Robots-Tag:noindex
X-PUBLISHED-TTL:PT1H
BEGIN:VTIMEZONE
TZID:America/Indiana/Indianapolis
BEGIN:DAYLIGHT
TZOFFSETFROM:-0500
TZOFFSETTO:-0400
TZNAME:EDT
DTSTART:20200308T070000
END:DAYLIGHT
BEGIN:STANDARD
TZOFFSETFROM:-0400
TZOFFSETTO:-0500
TZNAME:EST
DTSTART:20201101T060000
END:STANDARD
BEGIN:DAYLIGHT
TZOFFSETFROM:-0500
TZOFFSETTO:-0400
TZNAME:EDT
DTSTART:20210314T070000
END:DAYLIGHT
BEGIN:STANDARD
TZOFFSETFROM:-0400
TZOFFSETTO:-0500
TZNAME:EST
DTSTART:20211107T060000
END:STANDARD
BEGIN:DAYLIGHT
TZOFFSETFROM:-0500
TZOFFSETTO:-0400
TZNAME:EDT
DTSTART:20220313T070000
END:DAYLIGHT
BEGIN:STANDARD
TZOFFSETFROM:-0400
TZOFFSETTO:-0500
TZNAME:EST
DTSTART:20221106T060000
END:STANDARD
END:VTIMEZONE
BEGIN:VEVENT
DTSTART;TZID=America/Indiana/Indianapolis:20210126T170000
DTEND;TZID=America/Indiana/Indianapolis:20210126T193000
DTSTAMP:20260424T184403
CREATED:20201208T204217Z
LAST-MODIFIED:20210121T195046Z
UID:123551-1611680400-1611689400@gorainmakers.com
SUMMARY:Eat + Drink
DESCRIPTION:Rainmakers Eat + Drink is our monthly social event. We travel all around the city to experience Indy’s best independent restaurant establishments.  Everyone welcome! Bring a friend or colleague and participate in a relaxed networking environment while enjoying the great tastes of Indy. \n  \nJoin us in January for wine tasting \nat Sugar Creek Winery! \n  \nJoin us for this unique wine tasting. You will receive 5 one-ounce pours of your choice of wines for $8. Appetizers will be provided by Rainmakers. \n  \n \nNote: We’re responsible for finding a great restaurant! You’re responsible for your food and drink! \nLet’s support a local restaurant\, get to know other folks\, and have great food and beverages all at the same time! \n  \nMore About Sugar Creek Winery: \nSugar Creek is a clear running tributary stream of the Wabash River which travels in a generally northeast to southwest direction as it cuts across west-central Indiana. The source lies in Tipton County\, Indiana and the entire river length to the Wabash confluence is approximately 90 miles. Sugar Creek is one of Indiana’s best canoeing rivers. There is a lot of use of the river in June\, July and August….especially on the weekends. \nEarly Indians named the stream after seeing the many sugar maple trees in the area. Because of its swift water\, Sugar Creek was important to the early pioneers as a source of power. It may not be Indiana’s fastest nor is it our most challenging canoe water\, but it is generally conceded to be the most beautiful stream in the State. An added attraction in the area is the many covered bridges over Sugar Creek and other streams in the area. It borders much of the Cain Family Farm. \nIn late 2010\, a vineyard site was selected for its slow\, flowing topography\, highway access\, and water well on site. It is located in the northeast corner of Montgomery County\, Indiana. \n  \nTHANK YOU to Our Sponsor: \n \nNathan Pfahler \nwith Weichert Realtors for sponsoring Rainmakers Eat + Drink! \nI am happily married to Jennifer Pfahler and we have 2 young boys who are fun and active! I have been a licensed REALTOR since 2005\, started the real estate team of The Pfahler Group\, in 2012\, and have owned my own brokerage since 2018\, purchasing the Weichert Franchise towards the end of 2019. To date\, I’ve been involved in over 700 real estate transactions and am pumped to think about how many families and individuals that means we have helped in their journey to homeownership! \nMy family and I reside in Brownsburg\, IN where we are involved in various school\, church\, and community activities! I am excited to lead a great team and a great brokerage! We would be honored to assist you in your residential or commercial needs. \n 
URL:https://gorainmakers.com/event/eat-drink-12/
LOCATION:Sugar Creek Winery\, 1111 West Main Street\, Carmel\, IN\, 46032\, United States
CATEGORIES:Social
ATTACH;FMTTYPE=image/png:https://gorainmakers.com/wp-content/uploads/2020/12/Rainmakers-Presents_EatDrink.png
END:VEVENT
END:VCALENDAR