BEGIN:VCALENDAR
VERSION:2.0
PRODID:-//Rainmakers - ECPv6.15.17.1//NONSGML v1.0//EN
CALSCALE:GREGORIAN
METHOD:PUBLISH
X-WR-CALNAME:Rainmakers
X-ORIGINAL-URL:https://gorainmakers.com
X-WR-CALDESC:Events for Rainmakers
REFRESH-INTERVAL;VALUE=DURATION:PT1H
X-Robots-Tag:noindex
X-PUBLISHED-TTL:PT1H
BEGIN:VTIMEZONE
TZID:America/Indiana/Indianapolis
BEGIN:DAYLIGHT
TZOFFSETFROM:-0500
TZOFFSETTO:-0400
TZNAME:EDT
DTSTART:20200308T070000
END:DAYLIGHT
BEGIN:STANDARD
TZOFFSETFROM:-0400
TZOFFSETTO:-0500
TZNAME:EST
DTSTART:20201101T060000
END:STANDARD
BEGIN:DAYLIGHT
TZOFFSETFROM:-0500
TZOFFSETTO:-0400
TZNAME:EDT
DTSTART:20210314T070000
END:DAYLIGHT
BEGIN:STANDARD
TZOFFSETFROM:-0400
TZOFFSETTO:-0500
TZNAME:EST
DTSTART:20211107T060000
END:STANDARD
BEGIN:DAYLIGHT
TZOFFSETFROM:-0500
TZOFFSETTO:-0400
TZNAME:EDT
DTSTART:20220313T070000
END:DAYLIGHT
BEGIN:STANDARD
TZOFFSETFROM:-0400
TZOFFSETTO:-0500
TZNAME:EST
DTSTART:20221106T060000
END:STANDARD
END:VTIMEZONE
BEGIN:VEVENT
DTSTART;TZID=America/Indiana/Indianapolis:20210218T133000
DTEND;TZID=America/Indiana/Indianapolis:20210218T143000
DTSTAMP:20260424T171812
CREATED:20201210T173409Z
LAST-MODIFIED:20210108T225838Z
UID:123590-1613655000-1613658600@gorainmakers.com
SUMMARY:Sell on Social
DESCRIPTION:Sell on Social: How to Create Content that Captures & Converts Your Target Audience \n  \nFebruary Topic: Clarifying Your Message \nAs part one of a series on creating content online\, we’ll be focusing on precisely how to clarify your message online. Though many assume messaging pertains only to captions\, your company’s message articulates the mission\, vision\, and value your company delivers to the marketplace. Considering your messaging communicates the essence of why customers should buy\, messaging is the backbone behind a solid marketing strategy.\n\nYou won’t want to miss this session\, because we’ll be covering:\n\nThe foundational components of creating a clear message that leaves customers ready to buy\n\n\nEffective tactics to communicate about your brand\n\n\nDeveloping personas to market to in order to ensure your message is clear\n\n… and so much more.\n\nReady to engage your clients and prospects online? Register for this series on Clarifying Your Message today.\n  \nOur Facilitator: \n \nAshley Monk \nAshley is the CEO of It Media\, a social media advertising agency that helps companies engage their clients online. She helps companies reach their niche marketing with paid advertising and quality content in order to generate the right leads. \nWorking with clients finding themselves frustrated on spending their ad dollars with no results\,  Ashley is an energetic entrepreneur dedicated to inspiring companies to market with ambition\, innovation & confidence. \nAdditionally\, she enjoys spending time traveling with her husband\, Dallas\, and her two dogs\, as well as leading worship at her church Trader’s Point.
URL:https://gorainmakers.com/event/sell-on-social/
LOCATION:Zoom Webinar\, Indianapolis\, IN
CATEGORIES:Small Business,Social Media
ATTACH;FMTTYPE=image/png:https://gorainmakers.com/wp-content/uploads/2020/12/Rainmakers-Presents_Sell-On-Social.png
END:VEVENT
END:VCALENDAR