BEGIN:VCALENDAR
VERSION:2.0
PRODID:-//Rainmakers - ECPv6.15.17.1//NONSGML v1.0//EN
CALSCALE:GREGORIAN
METHOD:PUBLISH
X-WR-CALNAME:Rainmakers
X-ORIGINAL-URL:https://gorainmakers.com
X-WR-CALDESC:Events for Rainmakers
REFRESH-INTERVAL;VALUE=DURATION:PT1H
X-Robots-Tag:noindex
X-PUBLISHED-TTL:PT1H
BEGIN:VTIMEZONE
TZID:America/Indiana/Indianapolis
BEGIN:DAYLIGHT
TZOFFSETFROM:-0500
TZOFFSETTO:-0400
TZNAME:EDT
DTSTART:20200308T070000
END:DAYLIGHT
BEGIN:STANDARD
TZOFFSETFROM:-0400
TZOFFSETTO:-0500
TZNAME:EST
DTSTART:20201101T060000
END:STANDARD
BEGIN:DAYLIGHT
TZOFFSETFROM:-0500
TZOFFSETTO:-0400
TZNAME:EDT
DTSTART:20210314T070000
END:DAYLIGHT
BEGIN:STANDARD
TZOFFSETFROM:-0400
TZOFFSETTO:-0500
TZNAME:EST
DTSTART:20211107T060000
END:STANDARD
BEGIN:DAYLIGHT
TZOFFSETFROM:-0500
TZOFFSETTO:-0400
TZNAME:EDT
DTSTART:20220313T070000
END:DAYLIGHT
BEGIN:STANDARD
TZOFFSETFROM:-0400
TZOFFSETTO:-0500
TZNAME:EST
DTSTART:20221106T060000
END:STANDARD
END:VTIMEZONE
BEGIN:VEVENT
DTSTART;TZID=America/Indiana/Indianapolis:20210224T100000
DTEND;TZID=America/Indiana/Indianapolis:20210224T110000
DTSTAMP:20260418T174917
CREATED:20201208T210545Z
LAST-MODIFIED:20210113T160229Z
UID:123568-1614160800-1614164400@gorainmakers.com
SUMMARY:Networking Mastery
DESCRIPTION:Networking is like using the stairs-sometimes we try to simplify the process and use the escalator and find ourselves disappointed. Sometimes we attempt to run up the stairs only to slide back down or try skipping steps or miss a step and even fall. There can also be landings that allow us to catch our breath and handrails to assist us along the way. \nIn 2021 We are going to take a journey on the stairway of networking where connectivity and collaboration becomes comfortable and a regular part of our business. \n  \nFebruary Topic: Prepare to be Compelling. Re-energize your compelling factor to wake up your networking success. \nMoving up the Steps to Networking Success:\n• Do you want Quality or Quanity?\n• Have you thought about changing your perspective?\n• What could happen when your Attraction Factor changed to your Compelling Factor? \n  \nOur Facilitator: \n \nPatty Pavey \nPatty has coached and encouraged people her whole life. Teaching and coaching in public schools adult education. Twenty + successful years in a direct sales company in the top 2-1/2 percent of the company. As a Certified Kitchen and Bath Designer\, she owned her own company and design studio traveling\, training\, and mentoring. Today she is the owner of Today’s The Day Coaching & Hypnosis. As a certified hypnotist\, coach\, and leadership trainer she has cycled all her education\, experiences\, training\, and skills into empowering people to make better choices to improve their lifestyles for a lifetime. She is passionate and committed to helping individuals and groups in mastering change\, enlivening hope in people who are frustrated\, unmotivated\, stressed\, and unhappy. She assists people who are STUCK TO BECOME STUPENDOUS. \nWith a successful networking background\, she has written a Networking book (Guide To Powerful Networking & Strategic Partnering ) and runs popular networking groups as well as teaches networking classes and workshops assisting people in enlarging their sphere of influence. She loves connecting people and watching others embrace networking and step up their skills as a professional networker. \nWith a degree from Purdue\, Masters from Ball State\, and certifications from the National Guild of Hypnosis including Bariatric Surgery For The Mind Hypnosis\, Sports and Golf Hypnosis\, Care Givers Hypnosis\, Pain\, Smoking Sensation\, Weight Management\, Stress Management Everything DiSC from Wiley\, NLP\, to name a few. She was honored a few years ago as one of the outstanding women in business in the Heartland. \nMarried to Chuck for 39 years\, with 3 children\, 5 grandchildren. She loves to travel and meet new people\, read\, exercise\, cook\, and decorate.
URL:https://gorainmakers.com/event/networking-mastery-2021-02-24/
LOCATION:Zoom Webinar\, Indianapolis\, IN
CATEGORIES:Networking,Small Business,Training
ATTACH;FMTTYPE=image/png:https://gorainmakers.com/wp-content/uploads/2020/12/Rainmakers-Presents_Networking-Mastery.png
END:VEVENT
END:VCALENDAR