BEGIN:VCALENDAR
VERSION:2.0
PRODID:-//Rainmakers - ECPv6.15.17.1//NONSGML v1.0//EN
CALSCALE:GREGORIAN
METHOD:PUBLISH
X-WR-CALNAME:Rainmakers
X-ORIGINAL-URL:https://gorainmakers.com
X-WR-CALDESC:Events for Rainmakers
REFRESH-INTERVAL;VALUE=DURATION:PT1H
X-Robots-Tag:noindex
X-PUBLISHED-TTL:PT1H
BEGIN:VTIMEZONE
TZID:America/Indiana/Indianapolis
BEGIN:DAYLIGHT
TZOFFSETFROM:-0500
TZOFFSETTO:-0400
TZNAME:EDT
DTSTART:20200308T070000
END:DAYLIGHT
BEGIN:STANDARD
TZOFFSETFROM:-0400
TZOFFSETTO:-0500
TZNAME:EST
DTSTART:20201101T060000
END:STANDARD
BEGIN:DAYLIGHT
TZOFFSETFROM:-0500
TZOFFSETTO:-0400
TZNAME:EDT
DTSTART:20210314T070000
END:DAYLIGHT
BEGIN:STANDARD
TZOFFSETFROM:-0400
TZOFFSETTO:-0500
TZNAME:EST
DTSTART:20211107T060000
END:STANDARD
BEGIN:DAYLIGHT
TZOFFSETFROM:-0500
TZOFFSETTO:-0400
TZNAME:EDT
DTSTART:20220313T070000
END:DAYLIGHT
BEGIN:STANDARD
TZOFFSETFROM:-0400
TZOFFSETTO:-0500
TZNAME:EST
DTSTART:20221106T060000
END:STANDARD
END:VTIMEZONE
BEGIN:VEVENT
DTSTART;TZID=America/Indiana/Indianapolis:20210323T173000
DTEND;TZID=America/Indiana/Indianapolis:20210323T190000
DTSTAMP:20260424T155122
CREATED:20210209T185830Z
LAST-MODIFIED:20210316T143803Z
UID:123726-1616520600-1616526000@gorainmakers.com
SUMMARY:Rainmakers. The Reunion!
DESCRIPTION:Many have been asking for YEARS\, so here it is! We are inviting everyone (and we mean every single one of you who have been part of the Rainmakers community since 2002) back together for a reunion. \nJoin this fun\, virtual event and experience some 1-1 meetings with new and old connections\, energizing breakout conversations (maybe even a chance to share your funniest Rainmakers experience) and get a glimpse of the new virtual Rainmakers community that serves ALL geographies. \n  \n \n  \nDETAILS:\nWHO Members of Rainmakers from 2002 to today! \nDATE March 23\, 2021 \nTIME 530-7PM (The Main Event) *pre-event networking starts at 5pm & post-event networking ends at 9 pm \nWHERE hopin.com \nWHAT     ✔Join hands-on sessions \n                 ✔ Visit expo booths \n                 ✔ Meet 1-on-1 \n                 ✔Have a fabulous time! \n  \n____________________________ \nThank you\, to Jack Klemeyer\n\n\n\nfor sponsoring our event platform:\n\n\n____________________________\n\n\nVirtual Business to Business Networking\n\nExpo Booths: \n\n\nPaul McCoy\, Tidal Coaching\n____________________________________\n  \n\nNathan Pfahler\, Weichert Realtors – New Dimensions\n____________________________________\n\n\n\n \n\n\nJason Peters\, Resolvit\n____________________________________\n\n\n \nJason Cochran\, Dulead\n\n____________________________________\n\n\n\nSonja Budreau\, Creative Consulting\n____________________________________
URL:https://gorainmakers.com/event/rainmakers-the-reunion/
LOCATION:Zoom Webinar\, Indianapolis\, IN
CATEGORIES:Networking,Virtual Networking
ATTACH;FMTTYPE=image/png:https://gorainmakers.com/wp-content/uploads/2021/02/RM-Reunion-Logo.png
END:VEVENT
END:VCALENDAR