BEGIN:VCALENDAR
VERSION:2.0
PRODID:-//Rainmakers - ECPv6.15.17.1//NONSGML v1.0//EN
CALSCALE:GREGORIAN
METHOD:PUBLISH
X-ORIGINAL-URL:https://gorainmakers.com
X-WR-CALDESC:Events for Rainmakers
REFRESH-INTERVAL;VALUE=DURATION:PT1H
X-Robots-Tag:noindex
X-PUBLISHED-TTL:PT1H
BEGIN:VTIMEZONE
TZID:America/Indiana/Indianapolis
BEGIN:DAYLIGHT
TZOFFSETFROM:-0500
TZOFFSETTO:-0400
TZNAME:EDT
DTSTART:20200308T070000
END:DAYLIGHT
BEGIN:STANDARD
TZOFFSETFROM:-0400
TZOFFSETTO:-0500
TZNAME:EST
DTSTART:20201101T060000
END:STANDARD
BEGIN:DAYLIGHT
TZOFFSETFROM:-0500
TZOFFSETTO:-0400
TZNAME:EDT
DTSTART:20210314T070000
END:DAYLIGHT
BEGIN:STANDARD
TZOFFSETFROM:-0400
TZOFFSETTO:-0500
TZNAME:EST
DTSTART:20211107T060000
END:STANDARD
BEGIN:DAYLIGHT
TZOFFSETFROM:-0500
TZOFFSETTO:-0400
TZNAME:EDT
DTSTART:20220313T070000
END:DAYLIGHT
BEGIN:STANDARD
TZOFFSETFROM:-0400
TZOFFSETTO:-0500
TZNAME:EST
DTSTART:20221106T060000
END:STANDARD
END:VTIMEZONE
BEGIN:VEVENT
DTSTART;TZID=America/Indiana/Indianapolis:20210422T113000
DTEND;TZID=America/Indiana/Indianapolis:20210422T123000
DTSTAMP:20260424T143106
CREATED:20201208T214421Z
LAST-MODIFIED:20210402T183404Z
UID:123586-1619091000-1619094600@gorainmakers.com
SUMMARY:Sharpen
DESCRIPTION:Rainmakers Sharpen is a quarterly event for business owners\, C-level leaders\, and their operational leaders to learn new business efficiencies and building new relationships in the community. Expect thought-provoking topics led by small business solutions experts and small group discussions to apply learnings. \n  \nApril Topic: Technology Tools for Elevating the Client Experience \n\n How can CRM empower your business?\nApplication development & usage and ways it helps client engagement\nPaper replacement & digital automation tools for accuracy\, saving time & money\nHR Tech solutions and how they  can elevate your business and employee retention\n\n  \nOur Speakers: \n \nLara Rollins \nBusiness Advisor\, Thryv \nAt Thryv\, our mission is to help America’s local\, independent business owners thrive\, as we have for decades.  My goal every day is to help small and medium businesses in my community and the surrounding communities compete against the corporate giants and dominate the marketplace. As a Local Business Advisor for Thryv\, I help customers realize a positive ROI with digital and print marketing service along with providing business automation tools that save business owners and manager’s time and money while keeping their customers engaged with their business.  Thryv includes CRM\, calendar\, invoicing\, email and text campaigns\, client reviews\, Social Media\, and much more. \nVisit My Client Portal: https://emp.thryv.com/site/lararollins \n \n_______________________________ \n \nJulie Pitts \nBusiness Performance Advisor\, Insperity \nJulie is a seasoned technology / SaaS sales\, marketing\, and talent acquisition leader with a strong track record in exceeding goals\, engaging consultative selling\, team building\, and senior leadership skills to drive results. She has spent over 25 years in the HCM space\, having worked for industry leaders such as Monster.com\, WorkHere\, Insperity\, MRI\, and as a recruitment marketing consultant. Julie’s passion is in using recruitment marketing and technology as a thought leader and innovator for new business startups\, new product/program launches\, and driving revenue growth.  Julie is a speaker\, author\, and relationship builder\, a Ball State Cardinal\, and an avid coffee drinker. \n  \n  \n_______________________________ \n \nMatt Maudlin \nPresident and CEO\, MEMO Marketing Group \n \nFind Matt on LinkedIn  or contact him at matt@memomarketinggroup.com \n  \n  \n  \nOur Facilitator: \n \nAmber Fields \nAmber is a bright light. Her approach is to learn about you and help you to win with the right connections and solutions. She understands the power of helping people to achieve their own unique purpose. She uses these superpowers in her executive role with AIS\, as a board member with Damar Services\, as a co-host on the show The Truth Revival and as a Zarvos Leadership Coach. \nAmber’s role at AIS is a perfect fit for her “connection” expertise! She’s helping clients with their IT infrastructure connections to fuel the growth of their business. \nAmber is passionate about paving the way for women to have successful careers in the IT industry. She didn’t go looking for a career in IT\, it came after her and she quickly realized the power of connection in an industry that is truly connected to the way we do work and life. \nGifts are meant to be given. With her time\, talents\, connections\, and dollars\, Amber is here to give and serve. She has an impressive history of raising money and making a difference in organizations close to her heart.
URL:https://gorainmakers.com/event/sharpen-2021-04-22/
LOCATION:Zoom Webinar\, Indianapolis\, IN
CATEGORIES:Business Operations,Efficiency,Small Business
ATTACH;FMTTYPE=image/png:https://gorainmakers.com/wp-content/uploads/2020/12/Rainmakers-Presents_Sharpen.png
END:VEVENT
END:VCALENDAR