BEGIN:VCALENDAR
VERSION:2.0
PRODID:-//Rainmakers - ECPv6.15.17.1//NONSGML v1.0//EN
CALSCALE:GREGORIAN
METHOD:PUBLISH
X-WR-CALNAME:Rainmakers
X-ORIGINAL-URL:https://gorainmakers.com
X-WR-CALDESC:Events for Rainmakers
REFRESH-INTERVAL;VALUE=DURATION:PT1H
X-Robots-Tag:noindex
X-PUBLISHED-TTL:PT1H
BEGIN:VTIMEZONE
TZID:America/Indiana/Indianapolis
BEGIN:DAYLIGHT
TZOFFSETFROM:-0500
TZOFFSETTO:-0400
TZNAME:EDT
DTSTART:20200308T070000
END:DAYLIGHT
BEGIN:STANDARD
TZOFFSETFROM:-0400
TZOFFSETTO:-0500
TZNAME:EST
DTSTART:20201101T060000
END:STANDARD
BEGIN:DAYLIGHT
TZOFFSETFROM:-0500
TZOFFSETTO:-0400
TZNAME:EDT
DTSTART:20210314T070000
END:DAYLIGHT
BEGIN:STANDARD
TZOFFSETFROM:-0400
TZOFFSETTO:-0500
TZNAME:EST
DTSTART:20211107T060000
END:STANDARD
BEGIN:DAYLIGHT
TZOFFSETFROM:-0500
TZOFFSETTO:-0400
TZNAME:EDT
DTSTART:20220313T070000
END:DAYLIGHT
BEGIN:STANDARD
TZOFFSETFROM:-0400
TZOFFSETTO:-0500
TZNAME:EST
DTSTART:20221106T060000
END:STANDARD
END:VTIMEZONE
BEGIN:VEVENT
DTSTART;TZID=America/Indiana/Indianapolis:20210520T090000
DTEND;TZID=America/Indiana/Indianapolis:20210520T100000
DTSTAMP:20260424T124640
CREATED:20210312T193601Z
LAST-MODIFIED:20210504T153747Z
UID:123829-1621501200-1621504800@gorainmakers.com
SUMMARY:Christian Professionals Virtual Roundtable
DESCRIPTION:Rainmakers Christian Professionals Virtual Roundtable gathers owners\, executives\, and managers in the small and mid-market business community to build relationships and grow in their Christian faith. Quarterly networking events feature a successful business leader that speaks about their faith journey in business. The speaker will then lead attendees into small group discussions to share and apply key takeaways. Outside of the quarterly event\, Rainmakers Christian Professionals offers roundtable sessions on various topics with regards to living out our faith in the workplace.\n\n\n\nNetworking | Inspiring Speakers | Roundtable Discussion\n\nRecharge + Refocus\n________________________________________________________\n\nTopic: Coming Soon!\n\nOur Speaker:\nDavid Cederquist\n 
URL:https://gorainmakers.com/event/christian-professionals-virtual-roundtable/2021-05-20/
LOCATION:Zoom Webinar\, Indianapolis\, IN
ATTACH;FMTTYPE=image/png:https://gorainmakers.com/wp-content/uploads/2021/03/Christian-Professionals-2020.png
END:VEVENT
END:VCALENDAR