BEGIN:VCALENDAR
VERSION:2.0
PRODID:-//Rainmakers - ECPv6.15.17.1//NONSGML v1.0//EN
CALSCALE:GREGORIAN
METHOD:PUBLISH
X-WR-CALNAME:Rainmakers
X-ORIGINAL-URL:https://gorainmakers.com
X-WR-CALDESC:Events for Rainmakers
REFRESH-INTERVAL;VALUE=DURATION:PT1H
X-Robots-Tag:noindex
X-PUBLISHED-TTL:PT1H
BEGIN:VTIMEZONE
TZID:America/Indiana/Indianapolis
BEGIN:DAYLIGHT
TZOFFSETFROM:-0500
TZOFFSETTO:-0400
TZNAME:EDT
DTSTART:20200308T070000
END:DAYLIGHT
BEGIN:STANDARD
TZOFFSETFROM:-0400
TZOFFSETTO:-0500
TZNAME:EST
DTSTART:20201101T060000
END:STANDARD
BEGIN:DAYLIGHT
TZOFFSETFROM:-0500
TZOFFSETTO:-0400
TZNAME:EDT
DTSTART:20210314T070000
END:DAYLIGHT
BEGIN:STANDARD
TZOFFSETFROM:-0400
TZOFFSETTO:-0500
TZNAME:EST
DTSTART:20211107T060000
END:STANDARD
BEGIN:DAYLIGHT
TZOFFSETFROM:-0500
TZOFFSETTO:-0400
TZNAME:EDT
DTSTART:20220313T070000
END:DAYLIGHT
BEGIN:STANDARD
TZOFFSETFROM:-0400
TZOFFSETTO:-0500
TZNAME:EST
DTSTART:20221106T060000
END:STANDARD
END:VTIMEZONE
BEGIN:VEVENT
DTSTART;TZID=America/Indiana/Indianapolis:20210617T140000
DTEND;TZID=America/Indiana/Indianapolis:20210617T150000
DTSTAMP:20260421T123303
CREATED:20210528T130429Z
LAST-MODIFIED:20210601T192328Z
UID:123927-1623938400-1623942000@gorainmakers.com
SUMMARY:Negotiation Savviness
DESCRIPTION:June Topic: What Can Behavioral Science Teach You About Persuasion\, Influence & Negotiation? \nThe fact is\, great negotiators are made\, not born. Negotiation is a skill that can be acquired\, polished\, and honed. Over the past three decades\, a rich literature has grown up around the finer points of influence & negotiation. In our time together we will be discussing how to use lessons from behavioral science to improve our negotiation skills by using the Laws of: \n\nReciprocity\nScarcity\nLiking\nAuthority\nSocial proof\nConsistency\n\nOur Facilitator: \n \nCole Wyant \nCole is a highly successful serial entrepreneur and expert marketer who has built several companies from concept to significance.  Currently\, he is the host of the G.O.A.T. Negotiator Podcast and a multi-territory owner of Schooley Mitchell for IN\, KY\, and TX.  Schooley Mitchell is North America’s largest expense reduction consulting firm that negotiates vendor relationships on behalf of its 23k clients that saved $360M last year. \nIn the four sessions listed below\, you will learn from Cole’s experience as a professional negotiator and the lessons learned from his podcast guests’. \nCole will lace his sessions with stories and key takeaways from The G.O.A.T. Negotiator Podcast.  Stories from Authors\, C-Level Executives\, Entrepreneurs\, Body Language Experts\, Behavioral Psychologists\, Real Estate Developers\, Lawyers\, Sports Agents\, Business Brokers\, Law Enforcement Negotiators\, Politicians\, Foreign Policy Intelligence Experts\, Association & Chamber of Commerce Executives and Professors who teach negotiation at some of America’s Top Universities.
URL:https://gorainmakers.com/event/negotiation-savviness-2/
LOCATION:Zoom Webinar\, Indianapolis\, IN
CATEGORIES:Negotiation,Small Business
ATTACH;FMTTYPE=image/png:https://gorainmakers.com/wp-content/uploads/2020/12/Rainmakers-Presents_Negotiation-Savviness.png
END:VEVENT
END:VCALENDAR