BEGIN:VCALENDAR
VERSION:2.0
PRODID:-//Rainmakers - ECPv6.15.17.1//NONSGML v1.0//EN
CALSCALE:GREGORIAN
METHOD:PUBLISH
X-WR-CALNAME:Rainmakers
X-ORIGINAL-URL:https://gorainmakers.com
X-WR-CALDESC:Events for Rainmakers
REFRESH-INTERVAL;VALUE=DURATION:PT1H
X-Robots-Tag:noindex
X-PUBLISHED-TTL:PT1H
BEGIN:VTIMEZONE
TZID:America/Indiana/Indianapolis
BEGIN:DAYLIGHT
TZOFFSETFROM:-0500
TZOFFSETTO:-0400
TZNAME:EDT
DTSTART:20200308T070000
END:DAYLIGHT
BEGIN:STANDARD
TZOFFSETFROM:-0400
TZOFFSETTO:-0500
TZNAME:EST
DTSTART:20201101T060000
END:STANDARD
BEGIN:DAYLIGHT
TZOFFSETFROM:-0500
TZOFFSETTO:-0400
TZNAME:EDT
DTSTART:20210314T070000
END:DAYLIGHT
BEGIN:STANDARD
TZOFFSETFROM:-0400
TZOFFSETTO:-0500
TZNAME:EST
DTSTART:20211107T060000
END:STANDARD
BEGIN:DAYLIGHT
TZOFFSETFROM:-0500
TZOFFSETTO:-0400
TZNAME:EDT
DTSTART:20220313T070000
END:DAYLIGHT
BEGIN:STANDARD
TZOFFSETFROM:-0400
TZOFFSETTO:-0500
TZNAME:EST
DTSTART:20221106T060000
END:STANDARD
END:VTIMEZONE
BEGIN:VEVENT
DTSTART;TZID=America/Indiana/Indianapolis:20210713T083000
DTEND;TZID=America/Indiana/Indianapolis:20210713T100000
DTSTAMP:20260424T093331
CREATED:20210615T205903Z
LAST-MODIFIED:20210621T164139Z
UID:123967-1626165000-1626170400@gorainmakers.com
SUMMARY:The Business Owners’ Boardroom
DESCRIPTION:Change Happens\, So Take Control.  Learn how to address your most pressing issues that may present themselves at any moment. \nThis is a business owners’ series on how to stay ahead in a rapidly changing world.  Rapidly changing market conditions force companies to quickly update traditional day-to-day operations. In today’s environment\, you have to be fast and nimble in order to seize opportunities\, rise above challenges and respond to changing times. \nJoin us for this monthly series where you will learn new ideas\, share your experiences\, and meet other business owners\, just like you\, focused on staying competitive\, increasing revenue and enjoying the journey. \nAs a part of your attendance\, all participants receive a complimentary business diagnostic that will help you prioritize your most challenging problems and leverage opportunities. \n  \nJuly Topic: 7 Steps For An Effective Hiring Process \nDo you wish you could know which applicants were the most likely to succeed? \nEffective Hiring will help you assess\, develop\, and retain top talent.  Recruiting challenges for small businesses are enormous. Business owners do not have the time to spend on hiring effectively\, and\, as a result\, they often hire quickly but not effectively and end up paying more than it’s worth in the long-run. This session details a four-step hiring process that will help you organize your recruiting efforts. \n\nOrganize the job description and set realistic goals\nInformation on how and where to promote the open position\nAssess your candidates to ensure greater recruiting success\nSuccessfully on-board a new employee in a way that will help reduce turn-over\n\n  \nOur Facilitator: \n \nKimberle Seale \nKim is a success coach focused on creating a lasting legacy of wealth\, health\, and happiness for professionals and business owners.  She is an experienced and credentialed coach\, has won multiple leadership awards\, an author\, and a patent inventor for a product developed for Uber. Kim has achieved some amazing and transformative results with her clients and in her past as a corporate executive before she started her own practice three years ago.  What is inspiring and unique about her approach is the level of motivation and passion she brings out of her clients and their employees\, including those that had not been performing at their best. \n  \nTHANK YOU to Our Host: \n \nConveniently located near downtown Indianapolis\, the Broadmoor Country Club truly offers something for everyone through an extensive array of programming and amenities for members of all ages. Golf aficionados will love the beautifully-preserved Donald Ross designed course\, while golfers and non-golfers alike can enjoy the myriad dining\, recreation\, social activities and amenities the club has to offer. \nCall to visit Broadmoor Country Club today. Learn more here.
URL:https://gorainmakers.com/event/the-business-owners-boardroom/
LOCATION:Broadmoor Country Club\, 2155 Kessler Boulevard West Drive\, Indianapolis\, IN\, 46228
CATEGORIES:Small Business
ATTACH;FMTTYPE=image/png:https://gorainmakers.com/wp-content/uploads/2021/06/LIVE-at-Broadmoor_Business-Owner-Boardroom2_1200x600.png
END:VEVENT
BEGIN:VEVENT
DTSTART;TZID=America/Indiana/Indianapolis:20210713T090000
DTEND;TZID=America/Indiana/Indianapolis:20210713T103000
DTSTAMP:20260424T093331
CREATED:20201208T180914Z
LAST-MODIFIED:20210308T181543Z
UID:123672-1626166800-1626172200@gorainmakers.com
SUMMARY:LinkedIn Prospecting Roundtable
DESCRIPTION:Leverage your LinkedIn account by sharing your needs with fellow Rainmakers and helping them with their ideal connections. Get the meetings you need to be successful in your business! \nThis is an opportunity to do group prospecting. To fully participate you must know how to use LinkedIn. \n  \nOur Facilitator: \n \nJeff Crane\, Chief “Why” Officer\, The Entrepreneur’s Source  \nAs an Entrepreneur’s Source coach Jeff enjoys helping people discover their “Why” and creating a roadmap to help individuals and business owners in transition. With over 18 years in advertising\, marketing\, sales and management\, Jeff mentors individuals and teams to match their gifts and strengths with new possibilities and growth strategies. He lives in Indianapolis with his wife\, Leah\, and two children. He is a graduate of Ball State University\, an active leader at his Church and is also an Eagle Scout. Jeff is also a volunteer staff leader at Passport to Employment to help people in career transition.
URL:https://gorainmakers.com/event/linkedin-prospecting-roundtable-7-2021-07-13/
LOCATION:Zoom Webinar\, Indianapolis\, IN
CATEGORIES:LinkedIn Roundtable
ATTACH;FMTTYPE=image/png:https://gorainmakers.com/wp-content/uploads/2020/12/Rainmakers-Presents_LinkedInProspectingRtbl.png
END:VEVENT
END:VCALENDAR