BEGIN:VCALENDAR
VERSION:2.0
PRODID:-//Rainmakers - ECPv6.15.17.1//NONSGML v1.0//EN
CALSCALE:GREGORIAN
METHOD:PUBLISH
X-WR-CALNAME:Rainmakers
X-ORIGINAL-URL:https://gorainmakers.com
X-WR-CALDESC:Events for Rainmakers
REFRESH-INTERVAL;VALUE=DURATION:PT1H
X-Robots-Tag:noindex
X-PUBLISHED-TTL:PT1H
BEGIN:VTIMEZONE
TZID:America/Indiana/Indianapolis
BEGIN:DAYLIGHT
TZOFFSETFROM:-0500
TZOFFSETTO:-0400
TZNAME:EDT
DTSTART:20200308T070000
END:DAYLIGHT
BEGIN:STANDARD
TZOFFSETFROM:-0400
TZOFFSETTO:-0500
TZNAME:EST
DTSTART:20201101T060000
END:STANDARD
BEGIN:DAYLIGHT
TZOFFSETFROM:-0500
TZOFFSETTO:-0400
TZNAME:EDT
DTSTART:20210314T070000
END:DAYLIGHT
BEGIN:STANDARD
TZOFFSETFROM:-0400
TZOFFSETTO:-0500
TZNAME:EST
DTSTART:20211107T060000
END:STANDARD
BEGIN:DAYLIGHT
TZOFFSETFROM:-0500
TZOFFSETTO:-0400
TZNAME:EDT
DTSTART:20220313T070000
END:DAYLIGHT
BEGIN:STANDARD
TZOFFSETFROM:-0400
TZOFFSETTO:-0500
TZNAME:EST
DTSTART:20221106T060000
END:STANDARD
END:VTIMEZONE
BEGIN:VEVENT
DTSTART;TZID=America/Indiana/Indianapolis:20210715T100000
DTEND;TZID=America/Indiana/Indianapolis:20210715T110000
DTSTAMP:20260424T093408
CREATED:20201208T190641Z
LAST-MODIFIED:20210610T201351Z
UID:123537-1626343200-1626346800@gorainmakers.com
SUMMARY:Leadership Pillars
DESCRIPTION:Every quarter Leadership Pillars is here to help you identify top-of-mind business challenges and helps you learn innovative and foundational solutions. Tommy Richardson\, Rainmakers Director of Training and Development\, features a new discussion topic at each event\, which addresses people\, processes\, leadership\, and relevant general business topics. This is your opportunity to build relationships while gaining insights into key topics that affect you and your business.  This roundtable is intended for Business Leaders. \n  \nJuly Topic: Connection: What people who excel at connecting do differently than those that don’t \nThe difference between power and force is all about how we are able to connect with others. Guest speaker\, Karen Valencic\, will share on: \n\nMastering the Art of Conflict\nThe Power to Get It Done with Grace\nInnovation at the Intersection of Change and Conflict\nThe Science of Influence\n\n  \nOur Speaker: \n \nKaren Valencic  \nAs a best-selling author\, speaker\, martial arts black belt\, and engineer\, I am passionate about revealing the keys of conflict to leaders so they can fast-track innovation and enhance team performance through the turbulence of change.\nI know the best ideas in business all too often are lost in the maze of poorly handled disagreements. Therefore\, the ability to innovate with conflict is an essential skill for leading-edge businesses and people!\nSpiral Impact\, my time-tested method\, combines physics with martial art concepts for an eye-opening take on the way we engage with each other and with life circumstances.\nI’ve consulted\, trained\, and coached inside organizations for 20+ years\, focusing on propelling leaders and their teams ahead of the curve in performance and innovation. \nFind Karen on LinkedIn \n \n  \n  \nOur Facilitator: \n \nTommy Richardson \nTommy is responsible for the Leadership development within the Rainmakers organization and Leadership and Personal Development training for executives\, employee groups and members. \nTommy has more than 40 years of experience in business coaching\, training\, and athletic coaching. He has coached more than 1\,000 individuals and teams and facilitated training for corporate teams and executives and is a former president of Toastmasters\, International.
URL:https://gorainmakers.com/event/leadership-pillars-2021-07-15/
LOCATION:Zoom Webinar\, Indianapolis\, IN
CATEGORIES:Leadership,Small Business
ATTACH;FMTTYPE=image/png:https://gorainmakers.com/wp-content/uploads/2020/12/Rainmakers-Presents_LeadershipPillars.png
END:VEVENT
END:VCALENDAR