BEGIN:VCALENDAR
VERSION:2.0
PRODID:-//Rainmakers - ECPv6.15.17.1//NONSGML v1.0//EN
CALSCALE:GREGORIAN
METHOD:PUBLISH
X-WR-CALNAME:Rainmakers
X-ORIGINAL-URL:https://gorainmakers.com
X-WR-CALDESC:Events for Rainmakers
REFRESH-INTERVAL;VALUE=DURATION:PT1H
X-Robots-Tag:noindex
X-PUBLISHED-TTL:PT1H
BEGIN:VTIMEZONE
TZID:America/Indiana/Indianapolis
BEGIN:DAYLIGHT
TZOFFSETFROM:-0500
TZOFFSETTO:-0400
TZNAME:EDT
DTSTART:20200308T070000
END:DAYLIGHT
BEGIN:STANDARD
TZOFFSETFROM:-0400
TZOFFSETTO:-0500
TZNAME:EST
DTSTART:20201101T060000
END:STANDARD
BEGIN:DAYLIGHT
TZOFFSETFROM:-0500
TZOFFSETTO:-0400
TZNAME:EDT
DTSTART:20210314T070000
END:DAYLIGHT
BEGIN:STANDARD
TZOFFSETFROM:-0400
TZOFFSETTO:-0500
TZNAME:EST
DTSTART:20211107T060000
END:STANDARD
BEGIN:DAYLIGHT
TZOFFSETFROM:-0500
TZOFFSETTO:-0400
TZNAME:EDT
DTSTART:20220313T070000
END:DAYLIGHT
BEGIN:STANDARD
TZOFFSETFROM:-0400
TZOFFSETTO:-0500
TZNAME:EST
DTSTART:20221106T060000
END:STANDARD
END:VTIMEZONE
BEGIN:VEVENT
DTSTART;TZID=America/Indiana/Indianapolis:20210727T083000
DTEND;TZID=America/Indiana/Indianapolis:20210727T103000
DTSTAMP:20260424T075553
CREATED:20210622T232358Z
LAST-MODIFIED:20210625T141643Z
UID:124002-1627374600-1627381800@gorainmakers.com
SUMMARY:Building a Winning Team
DESCRIPTION:Bringing out the best in yourself and others! \nIn this day and age\, you are going to have to step up your game not only to thrive but also to stay in business. \nIn this series we are talking about one of the most critical areas in your leadership role\, whether you are an entrepreneur with a support team\, or whether you’re in the corporate environment with a significant number of people on your team\, it makes no difference. \nThe key to building a winning team is starting with yourself. You have to be a winner to build a winning team. \nOur approach is getting the best out of yourself and the people around you. The way we will approach this is from different various areas that start with yourself and then developing your team\, because you can’t pour from an empty cup. \nThis highly interactive session will allow you to test your new skills in a controlled environment and be ready to grow as a leader. \n  \nOur first session will delve into the following topics: \nHow do we get the best out of ourselves; Including skills and mindset? \nWhat is your leadership style? The 7 Most Common Styles of Leadership \nWhat is an ideal team player? Do you hire on attitude\, skillset or culture fit? \n  \nOur Facilitators: \n \nPaul McCoy \nPaul is a certified Business Coach with Tidal Coach\, affiliated with ActionCoach and is passionate about making a difference to businesses that want to improve the way they are currently operating. He has over 25 years of experience as a business executive with experience in team leadership\, program management\, green field site development\, business improvement\, strategy development\, sales\, contracts\, engineering and business processes. \n  \n \nTommy Richardson \nTommy is responsible for the Leadership Development within the Rainmakers organization and Leadership and Personal Development training for executives\, employee groups and members. \nTommy has more than 40 years of experience in business coaching\, training\, and athletic coaching. He has coached more than 1\,000 individuals and teams and facilitated training for corporate teams and executives and is a former president of Toastmasters\, International.
URL:https://gorainmakers.com/event/building-a-winning-team/
LOCATION:Broadmoor Country Club\, 2155 Kessler Boulevard West Drive\, Indianapolis\, IN\, 46228
CATEGORIES:Efficiency,Leadership
ATTACH;FMTTYPE=image/png:https://gorainmakers.com/wp-content/uploads/2021/06/Building-a-Winning-Team_1200x600.png
END:VEVENT
END:VCALENDAR