BEGIN:VCALENDAR
VERSION:2.0
PRODID:-//Rainmakers - ECPv6.15.17.1//NONSGML v1.0//EN
CALSCALE:GREGORIAN
METHOD:PUBLISH
X-WR-CALNAME:Rainmakers
X-ORIGINAL-URL:https://gorainmakers.com
X-WR-CALDESC:Events for Rainmakers
REFRESH-INTERVAL;VALUE=DURATION:PT1H
X-Robots-Tag:noindex
X-PUBLISHED-TTL:PT1H
BEGIN:VTIMEZONE
TZID:America/Indiana/Indianapolis
BEGIN:DAYLIGHT
TZOFFSETFROM:-0500
TZOFFSETTO:-0400
TZNAME:EDT
DTSTART:20200308T070000
END:DAYLIGHT
BEGIN:STANDARD
TZOFFSETFROM:-0400
TZOFFSETTO:-0500
TZNAME:EST
DTSTART:20201101T060000
END:STANDARD
BEGIN:DAYLIGHT
TZOFFSETFROM:-0500
TZOFFSETTO:-0400
TZNAME:EDT
DTSTART:20210314T070000
END:DAYLIGHT
BEGIN:STANDARD
TZOFFSETFROM:-0400
TZOFFSETTO:-0500
TZNAME:EST
DTSTART:20211107T060000
END:STANDARD
BEGIN:DAYLIGHT
TZOFFSETFROM:-0500
TZOFFSETTO:-0400
TZNAME:EDT
DTSTART:20220313T070000
END:DAYLIGHT
BEGIN:STANDARD
TZOFFSETFROM:-0400
TZOFFSETTO:-0500
TZNAME:EST
DTSTART:20221106T060000
END:STANDARD
END:VTIMEZONE
BEGIN:VEVENT
DTSTART;TZID=America/Indiana/Indianapolis:20210811T100000
DTEND;TZID=America/Indiana/Indianapolis:20210811T110000
DTSTAMP:20260424T075524
CREATED:20201211T194129Z
LAST-MODIFIED:20210309T192144Z
UID:123632-1628676000-1628679600@gorainmakers.com
SUMMARY:The Distinct Advantage of Video
DESCRIPTION:August Topic: Perfecting Your Cadence: The Four Types of Video and Where to Use Them \n  \n  \nOur Facilitator: \n \nDavid Inman \nDavid Inman is the Director of Development at Kennected and leads conversations across the country surrounding sales technology. As an avid reader and a firm believer in the scientific method\, he has always pushed past conventional boundaries. From monthly science experiments that he runs with his four children to his ever-growing “Idea Journal” and even Rejection Bingo (believe me\, it is worth asking about)\, he is constantly searching for ways to improve. David is also a self-proclaimed “sales nerd” who has a passion for finding innovative ideas that disrupt the market. \nToday\, that innovation includes something as simple as talking to a camera. \nDid you know that right now only about 6% of salespeople are regularly using personalized video in their prospecting cadence? That means that most people\, probably including you\, are still typing the same text-only messages that were used twenty years ago. It’s no wonder that most emails go unread\, unresponded\, and un-noticed. \nOver the past year\, David has taught nearly 2000 people how to improve their prospecting\, client retention\, and even inner-office communication using video. Video should be an essential part of every business plan for 2021.
URL:https://gorainmakers.com/event/the-distinct-advantage-of-video-2021-08-11/
LOCATION:Zoom Webinar\, Indianapolis\, IN
CATEGORIES:Small Business,Technology
ATTACH;FMTTYPE=image/png:https://gorainmakers.com/wp-content/uploads/2020/12/Rainmakers-Presents_The-Distinct-Advantage-of-Video.png
END:VEVENT
END:VCALENDAR