BEGIN:VCALENDAR
VERSION:2.0
PRODID:-//Rainmakers - ECPv6.15.17.1//NONSGML v1.0//EN
CALSCALE:GREGORIAN
METHOD:PUBLISH
X-WR-CALNAME:Rainmakers
X-ORIGINAL-URL:https://gorainmakers.com
X-WR-CALDESC:Events for Rainmakers
REFRESH-INTERVAL;VALUE=DURATION:PT1H
X-Robots-Tag:noindex
X-PUBLISHED-TTL:PT1H
BEGIN:VTIMEZONE
TZID:America/Indiana/Indianapolis
BEGIN:DAYLIGHT
TZOFFSETFROM:-0500
TZOFFSETTO:-0400
TZNAME:EDT
DTSTART:20200308T070000
END:DAYLIGHT
BEGIN:STANDARD
TZOFFSETFROM:-0400
TZOFFSETTO:-0500
TZNAME:EST
DTSTART:20201101T060000
END:STANDARD
BEGIN:DAYLIGHT
TZOFFSETFROM:-0500
TZOFFSETTO:-0400
TZNAME:EDT
DTSTART:20210314T070000
END:DAYLIGHT
BEGIN:STANDARD
TZOFFSETFROM:-0400
TZOFFSETTO:-0500
TZNAME:EST
DTSTART:20211107T060000
END:STANDARD
BEGIN:DAYLIGHT
TZOFFSETFROM:-0500
TZOFFSETTO:-0400
TZNAME:EDT
DTSTART:20220313T070000
END:DAYLIGHT
BEGIN:STANDARD
TZOFFSETFROM:-0400
TZOFFSETTO:-0500
TZNAME:EST
DTSTART:20221106T060000
END:STANDARD
END:VTIMEZONE
BEGIN:VEVENT
DTSTART;TZID=America/Indiana/Indianapolis:20210818T083000
DTEND;TZID=America/Indiana/Indianapolis:20210818T103000
DTSTAMP:20260424T075554
CREATED:20210615T205903Z
LAST-MODIFIED:20210810T174859Z
UID:123973-1629275400-1629282600@gorainmakers.com
SUMMARY:The Business Owners’ Boardroom
DESCRIPTION:Change Happens\, So Take Control.  Learn how to address your most pressing issues that may present themselves at any moment. \nThis is a business owners’ series on how to stay ahead in a rapidly changing world.  Rapidly changing market conditions force companies to quickly update traditional day-to-day operations. In today’s environment\, you have to be fast and nimble in order to seize opportunities\, rise above challenges and respond to changing times. \nJoin us for this monthly series where you will learn new ideas\, share your experiences\, and meet other business owners\, just like you\, focused on staying competitive\, increasing revenue and enjoying the journey. \nAs a part of your attendance\, all participants receive a complimentary business diagnostic that will help you prioritize your most challenging problems and leverage opportunities. \n  \nAugust Topic: Best Ways to Secure Capital for Your Business \nWhile small business owners have a wider range of options for financing new businesses and expanding existing businesses\, what we know is that sound planning is still a key strategy. \nThe type of funding you need varies according to the stage of business you are at.  It’s more important than ever to approach your search for funding with a strategic plan and to be organized in your business finances. \nIn this session\, you will learn how to be ready when the time is right to fund your business; what funding options are available to you and your situation; how to maximize your chances of getting a loan and the factors to consider when deciding on the financing you should leverage. \n  \nOur Facilitator: \n \nKimberle Seale \nKim is a success coach focused on creating a lasting legacy of wealth\, health\, and happiness for professionals and business owners.  She is an experienced and credentialed coach\, has won multiple leadership awards\, an author\, and a patent inventor for a product developed for Uber. Kim has achieved some amazing and transformative results with her clients and in her past as a corporate executive before she started her own practice three years ago.  What is inspiring and unique about her approach is the level of motivation and passion she brings out of her clients and their employees\, including those that had not been performing at their best. \n  \nTHANK YOU to Our Host: \n \nConveniently located near downtown Indianapolis\, the Broadmoor Country Club truly offers something for everyone through an extensive array of programming and amenities for members of all ages. Golf aficionados will love the beautifully-preserved Donald Ross designed course\, while golfers and non-golfers alike can enjoy the myriad dining\, recreation\, social activities and amenities the club has to offer. \nCall to visit Broadmoor Country Club today. Learn more here.
URL:https://gorainmakers.com/event/the-business-owners-boardroom-2021-08-18/
LOCATION:Broadmoor Country Club\, 2155 Kessler Boulevard West Drive\, Indianapolis\, IN\, 46228
CATEGORIES:Small Business
ATTACH;FMTTYPE=image/png:https://gorainmakers.com/wp-content/uploads/2021/06/LIVE-at-Broadmoor_Business-Owner-Boardroom2_1200x600.png
END:VEVENT
BEGIN:VEVENT
DTSTART;TZID=America/Indiana/Indianapolis:20210818T130000
DTEND;TZID=America/Indiana/Indianapolis:20210818T140000
DTSTAMP:20260424T075554
CREATED:20210315T231015Z
LAST-MODIFIED:20210802T202550Z
UID:123840-1629291600-1629295200@gorainmakers.com
SUMMARY:Referrals to Revenue
DESCRIPTION:Do you find yourself worrying or wondering each week where your next client is coming from?  Would you love to have your sales pipeline full of people that are ready to buy from you? If you answer yes to one or both of these questions\, join me each month for Referrals to Revenue\, where I will share different tactics and techniques to help you stop hunting for clients so you can spend more time helping your clients. \n  \nAugust Topic: 7 Ways to Create More Visibility for Your Business \nNetworking is only ONE way to create more visibility for you and your business.  Join me as I walk you through 7 different ways to create more visibility in this noisy world we live in. \nWhat we will discuss: \n\nWays for your business to gain more visibility\nHow to determine which one is best for you\nWhat comes next after you gain visibility\n\n  \nOur Facilitator: \n \nDenise Praul \nDenise Praul is a Referral Marketing Strategist and the founder of Whiteboard Learning. She is committed to sharing practical real-world information to help business professionals create referral marketing strategies to grow their businesses. \nShe put her referral knowledge to the test in her own property tax consulting business and significantly and consistently grew the business year after year with no additional investment of money or time. Using that experience and knowledge she developed a duplicatable system to help other businesses have the same success. \nDenise has created a system called Roadmap to Unlimited Referrals that she now trains and shares with other business people to help them significantly grow and scale their own businesses. \nDenise Praul \nWhite Board Learning \n317-989-2222 \nwb-learning.com \n 
URL:https://gorainmakers.com/event/referrals-to-revenue-2021-08-18/
LOCATION:Zoom Webinar\, Indianapolis\, IN
CATEGORIES:Efficiency,Small Business
ATTACH;FMTTYPE=image/png:https://gorainmakers.com/wp-content/uploads/2021/03/Rainmakers-Presents_Referrals-to-Revenue.png
END:VEVENT
END:VCALENDAR