BEGIN:VCALENDAR
VERSION:2.0
PRODID:-//Rainmakers - ECPv6.15.17.1//NONSGML v1.0//EN
CALSCALE:GREGORIAN
METHOD:PUBLISH
X-WR-CALNAME:Rainmakers
X-ORIGINAL-URL:https://gorainmakers.com
X-WR-CALDESC:Events for Rainmakers
REFRESH-INTERVAL;VALUE=DURATION:PT1H
X-Robots-Tag:noindex
X-PUBLISHED-TTL:PT1H
BEGIN:VTIMEZONE
TZID:America/Indiana/Indianapolis
BEGIN:DAYLIGHT
TZOFFSETFROM:-0500
TZOFFSETTO:-0400
TZNAME:EDT
DTSTART:20200308T070000
END:DAYLIGHT
BEGIN:STANDARD
TZOFFSETFROM:-0400
TZOFFSETTO:-0500
TZNAME:EST
DTSTART:20201101T060000
END:STANDARD
BEGIN:DAYLIGHT
TZOFFSETFROM:-0500
TZOFFSETTO:-0400
TZNAME:EDT
DTSTART:20210314T070000
END:DAYLIGHT
BEGIN:STANDARD
TZOFFSETFROM:-0400
TZOFFSETTO:-0500
TZNAME:EST
DTSTART:20211107T060000
END:STANDARD
BEGIN:DAYLIGHT
TZOFFSETFROM:-0500
TZOFFSETTO:-0400
TZNAME:EDT
DTSTART:20220313T070000
END:DAYLIGHT
BEGIN:STANDARD
TZOFFSETFROM:-0400
TZOFFSETTO:-0500
TZNAME:EST
DTSTART:20221106T060000
END:STANDARD
END:VTIMEZONE
BEGIN:VEVENT
DTSTART;TZID=America/Indiana/Indianapolis:20210908T090000
DTEND;TZID=America/Indiana/Indianapolis:20210908T100000
DTSTAMP:20260424T063833
CREATED:20201211T192656Z
LAST-MODIFIED:20210809T193125Z
UID:123626-1631091600-1631095200@gorainmakers.com
SUMMARY:Build an Effective Website - In 5 Easy Steps
DESCRIPTION:Proven Website Strategies the Work! \nSeptember Topic: 5 ​quick and easy ways to rehab your site (in no time at all!) \nWhen you want to make some meaningful changes to your website in a time crunch\, these ideas will get you started.\n\n\nhow to know it’s time\n\n\nkey pages to focus on\n\n\nevaluating the best way for people to get in touch\n\n\ngetting faster\, plus more great ideas\n\n\n  \nOur Facilitator: \n \nNeil Richmund \nNeil Richmund is a unique blend of marketing strategist and web designer – with a passion for helping businesses\, non-profits\, and schools to improve their visibility and be successful online.  Neil’s 15 years of experience as a pastor and teacher in Christian schools has inspired him to bring an educational perspective to marketing by teaching his clients to use the tools available to them (but often mystify them).  In his 10 years as a web designer\, Neil has seen firsthand the impact that an improved online presence has on helping organizations to be successful online\, and he is eager to share that knowledge with others.  Don’t let his Aussie accent fool you though–he has called the US home for over 30 years!
URL:https://gorainmakers.com/event/gimme-five-2021-09-08/
LOCATION:Zoom Webinar\, Indianapolis\, IN
CATEGORIES:Small Business,Website Marketing
ATTACH;FMTTYPE=image/png:https://gorainmakers.com/wp-content/uploads/2020/12/Rainmakers-Presents_Build-an-Effective-Website-In-5-Easy-Steps.png
END:VEVENT
END:VCALENDAR