BEGIN:VCALENDAR
VERSION:2.0
PRODID:-//Rainmakers - ECPv6.15.17.1//NONSGML v1.0//EN
CALSCALE:GREGORIAN
METHOD:PUBLISH
X-WR-CALNAME:Rainmakers
X-ORIGINAL-URL:https://gorainmakers.com
X-WR-CALDESC:Events for Rainmakers
REFRESH-INTERVAL;VALUE=DURATION:PT1H
X-Robots-Tag:noindex
X-PUBLISHED-TTL:PT1H
BEGIN:VTIMEZONE
TZID:America/Indiana/Indianapolis
BEGIN:DAYLIGHT
TZOFFSETFROM:-0500
TZOFFSETTO:-0400
TZNAME:EDT
DTSTART:20200308T070000
END:DAYLIGHT
BEGIN:STANDARD
TZOFFSETFROM:-0400
TZOFFSETTO:-0500
TZNAME:EST
DTSTART:20201101T060000
END:STANDARD
BEGIN:DAYLIGHT
TZOFFSETFROM:-0500
TZOFFSETTO:-0400
TZNAME:EDT
DTSTART:20210314T070000
END:DAYLIGHT
BEGIN:STANDARD
TZOFFSETFROM:-0400
TZOFFSETTO:-0500
TZNAME:EST
DTSTART:20211107T060000
END:STANDARD
BEGIN:DAYLIGHT
TZOFFSETFROM:-0500
TZOFFSETTO:-0400
TZNAME:EDT
DTSTART:20220313T070000
END:DAYLIGHT
BEGIN:STANDARD
TZOFFSETFROM:-0400
TZOFFSETTO:-0500
TZNAME:EST
DTSTART:20221106T060000
END:STANDARD
END:VTIMEZONE
BEGIN:VEVENT
DTSTART;TZID=America/Indiana/Indianapolis:20210921T083000
DTEND;TZID=America/Indiana/Indianapolis:20210921T093000
DTSTAMP:20260424T063836
CREATED:20201210T184247Z
LAST-MODIFIED:20210812T150741Z
UID:123608-1632213000-1632216600@gorainmakers.com
SUMMARY:Profitable Partnerships
DESCRIPTION:New business opportunities sourced by referrals are obviously the best way to grow new business. The biggest challenge to building a referral-based business seems to be consistency and predictability. In this short session\, Nikki will help participants lay the groundwork for success in building successful partnerships. \nSeptember Topic: Partner Activities that Work \nPartnerships as a channel for new business can be so rewarding\, but you have to focus on the right activities to lead to results and be consistent in your efforts. In this session\, Nikki will share various partnership activities that unlock results like leads and brand impressions.\n\n\nReview various partnership initiatives that drive business outcomes\nGet strategic and focus on less vs more\nDetermine the right habits and cadences for your activity\n\n\n\n  \nOur Facilitator: \n \nNikki Lewallen \nNikki Lewallen is an accomplished leader\, business development pro\, speaker and philanthropist. As CEO of Rainmakers\, Nikki supports the Indianapolis business community by providing a platform for business growth through relationships. A natural connector of people\, Nikki’s expertise in business development enables her to find and nurture strategic relationships that result in meaningful business outcomes. One of her favorite things is to learn new\, authentic business development practices and teach them to others. Under her leadership\, Rainmakers has served over 5\,000 members to date. \nAs reflected in her leadership style\, Nikki is an avid proponent of robust company culture. She believes that for people to succeed in business and life\, it is necessary for them to find meaning in their work. Today\, Nikki works nationally alongside CEOs\, Presidents and key executives to build highly engaged employers. She has built a national network of the best HR and talent solutions to tie her gift of connecting to the resources leaders need to move the needle on employee engagement\, ultimately helping more people “Love Mondays.” \nNikki is the show host for Gut + Science\, a podcast that convenes key leaders across the globe to solve and innovate talent topics\, building very best workplaces. The international show currently engages an audience of 70K+. Nikki is the Director of Partnerships for Wambi\, a healthcare technology company that helps people-first leaders create cultures of gratitude. \nNikki holds a variety of non profit board positions around Indianapolis including Thrivent Financial and Purposeful Living INC. Rainmakers\, as an organization\, is committed to featuring local nonprofits at every event and giving back a minimum of 5% profits each year to important causes. Nikki believes that we all want to give back and Rainmakers serves as a platform to make it easier for people to get involved with a charity the pulls on their heart. \nNikki grew up in the Indianapolis area and holds an undergraduate and graduate degree from Indiana University.
URL:https://gorainmakers.com/event/profitable-partnerships-2021-09-21/
LOCATION:Zoom Webinar\, Indianapolis\, IN
CATEGORIES:Partnerships,Small Business
ATTACH;FMTTYPE=image/png:https://gorainmakers.com/wp-content/uploads/2020/12/Rainmakers-Presents_Profitable-Partnerships-1.png
END:VEVENT
END:VCALENDAR