BEGIN:VCALENDAR
VERSION:2.0
PRODID:-//Rainmakers - ECPv6.15.17.1//NONSGML v1.0//EN
CALSCALE:GREGORIAN
METHOD:PUBLISH
X-WR-CALNAME:Rainmakers
X-ORIGINAL-URL:https://gorainmakers.com
X-WR-CALDESC:Events for Rainmakers
REFRESH-INTERVAL;VALUE=DURATION:PT1H
X-Robots-Tag:noindex
X-PUBLISHED-TTL:PT1H
BEGIN:VTIMEZONE
TZID:America/Indiana/Indianapolis
BEGIN:DAYLIGHT
TZOFFSETFROM:-0500
TZOFFSETTO:-0400
TZNAME:EDT
DTSTART:20200308T070000
END:DAYLIGHT
BEGIN:STANDARD
TZOFFSETFROM:-0400
TZOFFSETTO:-0500
TZNAME:EST
DTSTART:20201101T060000
END:STANDARD
BEGIN:DAYLIGHT
TZOFFSETFROM:-0500
TZOFFSETTO:-0400
TZNAME:EDT
DTSTART:20210314T070000
END:DAYLIGHT
BEGIN:STANDARD
TZOFFSETFROM:-0400
TZOFFSETTO:-0500
TZNAME:EST
DTSTART:20211107T060000
END:STANDARD
BEGIN:DAYLIGHT
TZOFFSETFROM:-0500
TZOFFSETTO:-0400
TZNAME:EDT
DTSTART:20220313T070000
END:DAYLIGHT
BEGIN:STANDARD
TZOFFSETFROM:-0400
TZOFFSETTO:-0500
TZNAME:EST
DTSTART:20221106T060000
END:STANDARD
END:VTIMEZONE
BEGIN:VEVENT
DTSTART;TZID=America/Indiana/Indianapolis:20210930T080000
DTEND;TZID=America/Indiana/Indianapolis:20210930T100000
DTSTAMP:20260424T050731
CREATED:20210827T200800Z
LAST-MODIFIED:20210827T202022Z
UID:124031-1632988800-1632996000@gorainmakers.com
SUMMARY:Consultative Selling in a Post-Covid World
DESCRIPTION:Selling in a Post-Covid World \nWithout a doubt\, we are living in a different world than we were two years ago.  However\, the best practices of sales are 100% in-tact.  Because of that\, selling shouldn’t be much different for the vast majority of salespeople.  Yet\, many business owners and salespeople have been struggling. This session is for those people. \n8 a.m. – 8:30 a.m. Networking \n8:30 a.m. – 10 a.m. Workshop \nTune in and learn: \n\nWhat you should have been doing all along\nWhat you should be doing today\nThe factor that is most predictive of if a salesperson or entrepreneur will succeed or fail over the next 6 months\n\n  \nThis workshop will be facilitated by Rob Lime with Lushin and Associates.
URL:https://gorainmakers.com/event/consultative-selling-in-a-post-covid-world/
LOCATION:Nexus Impact Center\, 9511 Angola Ct\, Indianapolis\, 46268
CATEGORIES:Sales Habits,Small Business,Training
ATTACH;FMTTYPE=image/png:https://gorainmakers.com/wp-content/uploads/2021/08/Rainmakers-Presents_Consultative-Selling-in-a-Post-Covid-World.png
END:VEVENT
END:VCALENDAR