BEGIN:VCALENDAR
VERSION:2.0
PRODID:-//Rainmakers - ECPv6.15.17.1//NONSGML v1.0//EN
CALSCALE:GREGORIAN
METHOD:PUBLISH
X-WR-CALNAME:Rainmakers
X-ORIGINAL-URL:https://gorainmakers.com
X-WR-CALDESC:Events for Rainmakers
REFRESH-INTERVAL;VALUE=DURATION:PT1H
X-Robots-Tag:noindex
X-PUBLISHED-TTL:PT1H
BEGIN:VTIMEZONE
TZID:America/Indiana/Indianapolis
BEGIN:DAYLIGHT
TZOFFSETFROM:-0500
TZOFFSETTO:-0400
TZNAME:EDT
DTSTART:20200308T070000
END:DAYLIGHT
BEGIN:STANDARD
TZOFFSETFROM:-0400
TZOFFSETTO:-0500
TZNAME:EST
DTSTART:20201101T060000
END:STANDARD
BEGIN:DAYLIGHT
TZOFFSETFROM:-0500
TZOFFSETTO:-0400
TZNAME:EDT
DTSTART:20210314T070000
END:DAYLIGHT
BEGIN:STANDARD
TZOFFSETFROM:-0400
TZOFFSETTO:-0500
TZNAME:EST
DTSTART:20211107T060000
END:STANDARD
BEGIN:DAYLIGHT
TZOFFSETFROM:-0500
TZOFFSETTO:-0400
TZNAME:EDT
DTSTART:20220313T070000
END:DAYLIGHT
BEGIN:STANDARD
TZOFFSETFROM:-0400
TZOFFSETTO:-0500
TZNAME:EST
DTSTART:20221106T060000
END:STANDARD
END:VTIMEZONE
BEGIN:VEVENT
DTSTART;TZID=America/Indiana/Indianapolis:20211026T083000
DTEND;TZID=America/Indiana/Indianapolis:20211026T103000
DTSTAMP:20260423T095153
CREATED:20210622T232358Z
LAST-MODIFIED:20211004T143457Z
UID:124008-1635237000-1635244200@gorainmakers.com
SUMMARY:Excel in Your Business and Personal Life
DESCRIPTION:A program for you\, individually\, leadership from the inside out and for a team builder developing a high-performance team \nA program for entrepreneurs\, small business leaders\, and any business leaders with teams.  \nIt is a most comprehensive leadership program built on 70 years of leadership experience\, research and certification in the best training programs available\, a proven success model. It will cover the principles\, strategies and habits of people and businesses that excel in the Gold Medal Program. \n  \nOctober Discussion Topics: Get a head start on 2022! \nWe will be working through the importance of goals setting\, what the traps are when trying to achieve\, and working through tried and tested processes to achieving goals.  We will also be touching on other leadership topics such as transactional and transformational leadership and working through to the third D of the 5 D’s Discipline. \n  \nOur Facilitators: \n \nPaul McCoy \nPaul is a certified Business Coach with Tidal Coach\, affiliated with ActionCoach and is passionate about making a difference to businesses that want to improve the way they are currently operating. He has over 25 years of experience as a business executive with experience in team leadership\, program management\, green field site development\, business improvement\, strategy development\, sales\, contracts\, engineering and business processes. \n  \n \nTommy Richardson \nTommy is responsible for the Leadership Development within the Rainmakers organization and Leadership and Personal Development training for executives\, employee groups and members. \nTommy has more than 40 years of experience in business coaching\, training\, and athletic coaching. He has coached more than 1\,000 individuals and teams and facilitated training for corporate teams and executives and is a former president of Toastmasters\, International.
URL:https://gorainmakers.com/event/excel-in-your-business-and-personal-life-2021-10-26/
LOCATION:Broadmoor Country Club\, 2155 Kessler Boulevard West Drive\, Indianapolis\, IN\, 46228
CATEGORIES:Efficiency,Leadership
ATTACH;FMTTYPE=image/png:https://gorainmakers.com/wp-content/uploads/2021/06/Excel-in-Your-Business-and-Personal-Life_1200x600.png
END:VEVENT
END:VCALENDAR