BEGIN:VCALENDAR
VERSION:2.0
PRODID:-//Rainmakers - ECPv6.15.17.1//NONSGML v1.0//EN
CALSCALE:GREGORIAN
METHOD:PUBLISH
X-WR-CALNAME:Rainmakers
X-ORIGINAL-URL:https://gorainmakers.com
X-WR-CALDESC:Events for Rainmakers
REFRESH-INTERVAL;VALUE=DURATION:PT1H
X-Robots-Tag:noindex
X-PUBLISHED-TTL:PT1H
BEGIN:VTIMEZONE
TZID:America/Indiana/Indianapolis
BEGIN:DAYLIGHT
TZOFFSETFROM:-0500
TZOFFSETTO:-0400
TZNAME:EDT
DTSTART:20200308T070000
END:DAYLIGHT
BEGIN:STANDARD
TZOFFSETFROM:-0400
TZOFFSETTO:-0500
TZNAME:EST
DTSTART:20201101T060000
END:STANDARD
BEGIN:DAYLIGHT
TZOFFSETFROM:-0500
TZOFFSETTO:-0400
TZNAME:EDT
DTSTART:20210314T070000
END:DAYLIGHT
BEGIN:STANDARD
TZOFFSETFROM:-0400
TZOFFSETTO:-0500
TZNAME:EST
DTSTART:20211107T060000
END:STANDARD
BEGIN:DAYLIGHT
TZOFFSETFROM:-0500
TZOFFSETTO:-0400
TZNAME:EDT
DTSTART:20220313T070000
END:DAYLIGHT
BEGIN:STANDARD
TZOFFSETFROM:-0400
TZOFFSETTO:-0500
TZNAME:EST
DTSTART:20221106T060000
END:STANDARD
END:VTIMEZONE
BEGIN:VEVENT
DTSTART;TZID=America/Indiana/Indianapolis:20211208T090000
DTEND;TZID=America/Indiana/Indianapolis:20211208T100000
DTSTAMP:20260421T114943
CREATED:20201211T192656Z
LAST-MODIFIED:20211116T180314Z
UID:123627-1638954000-1638957600@gorainmakers.com
SUMMARY:Build an Effective Website - In 5 Easy Steps
DESCRIPTION:Proven Website Strategies the Work! \nDecember Topic: 5 ways to tell if your website efforts are moving the needle​ \nYou’ve put in the hard work to redo your whole website\, or at least key parts of it\, but how do you know that your effort is paying off? Don’t wait until it’s too late to find out it still isn’t working.\n\n\nDetermining early indicators (of success or failure)\n\n\nInstalling the most important tool every website needs to have\n\n\nPicking the right goal\n\n\nLearning your numbers that matter\n\n\nCourse correcting (when you are off)\n\n\n  \nOur Facilitator: \n \nNeil Richmund \nNeil Richmund is a unique blend of marketing strategist and web designer – with a passion for helping businesses\, non-profits\, and schools to improve their visibility and be successful online.  Neil’s 15 years of experience as a pastor and teacher in Christian schools has inspired him to bring an educational perspective to marketing by teaching his clients to use the tools available to them (but often mystify them).  In his 10 years as a web designer\, Neil has seen firsthand the impact that an improved online presence has on helping organizations to be successful online\, and he is eager to share that knowledge with others.  Don’t let his Aussie accent fool you though–he has called the US home for over 30 years!
URL:https://gorainmakers.com/event/gimme-five-2021-12-08/
LOCATION:Zoom Webinar\, Indianapolis\, IN
CATEGORIES:Small Business,Website Marketing
ATTACH;FMTTYPE=image/png:https://gorainmakers.com/wp-content/uploads/2020/12/Rainmakers-Presents_Build-an-Effective-Website-In-5-Easy-Steps.png
END:VEVENT
END:VCALENDAR