BEGIN:VCALENDAR
VERSION:2.0
PRODID:-//Rainmakers - ECPv6.15.17.1//NONSGML v1.0//EN
CALSCALE:GREGORIAN
METHOD:PUBLISH
X-ORIGINAL-URL:https://gorainmakers.com
X-WR-CALDESC:Events for Rainmakers
REFRESH-INTERVAL;VALUE=DURATION:PT1H
X-Robots-Tag:noindex
X-PUBLISHED-TTL:PT1H
BEGIN:VTIMEZONE
TZID:America/Indiana/Indianapolis
BEGIN:DAYLIGHT
TZOFFSETFROM:-0500
TZOFFSETTO:-0400
TZNAME:EDT
DTSTART:20200308T070000
END:DAYLIGHT
BEGIN:STANDARD
TZOFFSETFROM:-0400
TZOFFSETTO:-0500
TZNAME:EST
DTSTART:20201101T060000
END:STANDARD
BEGIN:DAYLIGHT
TZOFFSETFROM:-0500
TZOFFSETTO:-0400
TZNAME:EDT
DTSTART:20210314T070000
END:DAYLIGHT
BEGIN:STANDARD
TZOFFSETFROM:-0400
TZOFFSETTO:-0500
TZNAME:EST
DTSTART:20211107T060000
END:STANDARD
BEGIN:DAYLIGHT
TZOFFSETFROM:-0500
TZOFFSETTO:-0400
TZNAME:EDT
DTSTART:20220313T070000
END:DAYLIGHT
BEGIN:STANDARD
TZOFFSETFROM:-0400
TZOFFSETTO:-0500
TZNAME:EST
DTSTART:20221106T060000
END:STANDARD
END:VTIMEZONE
BEGIN:VEVENT
DTSTART;TZID=America/Indiana/Indianapolis:20211209T173000
DTEND;TZID=America/Indiana/Indianapolis:20211209T190000
DTSTAMP:20260424T014548
CREATED:20211114T132505Z
LAST-MODIFIED:20211116T213111Z
UID:124096-1639071000-1639076400@gorainmakers.com
SUMMARY:Rainmakers Holiday Tastings & Connections
DESCRIPTION:Jingle Jangle Jingle – It’s Time to Mix & Mingle! \nJoin us and Broadmoor Country Club to celebrate the holidays! We will enjoy tastings & conversation together and in person at Broadmoor while networking and getting to know one another. \n  \n  \n  \nTHANK YOU to Our Host: \n \nConveniently located near downtown Indianapolis\, the Broadmoor Country Club truly offers something for everyone through an extensive array of programming and amenities for members of all ages. Golf aficionados will love the beautifully-preserved Donald Ross designed course\, while golfers and non-golfers alike can enjoy the myriad dining\, recreation\, social activities and amenities the club has to offer. \nCall to visit Broadmoor Country Club today. Learn more here. \n__________________ \nTHANK YOU to Our Event Sponsors: \n  \n \nNathan Pfahler with Weichert Realtors \nI am happily married to Jennifer Pfahler and we have 2 young boys who are fun and active! I have been a licensed REALTOR since 2005\, started the real estate team of The Pfahler Group\, in 2012\, and have owned my own brokerage since 2018\, purchasing the Weichert Franchise towards the end of 2019. To date\, I’ve been involved in over 700 real estate transactions and am pumped to think about how many families and individuals that means we have helped in their journey to homeownership! \nMy family and I reside in Brownsburg\, IN where we are involved in various school\, church\, and community activities! I am excited to lead a great team and a great brokerage! We would be honored to assist you in your residential or commercial needs.
URL:https://gorainmakers.com/event/rainmakers-holiday-tastings-connections/
LOCATION:Broadmoor Country Club\, 2155 Kessler Boulevard West Drive\, Indianapolis\, IN\, 46228
CATEGORIES:Networking,Social
ATTACH;FMTTYPE=image/jpeg:https://gorainmakers.com/wp-content/uploads/2021/11/Holiday_Tastings-and-Connections_1200x600.jpg
END:VEVENT
END:VCALENDAR