BEGIN:VCALENDAR
VERSION:2.0
PRODID:-//Rainmakers - ECPv6.15.17.1//NONSGML v1.0//EN
CALSCALE:GREGORIAN
METHOD:PUBLISH
X-ORIGINAL-URL:https://gorainmakers.com
X-WR-CALDESC:Events for Rainmakers
REFRESH-INTERVAL;VALUE=DURATION:PT1H
X-Robots-Tag:noindex
X-PUBLISHED-TTL:PT1H
BEGIN:VTIMEZONE
TZID:America/Indiana/Indianapolis
BEGIN:DAYLIGHT
TZOFFSETFROM:-0500
TZOFFSETTO:-0400
TZNAME:EDT
DTSTART:20210314T070000
END:DAYLIGHT
BEGIN:STANDARD
TZOFFSETFROM:-0400
TZOFFSETTO:-0500
TZNAME:EST
DTSTART:20211107T060000
END:STANDARD
BEGIN:DAYLIGHT
TZOFFSETFROM:-0500
TZOFFSETTO:-0400
TZNAME:EDT
DTSTART:20220313T070000
END:DAYLIGHT
BEGIN:STANDARD
TZOFFSETFROM:-0400
TZOFFSETTO:-0500
TZNAME:EST
DTSTART:20221106T060000
END:STANDARD
BEGIN:DAYLIGHT
TZOFFSETFROM:-0500
TZOFFSETTO:-0400
TZNAME:EDT
DTSTART:20230312T070000
END:DAYLIGHT
BEGIN:STANDARD
TZOFFSETFROM:-0400
TZOFFSETTO:-0500
TZNAME:EST
DTSTART:20231105T060000
END:STANDARD
END:VTIMEZONE
BEGIN:VEVENT
DTSTART;TZID=America/Indiana/Indianapolis:20220223T083000
DTEND;TZID=America/Indiana/Indianapolis:20220223T103000
DTSTAMP:20260418T204400
CREATED:20220118T193955Z
LAST-MODIFIED:20220217T004347Z
UID:124131-1645605000-1645612200@gorainmakers.com
SUMMARY:Activate the ROCK STAR NETWORKER in you!
DESCRIPTION:A highly active and engaging workshop!\nBuilding one’s business is always on the minds of business owners. We are strategic with plans to build and strengthen the business by setting goals and working with grit to make them come to fruition. \nThis will be an action-packed session! Meeting fellow business professionals\, sharing and honing in on current skills while practicing and polishing additional skills to grow your interactions with others. As well as finding connections that you initiate fostering with others. Some who are new to networking\, or seasoned to learn from all the while have a fun-filled morning with nuggets to add to your networking experience. \nJoin us LIVE in February for this Indianapolis Networking Event! \nMeet fellow business professionals\, polish current skills\, uncover something new\, begin a new relationship\, find some golden nuggets in your backyard. \n\nFast-paced sharing with a focus\nRock your talk for strong clear engagement\nMeet new and seasoned professionals\nIdentify your kind of Magnetism\nTaking the role of Super Star\n\n  \n8:30 a.m. – 9 a.m. networking \n\n\n9 a.m. – 10:30 p.m. Session\n\n\n\n\nBe sure to bring with you:\n• plenty of business cards\n• pen & notebook\n• a friend who loves to meet new business professionals! \n  \nOur Facilitator: \n \nPatty Pavey \nPatty has coached and encouraged people her whole life. Teaching and coaching in public schools adult education. Twenty + successful years in a direct sales company in the top 2-1/2 percent of the company. As a Certified Kitchen and Bath Designer\, she owned her own company and design studio traveling\, training\, and mentoring. Today she is the owner of Today’s The Day Coaching. As a coach\, and leadership trainer she has cycled all her education\, experiences\, training\, and skills into empowering people to make better choices to improve their lifestyles for a lifetime. She is passionate and committed to helping individuals and groups in mastering change\, enlivening hope in people who are frustrated\, unmotivated\, stressed\, and unhappy. She assists people who are STUCK TO BECOME STUPENDOUS. \nWith a successful networking background\, she has written a Networking book (Guide To Powerful Networking & Strategic Partnering ) and runs popular networking groups as well as teaches networking classes and workshops assisting people in enlarging their sphere of influence. She loves connecting people and watching others embrace networking and step up their skills as a professional networker. \nPatty has a degree from Purdue and a Masters from Ball State. She was honored a few years ago as one of the outstanding women in business in the Heartland. \nMarried to Chuck for 39 years\, with 3 children\, 5 grandchildren. She loves to travel and meet new people\, read\, exercise\, cook\, and decorate.
URL:https://gorainmakers.com/event/activate-the-rock-star-networker-in-you/2022-02-23/
LOCATION:Nexus Impact Center\, 9511 Angola Ct\, Indianapolis\, 46268
CATEGORIES:Networking,Small Business,Training
ATTACH;FMTTYPE=image/png:https://gorainmakers.com/wp-content/uploads/2021/10/Rainmakers-Presents_Activate-the-ROCK-STAR-NETWORKER-in-you.png
END:VEVENT
END:VCALENDAR