BEGIN:VCALENDAR
VERSION:2.0
PRODID:-//Rainmakers - ECPv6.15.17.1//NONSGML v1.0//EN
CALSCALE:GREGORIAN
METHOD:PUBLISH
X-ORIGINAL-URL:https://gorainmakers.com
X-WR-CALDESC:Events for Rainmakers
REFRESH-INTERVAL;VALUE=DURATION:PT1H
X-Robots-Tag:noindex
X-PUBLISHED-TTL:PT1H
BEGIN:VTIMEZONE
TZID:America/Indiana/Indianapolis
BEGIN:DAYLIGHT
TZOFFSETFROM:-0500
TZOFFSETTO:-0400
TZNAME:EDT
DTSTART:20210314T070000
END:DAYLIGHT
BEGIN:STANDARD
TZOFFSETFROM:-0400
TZOFFSETTO:-0500
TZNAME:EST
DTSTART:20211107T060000
END:STANDARD
BEGIN:DAYLIGHT
TZOFFSETFROM:-0500
TZOFFSETTO:-0400
TZNAME:EDT
DTSTART:20220313T070000
END:DAYLIGHT
BEGIN:STANDARD
TZOFFSETFROM:-0400
TZOFFSETTO:-0500
TZNAME:EST
DTSTART:20221106T060000
END:STANDARD
BEGIN:DAYLIGHT
TZOFFSETFROM:-0500
TZOFFSETTO:-0400
TZNAME:EDT
DTSTART:20230312T070000
END:DAYLIGHT
BEGIN:STANDARD
TZOFFSETFROM:-0400
TZOFFSETTO:-0500
TZNAME:EST
DTSTART:20231105T060000
END:STANDARD
END:VTIMEZONE
BEGIN:VEVENT
DTSTART;TZID=America/Indiana/Indianapolis:20220329T083000
DTEND;TZID=America/Indiana/Indianapolis:20220329T103000
DTSTAMP:20260423T194527
CREATED:20220118T190441Z
LAST-MODIFIED:20220307T180600Z
UID:124162-1648542600-1648549800@gorainmakers.com
SUMMARY:Excel in Your Business and Personal Life
DESCRIPTION:A New Year\, a new program that will lead you to a fast start to your most productive business and personal year ever. \nDealing with Motivation \nMarch Discussion: How to get YOUR Mojo back! \n\nAs your motivation drops since the start of the year\, how to get it\, how to keep it\, or more importantly\, how to get it back if you lost it.\n\nThis session will give you tools and guidance to enable you to turn your motivation around and get back on track.\n\nOur Facilitators: \n \nPaul McCoy \nPaul is a certified Business Coach with Tidal Coach\, affiliated with ActionCoach and is passionate about making a difference to businesses that want to improve the way they are currently operating. He has over 25 years of experience as a business executive with experience in team leadership\, program management\, green field site development\, business improvement\, strategy development\, sales\, contracts\, engineering and business processes. \n  \n \nTommy Richardson \nTommy is responsible for the Leadership Development within the Rainmakers organization and Leadership and Personal Development training for executives\, employee groups and members. \nTommy has more than 40 years of experience in business coaching\, training\, and athletic coaching. He has coached more than 1\,000 individuals and teams and facilitated training for corporate teams and executives and is a former president of Toastmasters\, International. \n  \n  \n\n\nTHANK YOU to Our Host: \n\n\n\nNexus is more than just a coworking space and venue location. While we do have the typical benefits these spaces offer like high-speed internet and great coffee\, we do things a little differently: our profits support social impact. Our pricing\, amenities and flexibility are all designed to tear down walls for socially-minded companies and organizations to enable them to grow their impact. While our mission and programs are focused on helping people embed sustainable social impact\, our space and memberships are open to people of all walks of life looking for an economical space to work\, meet and hold events\, thereby contributing to social impact. \nLearn more about Nexus here.
URL:https://gorainmakers.com/event/excel-in-your-business-and-personal-life-2-2022-03-29/
LOCATION:Nexus Impact Center\, 9511 Angola Ct\, Indianapolis\, 46268
CATEGORIES:Efficiency,Leadership
ATTACH;FMTTYPE=image/jpeg:https://gorainmakers.com/wp-content/uploads/2021/12/Excel-in-Business-and-Personal-Life_1200x600.jpg
END:VEVENT
BEGIN:VEVENT
DTSTART;TZID=America/Indiana/Indianapolis:20220329T110000
DTEND;TZID=America/Indiana/Indianapolis:20220329T130000
DTSTAMP:20260423T194527
CREATED:20220118T193955Z
LAST-MODIFIED:20220217T004951Z
UID:124166-1648551600-1648558800@gorainmakers.com
SUMMARY:Activate the ROCK STAR NETWORKER in you!
DESCRIPTION:A highly active and engaging workshop!\nBuilding one’s business is always on the minds of business owners. We are strategic with plans to build and strengthen the business by setting goals and working with grit to make them come to fruition. \nThis will be an action-packed session! Meeting fellow business professionals\, sharing and honing in on current skills while practicing and polishing additional skills to grow your interactions with others. As well as finding connections that you initiate fostering with others. Some who are new to networking\, or seasoned to learn from all the while have a fun-filled morning with nuggets to add to your networking experience. \nJoin us LIVE in March for this Indianapolis Networking Event! \nMeet fellow business professionals\, polish current skills\, uncover something new\, begin a new relationship\, find some golden nuggets in your backyard. \n\nFast-paced sharing with a focus\nRock your talk for strong clear engagement\nMeet new and seasoned professionals\nIdentify your kind of Magnetism\nTaking the role of Super Star\n\n  \n11 a.m. – 11:30 a.m. Networking \n\n\n11:30 a.m. – 1 p.m. Session\n\n\n\n\nBe sure to bring with you:\n• plenty of business cards\n• pen & notebook\n• a friend who loves to meet new business professionals! \n  \nOur Facilitator: \n \nPatty Pavey \nPatty has coached and encouraged people her whole life. Teaching and coaching in public schools adult education. Twenty + successful years in a direct sales company in the top 2-1/2 percent of the company. As a Certified Kitchen and Bath Designer\, she owned her own company and design studio traveling\, training\, and mentoring. Today she is the owner of Today’s The Day Coaching. As a coach\, and leadership trainer she has cycled all her education\, experiences\, training\, and skills into empowering people to make better choices to improve their lifestyles for a lifetime. She is passionate and committed to helping individuals and groups in mastering change\, enlivening hope in people who are frustrated\, unmotivated\, stressed\, and unhappy. She assists people who are STUCK TO BECOME STUPENDOUS. \nWith a successful networking background\, she has written a Networking book (Guide To Powerful Networking & Strategic Partnering ) and runs popular networking groups as well as teaches networking classes and workshops assisting people in enlarging their sphere of influence. She loves connecting people and watching others embrace networking and step up their skills as a professional networker. \nPatty has a degree from Purdue and a Masters from Ball State. She was honored a few years ago as one of the outstanding women in business in the Heartland. \nMarried to Chuck for 39 years\, with 3 children\, 5 grandchildren. She loves to travel and meet new people\, read\, exercise\, cook\, and decorate.
URL:https://gorainmakers.com/event/activate-the-rock-star-networker-in-you-2022-03-29/
LOCATION:Nexus Impact Center\, 9511 Angola Ct\, Indianapolis\, 46268
CATEGORIES:Networking,Small Business,Training
ATTACH;FMTTYPE=image/png:https://gorainmakers.com/wp-content/uploads/2021/10/Rainmakers-Presents_Activate-the-ROCK-STAR-NETWORKER-in-you.png
END:VEVENT
BEGIN:VEVENT
DTSTART;TZID=America/Indiana/Indianapolis:20220329T173000
DTEND;TZID=America/Indiana/Indianapolis:20220329T190000
DTSTAMP:20260423T194527
CREATED:20220119T151710Z
LAST-MODIFIED:20220307T133109Z
UID:124135-1648575000-1648580400@gorainmakers.com
SUMMARY:Eat + Drink
DESCRIPTION:Rainmakers Eat + Drink is our monthly social event. We travel all around the city to experience Indy’s best independent restaurant establishments.  Everyone welcome! Bring a friend or colleague and participate in a relaxed networking environment while enjoying the great tastes of Indy. \nJoin us in March at Sugar Creek Vineyard & Winery! \n  \nAbout Sugar Creek Vineyard & Winery: \nIt began with one of those half serious\, half joking comments after dinner and several bottles of Cabernet when someone says\, “you know\, one of these days we should… \n“Well\, that night\, with three families around that table\, it was filled in with\, “grow some grapes and start a winery”. In most instances\, these ideas are quickly forgotten in the next morning’s bright sunshine of reality”. \n \nNote: We’re responsible for finding a great restaurant! You’re responsible for your food and drink! \nLet’s support a local restaurant\, get to know other folks\, and have great food and beverages all at the same time! \n  \nTHANK YOU to Our Sponsor: \n \nNathan Pfahler \nwith Weichert Realtors for sponsoring Rainmakers Eat + Drink! \nI am happily married to Jennifer Pfahler and we have 2 young boys who are fun and active! I have been a licensed REALTOR since 2005\, started the real estate team of The Pfahler Group\, in 2012\, and have owned my own brokerage since 2018\, purchasing the Weichert Franchise towards the end of 2019. To date\, I’ve been involved in over 700 real estate transactions and am pumped to think about how many families and individuals that means we have helped in their journey to homeownership! \nMy family and I reside in Brownsburg\, IN where we are involved in various school\, church\, and community activities! I am excited to lead a great team and a great brokerage! We would be honored to assist you in your residential or commercial needs. \n 
URL:https://gorainmakers.com/event/eat-drink-15/
LOCATION:Sugar Creek Winery\, 1111 West Main Street\, Carmel\, IN\, 46032\, United States
CATEGORIES:Networking,Social
ATTACH;FMTTYPE=image/jpeg:https://gorainmakers.com/wp-content/uploads/2022/01/Untitled-1.jpg
END:VEVENT
END:VCALENDAR