BEGIN:VCALENDAR
VERSION:2.0
PRODID:-//Rainmakers - ECPv6.15.17.1//NONSGML v1.0//EN
CALSCALE:GREGORIAN
METHOD:PUBLISH
X-WR-CALNAME:Rainmakers
X-ORIGINAL-URL:https://gorainmakers.com
X-WR-CALDESC:Events for Rainmakers
REFRESH-INTERVAL;VALUE=DURATION:PT1H
X-Robots-Tag:noindex
X-PUBLISHED-TTL:PT1H
BEGIN:VTIMEZONE
TZID:America/Indiana/Indianapolis
BEGIN:DAYLIGHT
TZOFFSETFROM:-0500
TZOFFSETTO:-0400
TZNAME:EDT
DTSTART:20210314T070000
END:DAYLIGHT
BEGIN:STANDARD
TZOFFSETFROM:-0400
TZOFFSETTO:-0500
TZNAME:EST
DTSTART:20211107T060000
END:STANDARD
BEGIN:DAYLIGHT
TZOFFSETFROM:-0500
TZOFFSETTO:-0400
TZNAME:EDT
DTSTART:20220313T070000
END:DAYLIGHT
BEGIN:STANDARD
TZOFFSETFROM:-0400
TZOFFSETTO:-0500
TZNAME:EST
DTSTART:20221106T060000
END:STANDARD
BEGIN:DAYLIGHT
TZOFFSETFROM:-0500
TZOFFSETTO:-0400
TZNAME:EDT
DTSTART:20230312T070000
END:DAYLIGHT
BEGIN:STANDARD
TZOFFSETFROM:-0400
TZOFFSETTO:-0500
TZNAME:EST
DTSTART:20231105T060000
END:STANDARD
END:VTIMEZONE
BEGIN:VEVENT
DTSTART;TZID=America/Indiana/Indianapolis:20220428T113000
DTEND;TZID=America/Indiana/Indianapolis:20220428T133000
DTSTAMP:20260423T180653
CREATED:20220408T133621Z
LAST-MODIFIED:20220408T170902Z
UID:124194-1651145400-1651152600@gorainmakers.com
SUMMARY:Flipping (OFF) Fears
DESCRIPTION:Every human has fears. Fears can hold us back from being or becoming our best. Join Patty Pavey as a Mental Fitness Specialist as she speaks from experience and the professional fields of NLP (Neuro-Linguistic Programming)\, nutrition\, and much more. One’s individual world and professional world as well as our entire world can be improved by: \n\nRecognizing and identifying fears in ourselves and others\nHow to have a mental shift and find clarity\nHow to recognize your fears\nHow to control your fears\n\n \nRELEASING YOUR FEARS \n  \n  \nOur Facilitator: \n \nPatty Pavey \nPatty is a certified coach\, trainer\, facilitator\, and speaker. She has assisted many individuals to move through the fears of flying\, fear of success\, driving\, being bullied\, going to the dentist\, surgery\, storms\, heights\, and many more. \n  \n\nTHANK YOU to Our Host: \n\n\n\nNexus is more than just a coworking space and venue location. While we do have the typical benefits these spaces offer like high-speed internet and great coffee\, we do things a little differently: our profits support social impact. Our pricing\, amenities and flexibility are all designed to tear down walls for socially-minded companies and organizations to enable them to grow their impact. While our mission and programs are focused on helping people embed sustainable social impact\, our space and memberships are open to people of all walks of life looking for an economical space to work\, meet and hold events\, thereby contributing to social impact. \nLearn more about Nexus here.
URL:https://gorainmakers.com/event/flipping-off-fears/
LOCATION:Nexus Impact Center\, 9511 Angola Ct\, Indianapolis\, 46268
CATEGORIES:Efficiency,Persistence,Small Business
ATTACH;FMTTYPE=image/png:https://gorainmakers.com/wp-content/uploads/2022/04/Flipping-OFF-Fears.png
END:VEVENT
END:VCALENDAR