BEGIN:VCALENDAR
VERSION:2.0
PRODID:-//Rainmakers - ECPv6.15.17.1//NONSGML v1.0//EN
CALSCALE:GREGORIAN
METHOD:PUBLISH
X-WR-CALNAME:Rainmakers
X-ORIGINAL-URL:https://gorainmakers.com
X-WR-CALDESC:Events for Rainmakers
REFRESH-INTERVAL;VALUE=DURATION:PT1H
X-Robots-Tag:noindex
X-PUBLISHED-TTL:PT1H
BEGIN:VTIMEZONE
TZID:America/Indiana/Indianapolis
BEGIN:DAYLIGHT
TZOFFSETFROM:-0500
TZOFFSETTO:-0400
TZNAME:EDT
DTSTART:20210314T070000
END:DAYLIGHT
BEGIN:STANDARD
TZOFFSETFROM:-0400
TZOFFSETTO:-0500
TZNAME:EST
DTSTART:20211107T060000
END:STANDARD
BEGIN:DAYLIGHT
TZOFFSETFROM:-0500
TZOFFSETTO:-0400
TZNAME:EDT
DTSTART:20220313T070000
END:DAYLIGHT
BEGIN:STANDARD
TZOFFSETFROM:-0400
TZOFFSETTO:-0500
TZNAME:EST
DTSTART:20221106T060000
END:STANDARD
BEGIN:DAYLIGHT
TZOFFSETFROM:-0500
TZOFFSETTO:-0400
TZNAME:EDT
DTSTART:20230312T070000
END:DAYLIGHT
BEGIN:STANDARD
TZOFFSETFROM:-0400
TZOFFSETTO:-0500
TZNAME:EST
DTSTART:20231105T060000
END:STANDARD
END:VTIMEZONE
BEGIN:VEVENT
DTSTART;TZID=America/Indiana/Indianapolis:20221021T110000
DTEND;TZID=America/Indiana/Indianapolis:20221021T123000
DTSTAMP:20260423T101401
CREATED:20220914T190226Z
LAST-MODIFIED:20220929T135257Z
UID:124319-1666350000-1666355400@gorainmakers.com
SUMMARY:Power of Women
DESCRIPTION:October: Fall into Greatness\n\n\nPower of Women (POW) is on a mission to create a space where women can gather and be connected\, inspired\, and grow. POW will be a quarterly women’s event that focuses on current trends and challenges that women are facing. \n\nThere will be a limited lunch menu available.  Attendees are encouraged to order lunch but are not required. If you choose to order\, please select the correct ticket and note your meal choice (menu below) upon registration\, so we can help our host best prepare.\n\n\n\n\nThank you to our host:\n\nWe are Erika and P.J. Steele\, and we are excited to bring “Just Love” to Indianapolis! We believe that we were created to be in the community\, making us excited about Just Love Coffee Cafe. We envision a cafe that is a gathering place for friends and family to be in community with one another. We also believe that as a community\, we should bear one another’s burdens and love one another. That is why we are excited to partner with organizations in Indianapolis that make our city a caring and supportive place to live.
URL:https://gorainmakers.com/event/power-of-women/
LOCATION:Just Love Coffee\, 12525 Old Meridian St\, Ste 100\, Carmel\, Indiana\, 46032
CATEGORIES:Empowering Women Roundtable
ATTACH;FMTTYPE=image/png:https://gorainmakers.com/wp-content/uploads/2022/09/Power-of-Women.png
END:VEVENT
END:VCALENDAR