BEGIN:VCALENDAR
VERSION:2.0
PRODID:-//Rainmakers - ECPv6.15.17.1//NONSGML v1.0//EN
CALSCALE:GREGORIAN
METHOD:PUBLISH
X-WR-CALNAME:Rainmakers
X-ORIGINAL-URL:https://gorainmakers.com
X-WR-CALDESC:Events for Rainmakers
REFRESH-INTERVAL;VALUE=DURATION:PT1H
X-Robots-Tag:noindex
X-PUBLISHED-TTL:PT1H
BEGIN:VTIMEZONE
TZID:America/Indiana/Indianapolis
BEGIN:DAYLIGHT
TZOFFSETFROM:-0500
TZOFFSETTO:-0400
TZNAME:EDT
DTSTART:20220313T070000
END:DAYLIGHT
BEGIN:STANDARD
TZOFFSETFROM:-0400
TZOFFSETTO:-0500
TZNAME:EST
DTSTART:20221106T060000
END:STANDARD
BEGIN:DAYLIGHT
TZOFFSETFROM:-0500
TZOFFSETTO:-0400
TZNAME:EDT
DTSTART:20230312T070000
END:DAYLIGHT
BEGIN:STANDARD
TZOFFSETFROM:-0400
TZOFFSETTO:-0500
TZNAME:EST
DTSTART:20231105T060000
END:STANDARD
BEGIN:DAYLIGHT
TZOFFSETFROM:-0500
TZOFFSETTO:-0400
TZNAME:EDT
DTSTART:20240310T070000
END:DAYLIGHT
BEGIN:STANDARD
TZOFFSETFROM:-0400
TZOFFSETTO:-0500
TZNAME:EST
DTSTART:20241103T060000
END:STANDARD
END:VTIMEZONE
BEGIN:VEVENT
DTSTART;TZID=America/Indiana/Indianapolis:20230118T090000
DTEND;TZID=America/Indiana/Indianapolis:20230118T103000
DTSTAMP:20260423T054021
CREATED:20221208T223541Z
LAST-MODIFIED:20230105T173612Z
UID:124375-1674032400-1674037800@gorainmakers.com
SUMMARY:You Set Your 2023 Goals - Now What?
DESCRIPTION:Would you like to spend less time hunting for clients and more time helping your clients?  Would you love to have your sales pipeline full of people that are ready to buy from you? If you answered yes to one or both of those questions\, join Denise as she shares strategies and tactics that can save you time AND make you more money as you learn to build your business by referral. \n  \nFilling Your Sales Pipeline Series \nJoin Denise each month as she shares the components of putting together your own customized Referral Marketing plan for your business that when implemented\, will result in you filling your sales pipeline full of prospects that are ready to buy from you. \n  \n\nJanuary Topic: You Set Your 2023 Goals – Now What? \n\nMost of us set business goals but then what?  In this workshop we will discuss:\n\n1.  How to use your past business activity to predict your future success\n2.  Utilizing 90-day “sprints” to prioritize and accelerate your plan\n3.  Evaluating your progress\n\n\n\n  \nOur Facilitator: \n \nDenise Praul \nDenise Praul is a Referral Marketing Strategist and the founder of Whiteboard Learning. She is committed to sharing practical real-world information to help business professionals create referral marketing strategies to grow their businesses. \nShe put her referral knowledge to the test in her own property tax consulting business and significantly and consistently grew the business year after year with no additional investment of money or time. Using that experience and knowledge she developed a duplicatable system to help other businesses have the same success. \nDenise has created a system called Roadmap to Unlimited Referrals that she now trains and shares with other business people to help them significantly grow and scale their own businesses. \nDenise Praul \nWhite Board Learning \n317-989-2222 \nwb-learning.com \n 
URL:https://gorainmakers.com/event/filling-your-sales-pipeline-2/
LOCATION:Nexus Impact Center\, 9511 Angola Ct\, Indianapolis\, 46268
CATEGORIES:Small Business
ATTACH;FMTTYPE=image/png:https://gorainmakers.com/wp-content/uploads/2022/01/Filling-Your-Sales-Pipeline.png
END:VEVENT
END:VCALENDAR