BEGIN:VCALENDAR
VERSION:2.0
PRODID:-//Rainmakers - ECPv6.15.17.1//NONSGML v1.0//EN
CALSCALE:GREGORIAN
METHOD:PUBLISH
X-ORIGINAL-URL:https://gorainmakers.com
X-WR-CALDESC:Events for Rainmakers
REFRESH-INTERVAL;VALUE=DURATION:PT1H
X-Robots-Tag:noindex
X-PUBLISHED-TTL:PT1H
BEGIN:VTIMEZONE
TZID:America/Indiana/Indianapolis
BEGIN:DAYLIGHT
TZOFFSETFROM:-0500
TZOFFSETTO:-0400
TZNAME:EDT
DTSTART:20220313T070000
END:DAYLIGHT
BEGIN:STANDARD
TZOFFSETFROM:-0400
TZOFFSETTO:-0500
TZNAME:EST
DTSTART:20221106T060000
END:STANDARD
BEGIN:DAYLIGHT
TZOFFSETFROM:-0500
TZOFFSETTO:-0400
TZNAME:EDT
DTSTART:20230312T070000
END:DAYLIGHT
BEGIN:STANDARD
TZOFFSETFROM:-0400
TZOFFSETTO:-0500
TZNAME:EST
DTSTART:20231105T060000
END:STANDARD
BEGIN:DAYLIGHT
TZOFFSETFROM:-0500
TZOFFSETTO:-0400
TZNAME:EDT
DTSTART:20240310T070000
END:DAYLIGHT
BEGIN:STANDARD
TZOFFSETFROM:-0400
TZOFFSETTO:-0500
TZNAME:EST
DTSTART:20241103T060000
END:STANDARD
END:VTIMEZONE
BEGIN:VEVENT
DTSTART;TZID=America/Indiana/Indianapolis:20230217T110000
DTEND;TZID=America/Indiana/Indianapolis:20230217T123000
DTSTAMP:20260423T040014
CREATED:20230104T153614Z
LAST-MODIFIED:20230116T141649Z
UID:124405-1676631600-1676637000@gorainmakers.com
SUMMARY:POW: Self Love
DESCRIPTION:Attend Virtually OR In Person!  \nFebruary: AUTHENTICALLY YOU\n\nHow to stand out in a busy world\nThree Authentic Ways to Increase Your Self-Worth\, Grow Your Confidence and Elevate Your Influence\n\n  \n*Light lunch\, appetizers\, coffee & water included \n \nPower of Women (POW) is on a mission to create a space where women can gather and be connected\, inspired\, and grow. POW will be a quarterly women’s event that focuses on current trends and challenges that women are facing.
URL:https://gorainmakers.com/event/self-love/
LOCATION:Nexus Impact Center\, 9511 Angola Ct\, Indianapolis\, 46268
CATEGORIES:Empowering Women Roundtable
ATTACH;FMTTYPE=image/png:https://gorainmakers.com/wp-content/uploads/2022/09/Power-of-Women.png
END:VEVENT
END:VCALENDAR