BEGIN:VCALENDAR
VERSION:2.0
PRODID:-//Rainmakers - ECPv6.15.17.1//NONSGML v1.0//EN
CALSCALE:GREGORIAN
METHOD:PUBLISH
X-ORIGINAL-URL:https://gorainmakers.com
X-WR-CALDESC:Events for Rainmakers
REFRESH-INTERVAL;VALUE=DURATION:PT1H
X-Robots-Tag:noindex
X-PUBLISHED-TTL:PT1H
BEGIN:VTIMEZONE
TZID:America/Indiana/Indianapolis
BEGIN:DAYLIGHT
TZOFFSETFROM:-0500
TZOFFSETTO:-0400
TZNAME:EDT
DTSTART:20220313T070000
END:DAYLIGHT
BEGIN:STANDARD
TZOFFSETFROM:-0400
TZOFFSETTO:-0500
TZNAME:EST
DTSTART:20221106T060000
END:STANDARD
BEGIN:DAYLIGHT
TZOFFSETFROM:-0500
TZOFFSETTO:-0400
TZNAME:EDT
DTSTART:20230312T070000
END:DAYLIGHT
BEGIN:STANDARD
TZOFFSETFROM:-0400
TZOFFSETTO:-0500
TZNAME:EST
DTSTART:20231105T060000
END:STANDARD
BEGIN:DAYLIGHT
TZOFFSETFROM:-0500
TZOFFSETTO:-0400
TZNAME:EDT
DTSTART:20240310T070000
END:DAYLIGHT
BEGIN:STANDARD
TZOFFSETFROM:-0400
TZOFFSETTO:-0500
TZNAME:EST
DTSTART:20241103T060000
END:STANDARD
END:VTIMEZONE
BEGIN:VEVENT
DTSTART;TZID=America/Indiana/Indianapolis:20230627T173000
DTEND;TZID=America/Indiana/Indianapolis:20230627T193000
DTSTAMP:20260422T214748
CREATED:20230104T153126Z
LAST-MODIFIED:20230602T212829Z
UID:124404-1687887000-1687894200@gorainmakers.com
SUMMARY:Eat + Drink
DESCRIPTION:Rainmakers Eat + Drink is our monthly social event. We travel all around the city to experience Indy’s best independent restaurant establishments.  Everyone welcome! Bring a friend or colleague and participate in a relaxed networking environment while enjoying the great tastes of Indy. \nJoin us in June at Rick’s Cafe Boatyard! \nDetails coming soon! \n5:30-6:30 Cocktails \n6:30-? Dinner \n  \nNote: We’re responsible for finding a great restaurant! You’re responsible for your food and drink! \nLet’s support a local restaurant\, get to know other folks\, and have great food and beverages all at the same time! \n  \n \nAbout Rick’s Cafe Boatyard: \nWhen Rick Albrecht moved to Indianapolis from Louisville in the 1970s\, he was an insurance salesman who had previously been enlisted in the United States Navy. Rick would quickly become a well-known restaurateur\, owning several bars and eateries in the greater Indianapolis area\, including downtown\, Geist\, Keystone and eventually Eagle Creek.  \nPREVIOUS RESTAURANTS  \nRick`s Cafe Americain opened in Union Station in downtown Indianapolis in 1986 and was the first of many endeavors for Rick. The Americain was themed after the movie Casablanca starring Humphrey Bogart. In 1987\, Rick`s Cafe Dockside was opened on Geist Reservoir. The space was previously a bait shop and small bar\, and was expanded to have more bar space and plenty of outside seating. Rick`s Dockside was an immediate success and is what got Rick in the waterfront dining scene\, a unique venture in land-locked Indianapolis. Rick has also owned several other concepts in Indianapolis\, including Rico`s Supper Club in Carmel\, Rick`s at Riley Towers\, and The Cork at the Crossing. \n  \n\n  \n  \nTHANK YOU to Our Sponsor: \n \nNathan Pfahler \nwith Weichert Realtors for sponsoring Rainmakers Eat + Drink! \nI am happily married to Jennifer Pfahler and we have 2 young boys who are fun and active! I have been a licensed REALTOR since 2005\, started the real estate team of The Pfahler Group\, in 2012\, and have owned my own brokerage since 2018\, purchasing the Weichert Franchise towards the end of 2019. To date\, I’ve been involved in over 700 real estate transactions and am pumped to think about how many families and individuals that means we have helped in their journey to homeownership! \nMy family and I reside in Brownsburg\, IN where we are involved in various school\, church\, and community activities! I am excited to lead a great team and a great brokerage! We would be honored to assist you in your residential or commercial needs. \n 
URL:https://gorainmakers.com/event/eat-drink-21-2023-04-25-2023-06-27/
LOCATION:Rick’s Cafe Boatyard\, 4050 Dandy Trail\, Indianapolis\, IN\, 46254
CATEGORIES:Networking,Social
ATTACH;FMTTYPE=image/png:https://gorainmakers.com/wp-content/uploads/2022/01/EatDrink2022_wide.png
END:VEVENT
END:VCALENDAR