BEGIN:VCALENDAR
VERSION:2.0
PRODID:-//Rainmakers - ECPv6.15.17.1//NONSGML v1.0//EN
CALSCALE:GREGORIAN
METHOD:PUBLISH
X-ORIGINAL-URL:https://gorainmakers.com
X-WR-CALDESC:Events for Rainmakers
REFRESH-INTERVAL;VALUE=DURATION:PT1H
X-Robots-Tag:noindex
X-PUBLISHED-TTL:PT1H
BEGIN:VTIMEZONE
TZID:America/Indiana/Indianapolis
BEGIN:DAYLIGHT
TZOFFSETFROM:-0500
TZOFFSETTO:-0400
TZNAME:EDT
DTSTART:20220313T070000
END:DAYLIGHT
BEGIN:STANDARD
TZOFFSETFROM:-0400
TZOFFSETTO:-0500
TZNAME:EST
DTSTART:20221106T060000
END:STANDARD
BEGIN:DAYLIGHT
TZOFFSETFROM:-0500
TZOFFSETTO:-0400
TZNAME:EDT
DTSTART:20230312T070000
END:DAYLIGHT
BEGIN:STANDARD
TZOFFSETFROM:-0400
TZOFFSETTO:-0500
TZNAME:EST
DTSTART:20231105T060000
END:STANDARD
BEGIN:DAYLIGHT
TZOFFSETFROM:-0500
TZOFFSETTO:-0400
TZNAME:EDT
DTSTART:20240310T070000
END:DAYLIGHT
BEGIN:STANDARD
TZOFFSETFROM:-0400
TZOFFSETTO:-0500
TZNAME:EST
DTSTART:20241103T060000
END:STANDARD
END:VTIMEZONE
BEGIN:VEVENT
DTSTART;TZID=America/Indiana/Indianapolis:20230720T083000
DTEND;TZID=America/Indiana/Indianapolis:20230720T093000
DTSTAMP:20260421T110256
CREATED:20230623T130557Z
LAST-MODIFIED:20230623T130557Z
UID:124575-1689841800-1689845400@gorainmakers.com
SUMMARY:Cash Flow Management For Businesses
DESCRIPTION:Ready to create the future you want but poor Cash Flow is holding you back? \nEveryone has the power to take control of their cash flow and tell their money where to go instead of asking where it went. Too many business owners refer to their gross top line revenue as their profit. We know that seems silly but it’s true. We will empower you to understand the difference between gross top line revenue and your gross profit. This will also help you create business goals such as selling more and/or reducing costs which of course leads to more profit which leads to helping you meet your personal goals. \n  \nStart your journey to better Cash Flow Management during our class. \n  \nOur Facilitator: \n \nJerry Vaughn\, President \nJ. Galt Finance Suite
URL:https://gorainmakers.com/event/cash-flow-management-for-businesses/
LOCATION:Nexus Impact Center\, 9511 Angola Ct\, Indianapolis\, 46268
CATEGORIES:Small Business
ATTACH;FMTTYPE=image/png:https://gorainmakers.com/wp-content/uploads/2023/05/Understanding-Cash-Flow.png
END:VEVENT
END:VCALENDAR