BEGIN:VCALENDAR
VERSION:2.0
PRODID:-//Rainmakers - ECPv6.15.17.1//NONSGML v1.0//EN
CALSCALE:GREGORIAN
METHOD:PUBLISH
X-ORIGINAL-URL:https://gorainmakers.com
X-WR-CALDESC:Events for Rainmakers
REFRESH-INTERVAL;VALUE=DURATION:PT1H
X-Robots-Tag:noindex
X-PUBLISHED-TTL:PT1H
BEGIN:VTIMEZONE
TZID:America/Indiana/Indianapolis
BEGIN:DAYLIGHT
TZOFFSETFROM:-0500
TZOFFSETTO:-0400
TZNAME:EDT
DTSTART:20220313T070000
END:DAYLIGHT
BEGIN:STANDARD
TZOFFSETFROM:-0400
TZOFFSETTO:-0500
TZNAME:EST
DTSTART:20221106T060000
END:STANDARD
BEGIN:DAYLIGHT
TZOFFSETFROM:-0500
TZOFFSETTO:-0400
TZNAME:EDT
DTSTART:20230312T070000
END:DAYLIGHT
BEGIN:STANDARD
TZOFFSETFROM:-0400
TZOFFSETTO:-0500
TZNAME:EST
DTSTART:20231105T060000
END:STANDARD
BEGIN:DAYLIGHT
TZOFFSETFROM:-0500
TZOFFSETTO:-0400
TZNAME:EDT
DTSTART:20240310T070000
END:DAYLIGHT
BEGIN:STANDARD
TZOFFSETFROM:-0400
TZOFFSETTO:-0500
TZNAME:EST
DTSTART:20241103T060000
END:STANDARD
END:VTIMEZONE
BEGIN:VEVENT
DTSTART;TZID=America/Indiana/Indianapolis:20230725T173000
DTEND;TZID=America/Indiana/Indianapolis:20230725T193000
DTSTAMP:20260421T035307
CREATED:20230526T140931Z
LAST-MODIFIED:20230714T192039Z
UID:124546-1690306200-1690313400@gorainmakers.com
SUMMARY:Eat + Drink
DESCRIPTION:Rainmakers Eat + Drink is our monthly social event. We travel all around the city to experience Indy’s best independent restaurant establishments.  Everyone welcome! Bring a friend or colleague and participate in a relaxed networking environment while enjoying the great tastes of Indy. \nJoin us in July at Mama Carolla’s \n5:30-6:30 Cocktails \n6:30-? Dinner \n \n  \nAbout Mama Carolla’s: \nThe story of Mama Carolla’s begins in Omaha\, Nebraska where Mama was born\, and where she got her first taste of real Italian cooking from the small\, family-owned restaurants that were abundant throughout the city. They weren’t so much restaurants as they were just houses where a family would serve meals at a smattering of tables to earn some extra money in hard times. The food was home cooked and authentic – something that Mama hoped to recreate when she opened her own restaurant some fifty years later. \nMama Carolla’s wouldn’t be what it is today without the overwhelming support it has received from the neighborhood since the day it opened. Perhaps that is a testament to the fact that Mama Carolla’s and its sister restaurant\, Good Morning Mamas\, truly are family-run neighborhood restaurants – with Mama’s entire family living within a few miles. Mama\, herself\, has lived in the same house only a few blocks away for more than forty years. If there is a single key to their success it would be that simple thing Mama learned a number of years ago – cook for your customers as if they are your family. Welcome to Mamas. Welcome to our family.  \nLearn more HERE. \nNote: We’re responsible for finding a great restaurant! You’re responsible for your food and drink! \nLet’s support a local restaurant\, get to know other folks\, and have great food and beverages all at the same time! \n  \n  \nTHANK YOU to Our Sponsor: \n \nNathan Pfahler \nwith Weichert Realtors for sponsoring Rainmakers Eat + Drink! \nI am happily married to Jennifer Pfahler and we have 2 young boys who are fun and active! I have been a licensed REALTOR since 2005\, started the real estate team of The Pfahler Group\, in 2012\, and have owned my own brokerage since 2018\, purchasing the Weichert Franchise towards the end of 2019. To date\, I’ve been involved in over 700 real estate transactions and am pumped to think about how many families and individuals that means we have helped in their journey to homeownership! \nMy family and I reside in Brownsburg\, IN where we are involved in various school\, church\, and community activities! I am excited to lead a great team and a great brokerage! We would be honored to assist you in your residential or commercial needs. \n 
URL:https://gorainmakers.com/event/eat-drink-22/
LOCATION:Mama Carolla’s Old Italian Restaurant\, 1031 E 54th Street\, Indianapolis\, IN\, 46205\, United States
CATEGORIES:Networking,Social
ATTACH;FMTTYPE=image/png:https://gorainmakers.com/wp-content/uploads/2022/01/EatDrink2022_wide.png
GEO:39.8508246;-86.1408785
X-APPLE-STRUCTURED-LOCATION;VALUE=URI;X-ADDRESS=Mama Carolla’s Old Italian Restaurant 1031 E 54th Street Indianapolis IN 46205 United States;X-APPLE-RADIUS=500;X-TITLE=1031 E 54th Street:geo:-86.1408785,39.8508246
END:VEVENT
END:VCALENDAR