BEGIN:VCALENDAR
VERSION:2.0
PRODID:-//Rainmakers - ECPv6.15.17.1//NONSGML v1.0//EN
CALSCALE:GREGORIAN
METHOD:PUBLISH
X-ORIGINAL-URL:https://gorainmakers.com
X-WR-CALDESC:Events for Rainmakers
REFRESH-INTERVAL;VALUE=DURATION:PT1H
X-Robots-Tag:noindex
X-PUBLISHED-TTL:PT1H
BEGIN:VTIMEZONE
TZID:America/Indiana/Indianapolis
BEGIN:DAYLIGHT
TZOFFSETFROM:-0500
TZOFFSETTO:-0400
TZNAME:EDT
DTSTART:20230312T070000
END:DAYLIGHT
BEGIN:STANDARD
TZOFFSETFROM:-0400
TZOFFSETTO:-0500
TZNAME:EST
DTSTART:20231105T060000
END:STANDARD
BEGIN:DAYLIGHT
TZOFFSETFROM:-0500
TZOFFSETTO:-0400
TZNAME:EDT
DTSTART:20240310T070000
END:DAYLIGHT
BEGIN:STANDARD
TZOFFSETFROM:-0400
TZOFFSETTO:-0500
TZNAME:EST
DTSTART:20241103T060000
END:STANDARD
BEGIN:DAYLIGHT
TZOFFSETFROM:-0500
TZOFFSETTO:-0400
TZNAME:EDT
DTSTART:20250309T070000
END:DAYLIGHT
BEGIN:STANDARD
TZOFFSETFROM:-0400
TZOFFSETTO:-0500
TZNAME:EST
DTSTART:20251102T060000
END:STANDARD
END:VTIMEZONE
BEGIN:VEVENT
DTSTART;TZID=America/Indiana/Indianapolis:20240613T113000
DTEND;TZID=America/Indiana/Indianapolis:20240613T123000
DTSTAMP:20260420T020623
CREATED:20240513T124714Z
LAST-MODIFIED:20240531T173021Z
UID:124721-1718278200-1718281800@gorainmakers.com
SUMMARY:Making Inspiration an Everyday Habit in Your Life
DESCRIPTION:Feeling stuck in your business or life? \nOur speaker\, Jerry Vaughn\, will discuss the following to get you moving to achieve your goals. \n\nTop 10 Things Successful People Do\nSoar like an Eagle\nCome be inspired to reset your mindset\n\n\n\n\n\nOur Speaker: Jerry Vaughn\n \nI love PEOPLE!  I love to connect and impact others to make the communities we live in better!  I have been in the financial advising space for over 15 years\, educating business owners about Cash Flow Management and how money and interest works to give them the advantage to grow a profitable business. \n\n\nIn being part of Rainmakers\, we plan to make a difference in helping to improve people’s lives while impacting the communities we serve!We are growing and building a tribe in Central Indiana who are motivated to be the exception\, connecting with other successful business owners\, and inspired to serve those in our communities. \nOn a personal level\, when I’m not actively helping our members\, you can find me spending time with my wonderful wife and life partner of 30 years\, Richell\, my two incredible children Courtney and Zach\, my rescue dog Mabel\, and driving my 1962 Ford Galaxie 500 Muscle Car.  I am a foodie and love the outdoors!
URL:https://gorainmakers.com/event/124721/
LOCATION:Zoom Webinar\, Indianapolis\, IN
CATEGORIES:Small Business,Webinar
ATTACH;FMTTYPE=image/png:https://gorainmakers.com/wp-content/uploads/2024/05/Webinar_Making-Inspiration-an-Everyday-Habit-in-Your-Life.png
END:VEVENT
END:VCALENDAR