BEGIN:VCALENDAR
VERSION:2.0
PRODID:-//Rainmakers - ECPv6.15.17.1//NONSGML v1.0//EN
CALSCALE:GREGORIAN
METHOD:PUBLISH
X-WR-CALNAME:Rainmakers
X-ORIGINAL-URL:https://gorainmakers.com
X-WR-CALDESC:Events for Rainmakers
REFRESH-INTERVAL;VALUE=DURATION:PT1H
X-Robots-Tag:noindex
X-PUBLISHED-TTL:PT1H
BEGIN:VTIMEZONE
TZID:America/Indiana/Indianapolis
BEGIN:DAYLIGHT
TZOFFSETFROM:-0500
TZOFFSETTO:-0400
TZNAME:EDT
DTSTART:20230312T070000
END:DAYLIGHT
BEGIN:STANDARD
TZOFFSETFROM:-0400
TZOFFSETTO:-0500
TZNAME:EST
DTSTART:20231105T060000
END:STANDARD
BEGIN:DAYLIGHT
TZOFFSETFROM:-0500
TZOFFSETTO:-0400
TZNAME:EDT
DTSTART:20240310T070000
END:DAYLIGHT
BEGIN:STANDARD
TZOFFSETFROM:-0400
TZOFFSETTO:-0500
TZNAME:EST
DTSTART:20241103T060000
END:STANDARD
BEGIN:DAYLIGHT
TZOFFSETFROM:-0500
TZOFFSETTO:-0400
TZNAME:EDT
DTSTART:20250309T070000
END:DAYLIGHT
BEGIN:STANDARD
TZOFFSETFROM:-0400
TZOFFSETTO:-0500
TZNAME:EST
DTSTART:20251102T060000
END:STANDARD
END:VTIMEZONE
BEGIN:VEVENT
DTSTART;TZID=America/Indiana/Indianapolis:20240711T113000
DTEND;TZID=America/Indiana/Indianapolis:20240711T123000
DTSTAMP:20260420T003725
CREATED:20240514T154335Z
LAST-MODIFIED:20240626T130117Z
UID:124727-1720697400-1720701000@gorainmakers.com
SUMMARY:How to Maximize Profits and Cash Flow in Your Business (Rainmakers Webinar)
DESCRIPTION:Join us on the second Thursday of every month on Zoom! \nHow to Maximize Profits and Cash Flow in Your Business\nLearn four steps to boost profits and cash this year…taught by a small business financial coach. \n  \nWorkshop attendees will discover: \n· The 5 biggest challenges facing 90% of all small businesses. \n· Why profit is more important than revenue AND why cash is more important than profit. \n· 4 key steps to increasing profitability and cash in your business this year. \n· The 16 drivers that drive revenue\, profit\, and cash flow in every business (that you need to watch like a hawk). \n· How to go from feeling overwhelmed\, stressed about cash\, wondering “where’d all the money go” to feeling confident\, knowing that you’re running your business like a CEO\, with the numbers driving your decision making. \n  \nOur Speaker:\n \nYolanda Harrell – Business Financial Coach \nI’m Yolanda Harrell\, the passionate CEO and founder of Faspects\, a business advisory firm dedicated to helping organizations achieve their next level of success. \nI hold a Certified Public Accountant (CPA) license and several other professional certifications in risk management. Leveraging my financial background and business advisory expertise\, I strive to empower other business owners to achieve their goals. My mission is to guide business owners through the complexities of finance and to build sustainable\, successful enterprises with consistent positive cash flow. \nIn addition to my professional life\, I’m an enthusiastic volunteer\, devoted pastor’s wife\, avid road cyclist\, and occasional orienteer—a unique sport that combines navigation and adventure. Whether I’m tackling the challenges of business or exploring the great outdoors\, I thrive on challenges and am always eager to serve my Rainmakers community! \nConnect with Yolanda on Linkedin \nLearn about Faspacts
URL:https://gorainmakers.com/event/save-the-date-2024-07-17/
LOCATION:Zoom Webinar\, Indianapolis\, IN
CATEGORIES:Webinar
ATTACH;FMTTYPE=image/png:https://gorainmakers.com/wp-content/uploads/2024/05/Webinar-How-to-Maximize-Profits-and-Cash-Flow-in-Your-Business.png
END:VEVENT
END:VCALENDAR