BEGIN:VCALENDAR
VERSION:2.0
PRODID:-//Rainmakers - ECPv6.15.17.1//NONSGML v1.0//EN
CALSCALE:GREGORIAN
METHOD:PUBLISH
X-ORIGINAL-URL:https://gorainmakers.com
X-WR-CALDESC:Events for Rainmakers
REFRESH-INTERVAL;VALUE=DURATION:PT1H
X-Robots-Tag:noindex
X-PUBLISHED-TTL:PT1H
BEGIN:VTIMEZONE
TZID:America/Indiana/Indianapolis
BEGIN:DAYLIGHT
TZOFFSETFROM:-0500
TZOFFSETTO:-0400
TZNAME:EDT
DTSTART:20230312T070000
END:DAYLIGHT
BEGIN:STANDARD
TZOFFSETFROM:-0400
TZOFFSETTO:-0500
TZNAME:EST
DTSTART:20231105T060000
END:STANDARD
BEGIN:DAYLIGHT
TZOFFSETFROM:-0500
TZOFFSETTO:-0400
TZNAME:EDT
DTSTART:20240310T070000
END:DAYLIGHT
BEGIN:STANDARD
TZOFFSETFROM:-0400
TZOFFSETTO:-0500
TZNAME:EST
DTSTART:20241103T060000
END:STANDARD
BEGIN:DAYLIGHT
TZOFFSETFROM:-0500
TZOFFSETTO:-0400
TZNAME:EDT
DTSTART:20250309T070000
END:DAYLIGHT
BEGIN:STANDARD
TZOFFSETFROM:-0400
TZOFFSETTO:-0500
TZNAME:EST
DTSTART:20251102T060000
END:STANDARD
END:VTIMEZONE
BEGIN:VEVENT
DTSTART;TZID=America/Indiana/Indianapolis:20240719T190000
DTEND;TZID=America/Indiana/Indianapolis:20240719T210000
DTSTAMP:20260414T014422
CREATED:20240710T180520Z
LAST-MODIFIED:20240710T182207Z
UID:124777-1721415600-1721422800@gorainmakers.com
SUMMARY:The 5 Love Languages® by Dr. Gary Chapman - Indianapolis
DESCRIPTION:The Thrivent Member Network\, in partnership with Venture Christian Church\, presents: \nThe 5 Love Languages with Dr. Gary Chapman \n\nHear Dr. Chapman speak\nDiscover your love language and the language of your loved ones\nGet your book signed and take a photo with Dr. Chapman\nEnjoy dessert on us\n\nThis event is for every type of relationship – married\, dating\, single\, child\, family\, friends! \nBring your own copy of his book\, or purchase at the event (limited supply)\, and get it signed after the talk! \n 
URL:https://gorainmakers.com/event/the-5-love-languages-by-dr-gary-chapman-indianapolis/
LOCATION:Venture Christian Church\, 14501 Hazel Dell Parkway\, Carmel\, IN\, 46033
CATEGORIES:Faith Based
ATTACH;FMTTYPE=image/jpeg:https://gorainmakers.com/wp-content/uploads/2024/07/https___cdn.evbuc_.com_images_774706319_1994823184423_1_original.jpg
END:VEVENT
END:VCALENDAR