BEGIN:VCALENDAR
VERSION:2.0
PRODID:-//Rainmakers - ECPv6.15.17.1//NONSGML v1.0//EN
CALSCALE:GREGORIAN
METHOD:PUBLISH
X-WR-CALNAME:Rainmakers
X-ORIGINAL-URL:https://gorainmakers.com
X-WR-CALDESC:Events for Rainmakers
REFRESH-INTERVAL;VALUE=DURATION:PT1H
X-Robots-Tag:noindex
X-PUBLISHED-TTL:PT1H
BEGIN:VTIMEZONE
TZID:America/Indiana/Indianapolis
BEGIN:DAYLIGHT
TZOFFSETFROM:-0500
TZOFFSETTO:-0400
TZNAME:EDT
DTSTART:20230312T070000
END:DAYLIGHT
BEGIN:STANDARD
TZOFFSETFROM:-0400
TZOFFSETTO:-0500
TZNAME:EST
DTSTART:20231105T060000
END:STANDARD
BEGIN:DAYLIGHT
TZOFFSETFROM:-0500
TZOFFSETTO:-0400
TZNAME:EDT
DTSTART:20240310T070000
END:DAYLIGHT
BEGIN:STANDARD
TZOFFSETFROM:-0400
TZOFFSETTO:-0500
TZNAME:EST
DTSTART:20241103T060000
END:STANDARD
BEGIN:DAYLIGHT
TZOFFSETFROM:-0500
TZOFFSETTO:-0400
TZNAME:EDT
DTSTART:20250309T070000
END:DAYLIGHT
BEGIN:STANDARD
TZOFFSETFROM:-0400
TZOFFSETTO:-0500
TZNAME:EST
DTSTART:20251102T060000
END:STANDARD
END:VTIMEZONE
BEGIN:VEVENT
DTSTART;TZID=America/Indiana/Indianapolis:20240813T110000
DTEND;TZID=America/Indiana/Indianapolis:20240813T123000
DTSTAMP:20260419T231427
CREATED:20240618T190500Z
LAST-MODIFIED:20240807T151203Z
UID:124757-1723546800-1723552200@gorainmakers.com
SUMMARY:The Rainmakers Forum: Networking for Change with Dr. Valerie McCray
DESCRIPTION:Join us for a special networking event featuring Dr. Valerie McCray\, a dedicated clinical psychologist and candidate for U.S. Senate from Indiana. With 25 years of experience serving veterans\, working within the prison system\, and supporting youth impacted by violence\, Dr. McCray brings a unique perspective on the urgent need for mental health reform in Congress. \nThis event offers an opportunity to connect with like-minded individuals\, learn about Dr. McCray’s vision for prioritizing mental health at the federal level\, and engage in meaningful discussions about the future of Indiana and our nation. Your support and insights could be instrumental in shaping a healthier\, more compassionate policy landscape. \nCome meet Dr. McCray\, share your ideas\, and be part of a movement for change. Together\, let’s make mental health a national priority. \n  \nHear from Dr. Valerie McCray. \nOur Speaker:  \n \nDr. Valerie McCray \nClinical Psychologist\, PH.D.\, HSPP \nRunning for US Senate Indiana 2024 \nLearn more about Dr. Valerie McCray.
URL:https://gorainmakers.com/event/the-rainmakers-forum/
LOCATION:Skyline Club\, 1 American Square\, 36th Floor\, Indianapolis \, 46282\, United States
CATEGORIES:Downtown Indy
ATTACH;FMTTYPE=image/png:https://gorainmakers.com/wp-content/uploads/2024/06/Rainmakers-Forum.png
GEO:39.7709058;-86.1609916
X-APPLE-STRUCTURED-LOCATION;VALUE=URI;X-ADDRESS=Skyline Club 1 American Square 36th Floor Indianapolis  46282 United States;X-APPLE-RADIUS=500;X-TITLE=1 American Square\, 36th Floor:geo:-86.1609916,39.7709058
END:VEVENT
END:VCALENDAR