BEGIN:VCALENDAR
VERSION:2.0
PRODID:-//Rainmakers - ECPv6.15.17.1//NONSGML v1.0//EN
CALSCALE:GREGORIAN
METHOD:PUBLISH
X-WR-CALNAME:Rainmakers
X-ORIGINAL-URL:https://gorainmakers.com
X-WR-CALDESC:Events for Rainmakers
REFRESH-INTERVAL;VALUE=DURATION:PT1H
X-Robots-Tag:noindex
X-PUBLISHED-TTL:PT1H
BEGIN:VTIMEZONE
TZID:America/Indiana/Indianapolis
BEGIN:DAYLIGHT
TZOFFSETFROM:-0500
TZOFFSETTO:-0400
TZNAME:EDT
DTSTART:20230312T070000
END:DAYLIGHT
BEGIN:STANDARD
TZOFFSETFROM:-0400
TZOFFSETTO:-0500
TZNAME:EST
DTSTART:20231105T060000
END:STANDARD
BEGIN:DAYLIGHT
TZOFFSETFROM:-0500
TZOFFSETTO:-0400
TZNAME:EDT
DTSTART:20240310T070000
END:DAYLIGHT
BEGIN:STANDARD
TZOFFSETFROM:-0400
TZOFFSETTO:-0500
TZNAME:EST
DTSTART:20241103T060000
END:STANDARD
BEGIN:DAYLIGHT
TZOFFSETFROM:-0500
TZOFFSETTO:-0400
TZNAME:EDT
DTSTART:20250309T070000
END:DAYLIGHT
BEGIN:STANDARD
TZOFFSETFROM:-0400
TZOFFSETTO:-0500
TZNAME:EST
DTSTART:20251102T060000
END:STANDARD
END:VTIMEZONE
BEGIN:VEVENT
DTSTART;TZID=America/Indiana/Indianapolis:20240923T100000
DTEND;TZID=America/Indiana/Indianapolis:20240923T170000
DTSTAMP:20260413T062153
CREATED:20240811T140745Z
LAST-MODIFIED:20240811T141353Z
UID:124791-1727085600-1727110800@gorainmakers.com
SUMMARY:2024 Sports World Links of Hope Encouraging Youth - The Sagamore Club
DESCRIPTION:For over 45 years Sports World has been sending professional athletes to share personal life experiences with students\, helping them to recognize the consequences of their choices while challenging them with The Message of Hope. Over the last 13 years\, they have diffused 2\,274 youth suicide attempts an average of 175 each school year. \nBreakfast before tee off\, lunch and dinner afterwards with an awards presentation. \nCome join in for an amazing day of golf with our Sports World Pro Speakers: \nRuthie Bolton\, Former WNBA player\nJimmie Bell\, Former NFL player\nSteve Grant\, Indianapolis Colts\nJermaine Taylor\, Houston Rockets\, BIG 3 \n  \nTogether\, let’s swing for hope\, showing our young people that there is light at the end of the tunnel and that brighter days lie ahead.\nJoin us on the green to drive out despair\, tee up hope\, and putt for a brighter future for our youth. \n \n2024 Sports World Links For Hope Encouraging Youth\nSeptember 23\, 2024\nThe Sagamore Club\nNoblesville\, IN\n\nFormat\nFour Person Scramble | 18 Holes\n\nPrice:\n$900 Foursome\n10:00 am Shotgun Start\n\nCash Prizes First\, Second\, Third place\n4 Hole in one chances to win $5\,000 (each par 3)\nCash prizes men’s and lady’s longest drive and closest to the pin\nSkins Game\n50/50 Raffle\nPrize raffle to win\nSet of T Series Titleist Irons\nTitleist Players 4 Carbon bag\nScotty Cameron putter\n\nSilent Auction 1 night 2 Day Luxury Golf Trip for Four\n• Two 18-hole rounds of golf (one each day) for four players\, including greens and carts fees.\n• One night in a private standard cottage with four master suites.\n• Member-level access to practice facilities\, teaching staff\, and onsite restaurants.\nCourses to choose from\nBallyhack Golf Club Roanoke VA – Victoria National Newburgh IN\nBriggs Ranch San Antonio TX – Arbor Links Nebraska City NE\nHidden Creek Jersey Shore NJ\n\nSponsorships Available!\n 
URL:https://gorainmakers.com/event/2024-sports-world-links-of-hope-encouraging-youth-the-sagamore-club/
LOCATION:Sagamore Golf Club\, 10900 Golden Bear Way\, Noblesville\, IN
END:VEVENT
END:VCALENDAR