BEGIN:VCALENDAR
VERSION:2.0
PRODID:-//Rainmakers - ECPv6.15.17.1//NONSGML v1.0//EN
CALSCALE:GREGORIAN
METHOD:PUBLISH
X-WR-CALNAME:Rainmakers
X-ORIGINAL-URL:https://gorainmakers.com
X-WR-CALDESC:Events for Rainmakers
REFRESH-INTERVAL;VALUE=DURATION:PT1H
X-Robots-Tag:noindex
X-PUBLISHED-TTL:PT1H
BEGIN:VTIMEZONE
TZID:America/Indiana/Indianapolis
BEGIN:DAYLIGHT
TZOFFSETFROM:-0500
TZOFFSETTO:-0400
TZNAME:EDT
DTSTART:20230312T070000
END:DAYLIGHT
BEGIN:STANDARD
TZOFFSETFROM:-0400
TZOFFSETTO:-0500
TZNAME:EST
DTSTART:20231105T060000
END:STANDARD
BEGIN:DAYLIGHT
TZOFFSETFROM:-0500
TZOFFSETTO:-0400
TZNAME:EDT
DTSTART:20240310T070000
END:DAYLIGHT
BEGIN:STANDARD
TZOFFSETFROM:-0400
TZOFFSETTO:-0500
TZNAME:EST
DTSTART:20241103T060000
END:STANDARD
BEGIN:DAYLIGHT
TZOFFSETFROM:-0500
TZOFFSETTO:-0400
TZNAME:EDT
DTSTART:20250309T070000
END:DAYLIGHT
BEGIN:STANDARD
TZOFFSETFROM:-0400
TZOFFSETTO:-0500
TZNAME:EST
DTSTART:20251102T060000
END:STANDARD
END:VTIMEZONE
BEGIN:VEVENT
DTSTART;TZID=America/Indiana/Indianapolis:20241212T113000
DTEND;TZID=America/Indiana/Indianapolis:20241212T123000
DTSTAMP:20260419T180513
CREATED:20240514T154335Z
LAST-MODIFIED:20241113T141447Z
UID:124753-1734003000-1734006600@gorainmakers.com
SUMMARY:Rainmakers Webinar: Wellness and Self-care Should NOT Be Optional
DESCRIPTION:Join us on the second Thursday of every month on Zoom! \nDecember Topic: Wellness and Self-care Should NOT Be Optional \n\nWait\, Pause! Did you feel that?  It’s the idea of initiating the Pause Button on everything surrounding you and your world of busyness. Pressing pause and taking care of yourself should be what we aim for daily\, even if it’s just 5 minutes. Changing our mindset could be the key to self-care and happiness.  After all\, well-being should not be an option.  It’s a Must!Let’s discover ways together the best practices of hitting the pause button regarding your well-being.\n\nOur Speaker:\nNycole L. Johnson (Co-Co Johnson)\, MBA\, Founder\, and CEO\, is the sole owner of Rose of Sharon All Naturals LLC. Established during the wake of the pandemic in 2020. Rose of Sharon All Naturals has gone under the direction of rebranding to the new R102 Wellness. R102 Wellness is a wellness company specializing in sea moss and functional mushroom-based products. \nNycole’s academic journey is a testament to her dedication to learning and growth. She holds a degree in New Media and General Studies with a concentration in Information Technology and an MBA in Business Leadership and Administration. Her commitment to education is further demonstrated through her role as the host of The Co-Co Johnson Podcast\, where she invites professionals to discuss various wellness topics\, providing her audience with valuable tools to enhance their lives.
URL:https://gorainmakers.com/event/rainmakers-webinar-2024-12-12/
LOCATION:Zoom Webinar\, Indianapolis\, IN
CATEGORIES:Webinar
ATTACH;FMTTYPE=image/png:https://gorainmakers.com/wp-content/uploads/2024/05/Rainmakers-Eventbrite-headers-1.png
END:VEVENT
END:VCALENDAR