BEGIN:VCALENDAR
VERSION:2.0
PRODID:-//Rainmakers - ECPv6.15.17.1//NONSGML v1.0//EN
CALSCALE:GREGORIAN
METHOD:PUBLISH
X-ORIGINAL-URL:https://gorainmakers.com
X-WR-CALDESC:Events for Rainmakers
REFRESH-INTERVAL;VALUE=DURATION:PT1H
X-Robots-Tag:noindex
X-PUBLISHED-TTL:PT1H
BEGIN:VTIMEZONE
TZID:America/Indiana/Indianapolis
BEGIN:DAYLIGHT
TZOFFSETFROM:-0500
TZOFFSETTO:-0400
TZNAME:EDT
DTSTART:20230312T070000
END:DAYLIGHT
BEGIN:STANDARD
TZOFFSETFROM:-0400
TZOFFSETTO:-0500
TZNAME:EST
DTSTART:20231105T060000
END:STANDARD
BEGIN:DAYLIGHT
TZOFFSETFROM:-0500
TZOFFSETTO:-0400
TZNAME:EDT
DTSTART:20240310T070000
END:DAYLIGHT
BEGIN:STANDARD
TZOFFSETFROM:-0400
TZOFFSETTO:-0500
TZNAME:EST
DTSTART:20241103T060000
END:STANDARD
BEGIN:DAYLIGHT
TZOFFSETFROM:-0500
TZOFFSETTO:-0400
TZNAME:EDT
DTSTART:20250309T070000
END:DAYLIGHT
BEGIN:STANDARD
TZOFFSETFROM:-0400
TZOFFSETTO:-0500
TZNAME:EST
DTSTART:20251102T060000
END:STANDARD
END:VTIMEZONE
BEGIN:VEVENT
DTSTART;TZID=America/Indiana/Indianapolis:20241217T083000
DTEND;TZID=America/Indiana/Indianapolis:20241217T103000
DTSTAMP:20260418T203607
CREATED:20231121T174327Z
LAST-MODIFIED:20240830T140504Z
UID:124633-1734424200-1734431400@gorainmakers.com
SUMMARY:LinkedIn Lead Share
DESCRIPTION:Leverage your LinkedIn account by sharing your needs with fellow Rainmakers and helping them with their ideal connections. Get the meetings you need to be successful in your business! \nEveryone who attends will have a chance to share the following:\nYour name\, The company you represent\, The service or product that you offer your clients\, and how you help your clients. Everyone else will search their own Linkedin connections for this criteria and make immediate introductions.\n\n_________________________________\n\nTo attend this session you must know how to: \n\nSearch and use filters on Linkedin\nHave an all-star profile\nKnow-How to share a profile with a connection\nYou must have a written intro for others to send on your behalf.  I have attached a variety of samples from other members that might be helpful when putting together your intro.\n\n  \nIn this session\, you will share the following: \n\nDescribe who is your ideal strategic partner/referral partner.  Who calls on the same person in a corporation that you do?  (CIO/CEO/CFO\, ETC.)\nDescribe who is your ideal client (it’s not “everyone”)\nYou do not need to have a paid LinkedIn subscription\, although it’s nice to have.\n\n  \nWhat to expect (how-to): \n\nRound 1 connect to each other before the actual session (I will send the list of people who registered for this event ahead of time)\nRound 2 explain keywords describing who you want to meet.  Other members will send you a person that fits the bill and you reply through messenger if that looks good.\nRound 3 members send a three-way email or LinkedIn message as a warm introduction using verbiage provided during the session.\n\n\n  \n_________________________________ \nOur Facilitator: \n \nJeff Crane\, Chief “Why” Officer\, The Entrepreneur’s Source  \nAs an Entrepreneur’s Source coach Jeff enjoys helping people discover their “Why” and creating a roadmap to help individuals and business owners in transition. With over 18 years in advertising\, marketing\, sales and management\, Jeff mentors individuals and teams to match their gifts and strengths with new possibilities and growth strategies. He lives in Indianapolis with his wife\, Leah\, and two children. He is a graduate of Ball State University\, an active leader at his Church and is also an Eagle Scout. Jeff is also a volunteer staff leader at Passport to Employment to help people in career transition.
URL:https://gorainmakers.com/event/linkedin-lead-share-5-2024-12-17/
LOCATION:Nexus Impact Center\, 9511 Angola Ct\, Indianapolis\, 46268
CATEGORIES:LinkedIn Roundtable
ATTACH;FMTTYPE=image/png:https://gorainmakers.com/wp-content/uploads/2022/02/Linkedin-Lead-Share-2022.png
END:VEVENT
END:VCALENDAR