BEGIN:VCALENDAR
VERSION:2.0
PRODID:-//Rainmakers - ECPv6.15.17.1//NONSGML v1.0//EN
CALSCALE:GREGORIAN
METHOD:PUBLISH
X-ORIGINAL-URL:https://gorainmakers.com
X-WR-CALDESC:Events for Rainmakers
REFRESH-INTERVAL;VALUE=DURATION:PT1H
X-Robots-Tag:noindex
X-PUBLISHED-TTL:PT1H
BEGIN:VTIMEZONE
TZID:America/Indiana/Indianapolis
BEGIN:DAYLIGHT
TZOFFSETFROM:-0500
TZOFFSETTO:-0400
TZNAME:EDT
DTSTART:20240310T070000
END:DAYLIGHT
BEGIN:STANDARD
TZOFFSETFROM:-0400
TZOFFSETTO:-0500
TZNAME:EST
DTSTART:20241103T060000
END:STANDARD
BEGIN:DAYLIGHT
TZOFFSETFROM:-0500
TZOFFSETTO:-0400
TZNAME:EDT
DTSTART:20250309T070000
END:DAYLIGHT
BEGIN:STANDARD
TZOFFSETFROM:-0400
TZOFFSETTO:-0500
TZNAME:EST
DTSTART:20251102T060000
END:STANDARD
BEGIN:DAYLIGHT
TZOFFSETFROM:-0500
TZOFFSETTO:-0400
TZNAME:EDT
DTSTART:20260308T070000
END:DAYLIGHT
BEGIN:STANDARD
TZOFFSETFROM:-0400
TZOFFSETTO:-0500
TZNAME:EST
DTSTART:20261101T060000
END:STANDARD
END:VTIMEZONE
BEGIN:VEVENT
DTSTART;TZID=America/Indiana/Indianapolis:20250429T173000
DTEND;TZID=America/Indiana/Indianapolis:20250429T193000
DTSTAMP:20260419T105604
CREATED:20241112T184910Z
LAST-MODIFIED:20250418T000904Z
UID:124820-1745947800-1745955000@gorainmakers.com
SUMMARY:Eat + Drink
DESCRIPTION:Rainmakers Eat + Drink is our monthly social event. We travel all around the city to experience Indy’s best independent restaurant establishments.  Everyone welcome! Bring a friend or colleague and participate in a relaxed networking environment while enjoying the great tastes of Indy. \nJoin us each month at Bigsy’s Sports Grill! \n5:30-6:30 Cocktails \n6:30-? Dinner \n \nNestled on the Eastside of Indianapolis\, Bigsy’s Sports Grill exudes warmth and welcomes guests with open arms. With its cozy atmosphere\, friendly staff\, and a menu bursting with mouthwatering dishes\, it’s the perfect place to unwind and savor a delightful meal or beverage. \nTheir diverse menu caters to every palate\, whether looking for a leisurely dinner with loved ones\, a quick lunch catch-up with friends\, or a solo meal at the bar. Bigsy’s Sports Grill offers a relaxed setting where laughter flows as freely as the conversation. Come as you are\, and leave with a satisfied heart\, a full stomach\, and a smile. \nNote: We’re responsible for finding a great restaurant! You’re responsible for your food and drink! \nLet’s support a local restaurant\, get to know other folks\, and have great food and beverages all at the same time! \n  \n  \nTHANK YOU to Our Sponsor: \n \nNathan Pfahler for sponsoring Rainmakers Eat + Drink! \nNathan Pfahler is a seasoned REALTOR with a passion for history\, design\, and exceptional homes. A proud husband to Jennifer and father to two boys\, Camden and Corban\, Nathan’s life is full of adventure\, whether he’s playing with his two dogs\, Nala and Jovie\, or exploring new outdoor activities like hiking\, tennis\, and biking. \nA Ball State University graduate in Marketing and PR\, Nathan’s career began in kitchen and bath sales before expanding to the world of real estate in 2005. His diverse expertise includes working with top brands like Pella Windows and assisting investors and homeowners in crafting vision-driven remodels. Nathan’s true love lies in historic properties—he currently owns a charming historic home in Downtown Brownsburg\, which he uses as a short-term rental\, and has flipped several historic homes himself. His skills in design and spatial planning are unparalleled\, and he’s dedicated to helping clients create spaces that reflect their dreams. \nAs a wine and bourbon aficionado\, Nathan is all about savoring life’s finest moments\, whether he’s exploring new flavors or hosting the “True Social Networking Experience – EAT+DRINK.” As a Lifestyle and Real Estate Expert and Host on American DreamTV\, Nathan continues to inspire and educate others on the intersection of home\, design\, and community. \nNo matter the project\, Nathan brings his passion\, expertise\, and love for all things historic into every endeavor—making him a trusted guide in the world of real estate.
URL:https://gorainmakers.com/event/eat-drink-24-2025-04-29/
LOCATION:Bigsy’s Sports Grill\, 7802 Brookville Road\, Indianapolis\, IN\, 46239\, United States
CATEGORIES:Networking,Social
ATTACH;FMTTYPE=image/png:https://gorainmakers.com/wp-content/uploads/2022/01/EatDrink2022_wide.png
END:VEVENT
END:VCALENDAR