BEGIN:VCALENDAR
VERSION:2.0
PRODID:-//Rainmakers - ECPv6.15.17.1//NONSGML v1.0//EN
CALSCALE:GREGORIAN
METHOD:PUBLISH
X-ORIGINAL-URL:https://gorainmakers.com
X-WR-CALDESC:Events for Rainmakers
REFRESH-INTERVAL;VALUE=DURATION:PT1H
X-Robots-Tag:noindex
X-PUBLISHED-TTL:PT1H
BEGIN:VTIMEZONE
TZID:America/Indiana/Indianapolis
BEGIN:DAYLIGHT
TZOFFSETFROM:-0500
TZOFFSETTO:-0400
TZNAME:EDT
DTSTART:20130310T070000
END:DAYLIGHT
BEGIN:STANDARD
TZOFFSETFROM:-0400
TZOFFSETTO:-0500
TZNAME:EST
DTSTART:20131103T060000
END:STANDARD
BEGIN:DAYLIGHT
TZOFFSETFROM:-0500
TZOFFSETTO:-0400
TZNAME:EDT
DTSTART:20140309T070000
END:DAYLIGHT
BEGIN:STANDARD
TZOFFSETFROM:-0400
TZOFFSETTO:-0500
TZNAME:EST
DTSTART:20141102T060000
END:STANDARD
BEGIN:DAYLIGHT
TZOFFSETFROM:-0500
TZOFFSETTO:-0400
TZNAME:EDT
DTSTART:20150308T070000
END:DAYLIGHT
BEGIN:STANDARD
TZOFFSETFROM:-0400
TZOFFSETTO:-0500
TZNAME:EST
DTSTART:20151101T060000
END:STANDARD
END:VTIMEZONE
BEGIN:VEVENT
DTSTART;TZID=America/Indiana/Indianapolis:20140320T143000
DTEND;TZID=America/Indiana/Indianapolis:20140320T143000
DTSTAMP:20260420T083000
CREATED:20150721T200528Z
LAST-MODIFIED:20150721T200528Z
UID:119287-1395325800-1395325800@gorainmakers.com
SUMMARY:Learn to Barter in your Business and Save Money!
DESCRIPTION:
URL:https://gorainmakers.com/event/learn-to-barter-in-your-business-and-save-money/
END:VEVENT
BEGIN:VEVENT
DTSTART;TZID=America/Indiana/Indianapolis:20140326T103000
DTEND;TZID=America/Indiana/Indianapolis:20140326T103000
DTSTAMP:20260420T083000
CREATED:20150721T200528Z
LAST-MODIFIED:20150721T200528Z
UID:119288-1395829800-1395829800@gorainmakers.com
SUMMARY:Get Appointments with 3 Ideal Clients!
DESCRIPTION:
URL:https://gorainmakers.com/event/get-appointments-with-3-ideal-clients/
END:VEVENT
END:VCALENDAR