BEGIN:VCALENDAR
VERSION:2.0
PRODID:-//Rainmakers - ECPv6.15.17.1//NONSGML v1.0//EN
CALSCALE:GREGORIAN
METHOD:PUBLISH
X-WR-CALNAME:Rainmakers
X-ORIGINAL-URL:https://gorainmakers.com
X-WR-CALDESC:Events for Rainmakers
REFRESH-INTERVAL;VALUE=DURATION:PT1H
X-Robots-Tag:noindex
X-PUBLISHED-TTL:PT1H
BEGIN:VTIMEZONE
TZID:America/Indiana/Indianapolis
BEGIN:DAYLIGHT
TZOFFSETFROM:-0500
TZOFFSETTO:-0400
TZNAME:EDT
DTSTART:20170312T070000
END:DAYLIGHT
BEGIN:STANDARD
TZOFFSETFROM:-0400
TZOFFSETTO:-0500
TZNAME:EST
DTSTART:20171105T060000
END:STANDARD
BEGIN:DAYLIGHT
TZOFFSETFROM:-0500
TZOFFSETTO:-0400
TZNAME:EDT
DTSTART:20180311T070000
END:DAYLIGHT
BEGIN:STANDARD
TZOFFSETFROM:-0400
TZOFFSETTO:-0500
TZNAME:EST
DTSTART:20181104T060000
END:STANDARD
BEGIN:DAYLIGHT
TZOFFSETFROM:-0500
TZOFFSETTO:-0400
TZNAME:EDT
DTSTART:20190310T070000
END:DAYLIGHT
BEGIN:STANDARD
TZOFFSETFROM:-0400
TZOFFSETTO:-0500
TZNAME:EST
DTSTART:20191103T060000
END:STANDARD
END:VTIMEZONE
BEGIN:VEVENT
DTSTART;TZID=America/Indiana/Indianapolis:20180504T073000
DTEND;TZID=America/Indiana/Indianapolis:20180504T090000
DTSTAMP:20260418T182432
CREATED:20161210T033344Z
LAST-MODIFIED:20180502T210344Z
UID:121302-1525419000-1525424400@gorainmakers.com
SUMMARY:LINKS
DESCRIPTION:Rainmakers LINKS is a premier business-focused networking event to wake up to. We secure some of Indy’s top talent to speak and inspire the group. Our speakers have achieved great levels of success and we want to learn from them. That might tell you about the people we attract. Expect to meet sharp\, driven professionals\, committed to lifelong learning. Rainmakers look for mutually beneficial professional relationships. Expect to hear the questions like\, “Who would you like to meet?” or “How specifically can I help you?” Come experience a Friday morning of inspiration and great camaraderie. \nThis Month: Leading Change in Turbulent Times by Dr. Juan “Kiko” Suarez \nLeadership and change are two concepts that are inextricably linked. We live in an era of accelerated pace and disorienting chaos. How can we lead change successfully in such a complex world? In this keynote\, Dr Suarez unveils the secrets that will help you take your leadership career to a whole new level.  \n  \n  \n  \n  \n 
URL:https://gorainmakers.com/event/links-4-2017-04-03-2017-07-07-2017-08-04-2017-10-06-2017-12-01-2018-01-05-2018-05-04/
LOCATION:Lushin & Associates\, 5655 Castle Creek Pkwy N Dr\, Indianapolis\, 46250\, United States
CATEGORIES:LINKS Business Connection
ATTACH;FMTTYPE=image/jpeg:https://gorainmakers.com/wp-content/uploads/2016/12/LINKS-LOGO-NEW.jpg
GEO:39.9148242;-86.071145
X-APPLE-STRUCTURED-LOCATION;VALUE=URI;X-ADDRESS=Lushin & Associates 5655 Castle Creek Pkwy N Dr Indianapolis 46250 United States;X-APPLE-RADIUS=500;X-TITLE=5655 Castle Creek Pkwy N Dr:geo:-86.071145,39.9148242
END:VEVENT
BEGIN:VEVENT
DTSTART;TZID=America/Indiana/Indianapolis:20180509T083000
DTEND;TZID=America/Indiana/Indianapolis:20180509T090000
DTSTAMP:20260418T182432
CREATED:20180419T204216Z
LAST-MODIFIED:20180501T215912Z
UID:121560-1525854600-1525856400@gorainmakers.com
SUMMARY:Virtual Networking
DESCRIPTION:Meet new members without leaving your home or office. It’s simple: sign up for a 30 minute session and network via your webcam. This is a moderated networking session. Share your name\, elevator pitch\, ideal client profile and something unique about yourself. If you have a specific ask\, mention that too! \nMeet up to 6 Rainmakers members per session. After the session\, we’ll send the contact information of the participants so you can follow up. Cheers to efficiency in the game of helping others! \nParticipation is limited to 6 people. You must have a webcam to participate. \nThis is a members only event.
URL:https://gorainmakers.com/event/virtual-networking-5/2018-05-09/
CATEGORIES:Virtual Networking
ATTACH;FMTTYPE=image/jpeg:https://gorainmakers.com/wp-content/uploads/2018/04/Virtual-Networking.jpg
END:VEVENT
BEGIN:VEVENT
DTSTART;TZID=America/Indiana/Indianapolis:20180510T173000
DTEND;TZID=America/Indiana/Indianapolis:20180510T190000
DTSTAMP:20260418T182432
CREATED:20180405T144003Z
LAST-MODIFIED:20180419T173638Z
UID:121525-1525973400-1525978800@gorainmakers.com
SUMMARY:Rainmakers Downtown
DESCRIPTION:Downtown Rainmakers is a quarterly event for professionals\, executives and business owners whose market place and/or related activities has a center of commerce from the downtown area. This event features top city leaders and business people with influence in the Indianapolis business community. Extend your professional network\, meet others who focus on the downtown marketplace\, learn from knowledgeable guest speakers\, and participate in the ever changing business landscape of Indianapolis! \nSpeaker: Bob Schultz\, APR is the Senior Vice President of Marketing\, Communications and Events for Downtown Indy\, Inc.\, a private\, nonprofit organization focused on improving Downtown Indianapolis. \n \nBob is responsible for developing and implementing the organization’s strategic marketing plan to position Downtown as a vibrant\, safe environment in which to live\, learn\, work and play. Among his duties is the coordination and marketing of such major civic events as Downtown Indy\, Inc.’s Circle of Lights as well as Motorcycles on Meridian. He also oversees the activation of Georgia Street and the Downtown Canal. \nEmcee: Our emcee Kristin Aleixo\, Iraq war veteran\, 2-time U.S Army Commendation Medal recipient and professional race car driver\, will emcee this event. He is the author of My Life in Story: The Outside Groove and stars in his own TV show chronicling his journey form the Mazda Road to Indy to the Indy 500.  \n 
URL:https://gorainmakers.com/event/rainmakers-downtown-3/
LOCATION:Round Town Brewery\, 950 S White River Pkwy W Dr\,\, Indianapolis\, 46221\, United States
CATEGORIES:Downtown Indy
ATTACH;FMTTYPE=image/jpeg:https://gorainmakers.com/wp-content/uploads/2018/04/RainmakersDowntownWEB.jpg
GEO:39.7553507;-86.1770037
X-APPLE-STRUCTURED-LOCATION;VALUE=URI;X-ADDRESS=Round Town Brewery 950 S White River Pkwy W Dr Indianapolis 46221 United States;X-APPLE-RADIUS=500;X-TITLE=950 S White River Pkwy W Dr\,:geo:-86.1770037,39.7553507
END:VEVENT
BEGIN:VEVENT
DTSTART;TZID=America/Indiana/Indianapolis:20180515T160000
DTEND;TZID=America/Indiana/Indianapolis:20180515T170000
DTSTAMP:20260418T182432
CREATED:20170925T161436Z
LAST-MODIFIED:20180501T222739Z
UID:121490-1526400000-1526403600@gorainmakers.com
SUMMARY:Marketing Essentials Webinar
DESCRIPTION:The Marketing Essentials Webinar demystifies digital marketing for business owners. Each discussion explores a different facet of marketing and gives attendees actionable advice. Explore practical workflows and up-to-date strategy in a convenient webinar format. Bring your questions for the Q&A following the presentation. \nMay Topic: Anatomy of a Powerful Website Homepage \nThe occurs monthly every 3rd Tuesday.
URL:https://gorainmakers.com/event/marketing-essentials-webinar-3-2017-11-15-2018-01-17-2018-02-20-2018-03-20-2018-04-17-2018-05-15/
CATEGORIES:Webinar
ATTACH;FMTTYPE=image/jpeg:https://gorainmakers.com/wp-content/uploads/2017/09/Marketing-EssentialsWEB.jpg
END:VEVENT
BEGIN:VEVENT
DTSTART;TZID=America/Indiana/Indianapolis:20180517T083000
DTEND;TZID=America/Indiana/Indianapolis:20180517T103000
DTSTAMP:20260418T182432
CREATED:20171211T200243Z
LAST-MODIFIED:20181024T183652Z
UID:121377-1526545800-1526553000@gorainmakers.com
SUMMARY:Business Owner Roundtable
DESCRIPTION:At this roundtable\, you will identify your top-of-mind challenges and search for solutions. Each month\, Tommy Richardson\, Director of Training and Development\, will feature a new discussion topic in the areas of people\, processes\, leadership and general topics relevant to business owners. Build relationships and get insight on key topics that affect you and your business. \nNovember Topic: Quest for a High Performance\n\nResearch shows 8 things that separate the average/below performer from the high/peak performers.\nLike to know what they are?  We will discuss the following.\n\n\nHow many have you incorporated into your personal and business life?\nHow to increase motivation\nHow to build relationships\nHow to improve your mindset to reach great results – now and in the coming year!\n\n\nDon’t miss this session! Helps with a strong finish for 2018 and a fast start to 2019!\n  \n 
URL:https://gorainmakers.com/event/business-owner-roundtable-3-2018-03-15-2018-04-19-2018-05-17/2018-05-17/
LOCATION:Lushin & Associates\, 5655 Castle Creek Pkwy N Dr\, Indianapolis\, 46250\, United States
CATEGORIES:Roundtable
ATTACH;FMTTYPE=image/jpeg:https://gorainmakers.com/wp-content/uploads/2017/12/Business-Owner-Roundtable.jpg
GEO:39.9148242;-86.071145
X-APPLE-STRUCTURED-LOCATION;VALUE=URI;X-ADDRESS=Lushin & Associates 5655 Castle Creek Pkwy N Dr Indianapolis 46250 United States;X-APPLE-RADIUS=500;X-TITLE=5655 Castle Creek Pkwy N Dr:geo:-86.071145,39.9148242
END:VEVENT
BEGIN:VEVENT
DTSTART;TZID=America/Indiana/Indianapolis:20180518T103000
DTEND;TZID=America/Indiana/Indianapolis:20180518T120000
DTSTAMP:20260418T182432
CREATED:20160825T174416Z
LAST-MODIFIED:20180507T193236Z
UID:121414-1526639400-1526644800@gorainmakers.com
SUMMARY:Empowering Women Roundtable
DESCRIPTION:  \nNadine McGowan\, President & Found of Purposeful Living\, Inc.\, will lead a monthly roundtable for women in Rainmakers to meet\, develop and strengthen relationships. Rainmakers\, as an organization\, is passionate about helping professionals build authentic relationships that enable them to reach new levels of success in their business and personal lives. This session is for women of all ages and stages of professional accomplishment. \nTopic: Networking with Purpose \nPurposeful Living\, Inc. is here to serve the modern woman; the woman who looks like she has it all together but behind closed doors she’s hurting\, searching\, or lonely. We are here to love\, to walk alongside\, and to encourage women to be all God created us to be: peaceful\, joyful\, and authentic. \nEach month we will spend time getting to know each other and our business needs while engaging in a meaningful discussion topic. \nThis event occurs monthly on the 3rd Friday
URL:https://gorainmakers.com/event/empowering-women-roundtable-2-2017-01-25-2017-11-22-2018-05-18/
LOCATION:Tilly’s Tea Room\, 8701 Keystone Crossing\, 3rd Fl. Saks Dept. Store\, Indianapolis\, IN\, 46240
CATEGORIES:Empowering Women Roundtable
ATTACH;FMTTYPE=image/jpeg:https://gorainmakers.com/wp-content/uploads/2016/08/Empowering-Women-Option2.jpg
GEO:39.9143623;-86.1072716
X-APPLE-STRUCTURED-LOCATION;VALUE=URI;X-ADDRESS=Tilly’s Tea Room 8701 Keystone Crossing 3rd Fl. Saks Dept. Store Indianapolis IN 46240;X-APPLE-RADIUS=500;X-TITLE=8701 Keystone Crossing\, 3rd Fl. Saks Dept. Store:geo:-86.1072716,39.9143623
END:VEVENT
BEGIN:VEVENT
DTSTART;TZID=America/Indiana/Indianapolis:20180522T080000
DTEND;TZID=America/Indiana/Indianapolis:20180522T093000
DTSTAMP:20260418T182432
CREATED:20171211T193134Z
LAST-MODIFIED:20180501T214926Z
UID:121364-1526976000-1526981400@gorainmakers.com
SUMMARY:Christian Professionals (RCP)
DESCRIPTION:Recognizing our workplace is also our mission field\, we are here to encourage one another as we learn and apply biblical principles at work. \nRainmakers Christian Professionals (RCP) is an intimate networking experience for Christian business professionals. Every monthly event provides teaching and small group discussion. RCP is a platform to build and strengthen your relationship with God and your relationships with people. \nThis month: Danny Marquez\, City Life   \nDanny Marquez was abandoned as a child. Due to a series of bad decisions he made as a teen\, he spent more than a decade behind bars for crimes he is embarrassed to talk about now – drug dealing\, armed robbery\, assault. Today\, he’s armed with a message of hope and compassion\, fighting to keep youth on Indy’s west side from going down the same path. \nCity Life is a core ministry of Central Indiana Youth For Christ. We connect with at-risk\, urban teens in Indianapolis to share God’s truth and to equip them with the tools needed to experience real life change.
URL:https://gorainmakers.com/event/christian-professionals-rcp-2-2018-02-27-2018-03-27-2018-05-22/
LOCATION:Indiana Wesleyan University – Indianapolis North campus\, 3777 Priority Way South Drive\, Indianapolis\, IN\, 46240\, United States
CATEGORIES:Faith Based
ATTACH;FMTTYPE=image/jpeg:https://gorainmakers.com/wp-content/uploads/2017/12/Christian-Professionals-LOGO-WEB.jpg
GEO:39.9191828;-86.1018606
X-APPLE-STRUCTURED-LOCATION;VALUE=URI;X-ADDRESS=Indiana Wesleyan University – Indianapolis North campus 3777 Priority Way South Drive Indianapolis IN 46240 United States;X-APPLE-RADIUS=500;X-TITLE=3777 Priority Way South Drive:geo:-86.1018606,39.9191828
END:VEVENT
BEGIN:VEVENT
DTSTART;TZID=America/Indiana/Indianapolis:20180522T163000
DTEND;TZID=America/Indiana/Indianapolis:20180522T180000
DTSTAMP:20260418T182432
CREATED:20171211T182009Z
LAST-MODIFIED:20180510T192202Z
UID:121348-1527006600-1527012000@gorainmakers.com
SUMMARY:Eat + Drink May
DESCRIPTION:Rainmakers Eat + Drink is our monthly social event. We travel all around the city to experience Indy’s best independent restaurant establishments. We conduct a short icebreaker activity to help everyone meet. Bring a friend or colleague and participate in a relaxed networking environment while enjoying the great tastes of Indy. \nNote: We’re responsible for finding a great restaurant! You’re responsible for your food and drink! \nExplore this month’s restaurant pick: REVOLUCION
URL:https://gorainmakers.com/event/eat-drink-may/
LOCATION:REVOLUCION\, 1132 Prospect Street\, Indianapolis\, Indiana\, 46203\, United States
CATEGORIES:Social
ATTACH;FMTTYPE=image/jpeg:https://gorainmakers.com/wp-content/uploads/2017/12/Eat-DrinkWEB.jpg
GEO:39.7525328;-86.138768
X-APPLE-STRUCTURED-LOCATION;VALUE=URI;X-ADDRESS=REVOLUCION 1132 Prospect Street Indianapolis Indiana 46203 United States;X-APPLE-RADIUS=500;X-TITLE=1132 Prospect Street:geo:-86.138768,39.7525328
END:VEVENT
END:VCALENDAR