BEGIN:VCALENDAR
VERSION:2.0
PRODID:-//Rainmakers - ECPv6.15.17.1//NONSGML v1.0//EN
CALSCALE:GREGORIAN
METHOD:PUBLISH
X-ORIGINAL-URL:https://gorainmakers.com
X-WR-CALDESC:Events for Rainmakers
REFRESH-INTERVAL;VALUE=DURATION:PT1H
X-Robots-Tag:noindex
X-PUBLISHED-TTL:PT1H
BEGIN:VTIMEZONE
TZID:America/Indiana/Indianapolis
BEGIN:DAYLIGHT
TZOFFSETFROM:-0500
TZOFFSETTO:-0400
TZNAME:EDT
DTSTART:20170312T070000
END:DAYLIGHT
BEGIN:STANDARD
TZOFFSETFROM:-0400
TZOFFSETTO:-0500
TZNAME:EST
DTSTART:20171105T060000
END:STANDARD
BEGIN:DAYLIGHT
TZOFFSETFROM:-0500
TZOFFSETTO:-0400
TZNAME:EDT
DTSTART:20180311T070000
END:DAYLIGHT
BEGIN:STANDARD
TZOFFSETFROM:-0400
TZOFFSETTO:-0500
TZNAME:EST
DTSTART:20181104T060000
END:STANDARD
BEGIN:DAYLIGHT
TZOFFSETFROM:-0500
TZOFFSETTO:-0400
TZNAME:EDT
DTSTART:20190310T070000
END:DAYLIGHT
BEGIN:STANDARD
TZOFFSETFROM:-0400
TZOFFSETTO:-0500
TZNAME:EST
DTSTART:20191103T060000
END:STANDARD
END:VTIMEZONE
BEGIN:VEVENT
DTSTART;TZID=America/Indiana/Indianapolis:20180802T083000
DTEND;TZID=America/Indiana/Indianapolis:20180802T090000
DTSTAMP:20260418T223210
CREATED:20180727T181431Z
LAST-MODIFIED:20180727T181431Z
UID:121649-1533198600-1533200400@gorainmakers.com
SUMMARY:Virtual Networking August
DESCRIPTION:Meet new members without leaving your home or office. It’s simple: sign up for a 30 minute session and network via your webcam. This is a moderated networking session. Share your name\, elevator pitch\, ideal client profile and something unique about yourself. If you have a specific ask\, mention that too! \nMeet up to 6 Rainmakers members per session. After the session\, we’ll send the contact information of the participants so you can follow up. Cheers to efficiency in the game of helping others! \nParticipation is limited to 6 people. You must have a webcam to participate. \nThis is a members only event.
URL:https://gorainmakers.com/event/virtual-networking-august/2018-08-02/
CATEGORIES:Virtual Networking
ATTACH;FMTTYPE=image/jpeg:https://gorainmakers.com/wp-content/uploads/2018/04/Virtual-Networking.jpg
END:VEVENT
BEGIN:VEVENT
DTSTART;TZID=America/Indiana/Indianapolis:20180803T073000
DTEND;TZID=America/Indiana/Indianapolis:20180803T090000
DTSTAMP:20260418T223210
CREATED:20161210T033344Z
LAST-MODIFIED:20180627T234739Z
UID:121303-1533281400-1533286800@gorainmakers.com
SUMMARY:LINKS
DESCRIPTION:Rainmakers LINKS is a premier business-focused networking event to wake up to. We secure some of Indy’s top talent to speak and inspire the group. Our speakers have achieved great levels of success and we want to learn from them. That might tell you about the people we attract. Expect to meet sharp\, driven professionals\, committed to lifelong learning. Rainmakers look for mutually beneficial professional relationships. Expect to hear the questions like\, “Who would you like to meet?” or “How specifically can I help you?” Come experience a Friday morning of inspiration and great camaraderie. \nTopic:Failing Your Way to $8\,000\,000 \nSpeaker: Paul Lushin \n \nPaul Lushin\, a serial entrepreneur\, is the Founder and CEO of Lushin\, Inc.\, a sales force development company. Paul works with presidents\, CEOs\, and business owners\, utilizing a professional sales and management philosophy that emphasizes the importance of not only making a living\, but also making a difference.
URL:https://gorainmakers.com/event/links-4-2017-04-03-2017-07-07-2017-08-04-2017-10-06-2017-12-01-2018-01-05-2018-08-03/
LOCATION:Lushin & Associates\, 5655 Castle Creek Pkwy N Dr\, Indianapolis\, 46250\, United States
CATEGORIES:LINKS Business Connection
ATTACH;FMTTYPE=image/jpeg:https://gorainmakers.com/wp-content/uploads/2016/12/LINKS-LOGO-NEW.jpg
GEO:39.9148242;-86.071145
X-APPLE-STRUCTURED-LOCATION;VALUE=URI;X-ADDRESS=Lushin & Associates 5655 Castle Creek Pkwy N Dr Indianapolis 46250 United States;X-APPLE-RADIUS=500;X-TITLE=5655 Castle Creek Pkwy N Dr:geo:-86.071145,39.9148242
END:VEVENT
BEGIN:VEVENT
DTSTART;TZID=America/Indiana/Indianapolis:20180809T173000
DTEND;TZID=America/Indiana/Indianapolis:20180809T190000
DTSTAMP:20260418T223210
CREATED:20180614T155608Z
LAST-MODIFIED:20180614T155608Z
UID:121610-1533835800-1533841200@gorainmakers.com
SUMMARY:Rainmakers Downtown: Meet and Greet
DESCRIPTION:Downtown Rainmakers: Meet and Greet attracts professionals\, executives and business owners whose market place and/or related activities has a center of commerce from the downtown area. This event features top city leaders and business people with influence in the Indianapolis business community. Extend your professional network\, meet others who focus on the downtown marketplace\, learn from knowledgeable guest speakers\, and participate in the ever changing business landscape of Indianapolis! \n 
URL:https://gorainmakers.com/event/rainmakers-downtown-meet-and-greet/
LOCATION:Gallery Forty Two\, 42 East Washington Street\, Indianapolis\, 46204
CATEGORIES:Downtown Indy
ATTACH;FMTTYPE=image/jpeg:https://gorainmakers.com/wp-content/uploads/2018/04/RainmakersDowntownWEB.jpg
GEO:39.7673582;-86.1566718
X-APPLE-STRUCTURED-LOCATION;VALUE=URI;X-ADDRESS=Gallery Forty Two 42 East Washington Street Indianapolis 46204;X-APPLE-RADIUS=500;X-TITLE=42 East Washington Street:geo:-86.1566718,39.7673582
END:VEVENT
BEGIN:VEVENT
DTSTART;TZID=America/Indiana/Indianapolis:20180816T090000
DTEND;TZID=America/Indiana/Indianapolis:20180816T103000
DTSTAMP:20260418T223210
CREATED:20171211T200243Z
LAST-MODIFIED:20180801T203404Z
UID:121447-1534410000-1534415400@gorainmakers.com
SUMMARY:Business Owner Roundtable
DESCRIPTION:At this roundtable\, you will identify your top-of-mind challenges and search for solutions. Each month\, Tommy Richardson\, Director of Training and Development\, will feature a new discussion topic in the areas of people\, processes\, leadership and general topics relevant to business owners. Build relationships and get insight on key topics that affect you and your business. \nThis month: Discover the Positive Characteristics of The Ambivert Behavior and How They Lead to Stronger Relationships \n  \n 
URL:https://gorainmakers.com/event/business-owner-roundtable-3-2018-03-15-2018-04-19-2018-05-17-2018-08-16/
LOCATION:Insperity\, 8801 River Crossing Blvd - Suite 160\, Indianapolis \, IN\, 46240\, United States
CATEGORIES:Roundtable
ATTACH;FMTTYPE=image/jpeg:https://gorainmakers.com/wp-content/uploads/2017/12/Business-Owner-Roundtable.jpg
GEO:39.9148161;-86.1064974
X-APPLE-STRUCTURED-LOCATION;VALUE=URI;X-ADDRESS=Insperity 8801 River Crossing Blvd - Suite 160 Indianapolis  IN 46240 United States;X-APPLE-RADIUS=500;X-TITLE=8801 River Crossing Blvd - Suite 160:geo:-86.1064974,39.9148161
END:VEVENT
BEGIN:VEVENT
DTSTART;TZID=America/Indiana/Indianapolis:20180817T103000
DTEND;TZID=America/Indiana/Indianapolis:20180817T120000
DTSTAMP:20260418T223210
CREATED:20180614T163348Z
LAST-MODIFIED:20180821T232517Z
UID:121611-1534501800-1534507200@gorainmakers.com
SUMMARY:Empowering Women Roundtable
DESCRIPTION:Nadine McGowan\, President & Founder of Purposeful Living\, Inc.\, will lead a monthly roundtable for women in Rainmakers to meet\, develop and strengthen relationships. Rainmakers\, as an organization\, is passionate about helping professionals build authentic relationships that enable them to reach new levels of success in their business and personal lives. This session is for women of all ages and stages of professional accomplishment. \nTopic: Effective Elevator Pitch \nPurposeful Living\, Inc. is here to serve the modern woman; the woman who looks like she has it all together but behind closed doors she’s hurting\, searching\, or lonely. We are here to love\, to walk alongside\, and to encourage women to be all God created us to be: peaceful\, joyful\, and authentic. \nEach month we will spend time getting to know each other and our business needs while engaging in a meaningful discussion topic. \nThis event occurs monthly on the 3rd Friday \n 
URL:https://gorainmakers.com/event/empowering-women-roundtable-3/2018-08-17/
LOCATION:Tilly’s Tea Room\, 8701 Keystone Crossing\, 3rd Fl. Saks Dept. Store\, Indianapolis\, IN\, 46240
CATEGORIES:Empowering Women Roundtable
ATTACH;FMTTYPE=image/jpeg:https://gorainmakers.com/wp-content/uploads/2016/08/Empowering-Women-Option2.jpg
GEO:39.9143623;-86.1072716
X-APPLE-STRUCTURED-LOCATION;VALUE=URI;X-ADDRESS=Tilly’s Tea Room 8701 Keystone Crossing 3rd Fl. Saks Dept. Store Indianapolis IN 46240;X-APPLE-RADIUS=500;X-TITLE=8701 Keystone Crossing\, 3rd Fl. Saks Dept. Store:geo:-86.1072716,39.9143623
END:VEVENT
BEGIN:VEVENT
DTSTART;TZID=America/Indiana/Indianapolis:20180828T080000
DTEND;TZID=America/Indiana/Indianapolis:20180828T093000
DTSTAMP:20260418T223210
CREATED:20171211T193134Z
LAST-MODIFIED:20180816T205832Z
UID:121492-1535443200-1535448600@gorainmakers.com
SUMMARY:Christian Professionals (RCP)
DESCRIPTION:Recognizing our workplace is also our mission field\, we are here to encourage one another as we learn and apply biblical principles at work. \nRainmakers Christian Professionals (RCP) is an intimate networking experience for Christian business professionals. Every monthly event provides teaching and small group discussion. RCP is a platform to build and strengthen your relationship with God and your relationships with people. \nSpeaker: Paul Estridge. Topic: On the Spot – a Q&A with Paul Estridge \nPaul grew up in the home building business in the Indianapolis market and has 35 years of experience in the industry. Paul’s companies have built over 8\,000 homes and developed over 30 neighborhoods in central Indiana. In 2007 Paul’s family founded the Estridge Family Trust Foundation\, which has granted over $4 million to charitable organizations in Indiana.
URL:https://gorainmakers.com/event/christian-professionals-rcp-august/
LOCATION:Indiana Wesleyan University – Indianapolis North campus\, 3777 Priority Way South Drive\, Indianapolis\, IN\, 46240\, United States
CATEGORIES:Faith Based
ATTACH;FMTTYPE=image/jpeg:https://gorainmakers.com/wp-content/uploads/2017/12/Christian-Professionals-LOGO-WEB.jpg
GEO:39.9191828;-86.1018606
X-APPLE-STRUCTURED-LOCATION;VALUE=URI;X-ADDRESS=Indiana Wesleyan University – Indianapolis North campus 3777 Priority Way South Drive Indianapolis IN 46240 United States;X-APPLE-RADIUS=500;X-TITLE=3777 Priority Way South Drive:geo:-86.1018606,39.9191828
END:VEVENT
END:VCALENDAR