BEGIN:VCALENDAR
VERSION:2.0
PRODID:-//Rainmakers - ECPv6.15.17.1//NONSGML v1.0//EN
CALSCALE:GREGORIAN
METHOD:PUBLISH
X-ORIGINAL-URL:https://gorainmakers.com
X-WR-CALDESC:Events for Rainmakers
REFRESH-INTERVAL;VALUE=DURATION:PT1H
X-Robots-Tag:noindex
X-PUBLISHED-TTL:PT1H
BEGIN:VTIMEZONE
TZID:America/Indiana/Indianapolis
BEGIN:DAYLIGHT
TZOFFSETFROM:-0500
TZOFFSETTO:-0400
TZNAME:EDT
DTSTART:20170312T070000
END:DAYLIGHT
BEGIN:STANDARD
TZOFFSETFROM:-0400
TZOFFSETTO:-0500
TZNAME:EST
DTSTART:20171105T060000
END:STANDARD
BEGIN:DAYLIGHT
TZOFFSETFROM:-0500
TZOFFSETTO:-0400
TZNAME:EDT
DTSTART:20180311T070000
END:DAYLIGHT
BEGIN:STANDARD
TZOFFSETFROM:-0400
TZOFFSETTO:-0500
TZNAME:EST
DTSTART:20181104T060000
END:STANDARD
BEGIN:DAYLIGHT
TZOFFSETFROM:-0500
TZOFFSETTO:-0400
TZNAME:EDT
DTSTART:20190310T070000
END:DAYLIGHT
BEGIN:STANDARD
TZOFFSETFROM:-0400
TZOFFSETTO:-0500
TZNAME:EST
DTSTART:20191103T060000
END:STANDARD
END:VTIMEZONE
BEGIN:VEVENT
DTSTART;TZID=America/Indiana/Indianapolis:20181108T083000
DTEND;TZID=America/Indiana/Indianapolis:20181108T103000
DTSTAMP:20260422T185424
CREATED:20181009T000447Z
LAST-MODIFIED:20181101T175652Z
UID:121720-1541665800-1541673000@gorainmakers.com
SUMMARY:Rainmakers Business Owners Advisory Roundtable
DESCRIPTION:Join us for an opportunity to experience the beneﬁts of a professionally facilitated Executive Advisory Board and tap in to the same powerful perspectives the CEO’s of publicly-traded companies enjoy on a regular basis. \nWe invite you to bring the biggest business challenge or opportunity you’re facing and leave with meaningful\, actionable advice to improve your business. Participants of Executive Advisory Boards are more successful than their competitors\, and their businesses grow at a rate that is more than double the national average because of the best practices they learn and valuable support they receive from other business professionals in a safe and confidential environment. \nThis Board Meeting will be facilitated by Nick Pruner\, the local owner of The Alternative Board. \n 
URL:https://gorainmakers.com/event/rainmakers-business-owners-advisory-roundtable/
LOCATION:The Watermark Group\, 5975 Castle Creek Parkway North Drive #Suite 355\, Indianapolis\, IN\, 46250\, United States
CATEGORIES:Roundtable
END:VEVENT
BEGIN:VEVENT
DTSTART;TZID=America/Indiana/Indianapolis:20181114T083000
DTEND;TZID=America/Indiana/Indianapolis:20181114T090000
DTSTAMP:20260422T185425
CREATED:20181024T182813Z
LAST-MODIFIED:20181105T203819Z
UID:121741-1542184200-1542186000@gorainmakers.com
SUMMARY:Virtual Networking November
DESCRIPTION:Meet new members without leaving your home or office. It’s simple: sign up for a 30 minute session and network via your webcam. This is a moderated networking session. Share your name\, elevator pitch\, ideal client profile and something unique about yourself. If you have a specific ask\, mention that too! \nMeet up to 6 Rainmakers members per session. After the session\, we’ll send the contact information of the participants so you can follow up. Cheers to efficiency in the game of helping others! \nParticipation is limited to 6 people. You must have a webcam to participate. \nThis is a members only event.
URL:https://gorainmakers.com/event/virtual-networking-november/2018-11-14/
CATEGORIES:Virtual Networking
ATTACH;FMTTYPE=image/jpeg:https://gorainmakers.com/wp-content/uploads/2018/04/Virtual-Networking.jpg
END:VEVENT
BEGIN:VEVENT
DTSTART;TZID=America/Indiana/Indianapolis:20181128T083000
DTEND;TZID=America/Indiana/Indianapolis:20181128T090000
DTSTAMP:20260422T185425
CREATED:20181024T183217Z
LAST-MODIFIED:20181105T203958Z
UID:121742-1543393800-1543395600@gorainmakers.com
SUMMARY:Virtual Networking November
DESCRIPTION:Meet new members without leaving your home or office. It’s simple: sign up for a 30 minute session and network via your webcam. This is a moderated networking session. Share your name\, elevator pitch\, ideal client profile and something unique about yourself. If you have a specific ask\, mention that too! \nMeet up to 6 Rainmakers members per session. After the session\, we’ll send the contact information of the participants so you can follow up. Cheers to efficiency in the game of helping others! \nParticipation is limited to 6 people. You must have a webcam to participate. \nThis is a members only event.
URL:https://gorainmakers.com/event/virtual-networking-november-2/2018-11-28/
CATEGORIES:Virtual Networking
ATTACH;FMTTYPE=image/jpeg:https://gorainmakers.com/wp-content/uploads/2018/04/Virtual-Networking.jpg
END:VEVENT
BEGIN:VEVENT
DTSTART;TZID=America/Indiana/Indianapolis:20181128T173000
DTEND;TZID=America/Indiana/Indianapolis:20181128T190000
DTSTAMP:20260422T185425
CREATED:20180628T161530Z
LAST-MODIFIED:20181101T180626Z
UID:121689-1543426200-1543431600@gorainmakers.com
SUMMARY:Rainmakers Downtown
DESCRIPTION:Downtown Rainmakers is a quarterly event for professionals\, executives and business owners whose market place and/or related activities has a center of commerce from the downtown area. This event features top city leaders and business people with influence in the Indianapolis business community. Extend your professional network\, meet others who focus on the downtown marketplace\, learn from knowledgeable guest speakers\, and participate in the ever changing business landscape of Indianapolis! \n  \n\nNovember Topic:\nJazzin Up Indianapolis’ Economic Strategy \nThis event will be a discussion of the Music Strategy project for the Indy Chamber\, which will study the economy and ecology of Indianapolis’s music scene and bring together businesses\, artists and other stakeholders from around the region to form a cohesive music strategy. \n  \nOur Speaker: \n \nJim Rawlinson\nRegulatory & Permitting Ombudsman at Indy Chamber \nJim has been a part of the Develop Indy team at the Indy Chamber since 2015\, serving as the Regulatory and Permitting Ombudsman. This position is a partnership between the Indy Chamber and the City of Indianapolis\, helping businesses get through the regulatory process quickly and efficiently\, as well as helping City administration better understand and respond to the needs of businesses. \n  \nOur Featured Non-Profit Organization \n \n \nMusical Family Tree is a 501(c)3 nonprofit organization with the mission of Spreading Indiana Music.  By serving Indiana’s music communities\, MFT aims to help build a more sustainable and world-recognized music scene in Indiana.   We accomplish this by preserving\, documenting\, and promoting Indiana music\, past and present. \n 
URL:https://gorainmakers.com/event/rainmakers-downtown-4-2018-12-06/2018-11-28/
LOCATION:Columbia Club\, 121 Monument Circle\, Indianapolis\, IN\, 46204\, United States
CATEGORIES:Downtown Indy
ATTACH;FMTTYPE=image/jpeg:https://gorainmakers.com/wp-content/uploads/2018/04/RainmakersDowntownWEB.jpg
END:VEVENT
END:VCALENDAR