BEGIN:VCALENDAR
VERSION:2.0
PRODID:-//Rainmakers - ECPv6.15.17.1//NONSGML v1.0//EN
CALSCALE:GREGORIAN
METHOD:PUBLISH
X-WR-CALNAME:Rainmakers
X-ORIGINAL-URL:https://gorainmakers.com
X-WR-CALDESC:Events for Rainmakers
REFRESH-INTERVAL;VALUE=DURATION:PT1H
X-Robots-Tag:noindex
X-PUBLISHED-TTL:PT1H
BEGIN:VTIMEZONE
TZID:America/Indiana/Indianapolis
BEGIN:DAYLIGHT
TZOFFSETFROM:-0500
TZOFFSETTO:-0400
TZNAME:EDT
DTSTART:20170312T070000
END:DAYLIGHT
BEGIN:STANDARD
TZOFFSETFROM:-0400
TZOFFSETTO:-0500
TZNAME:EST
DTSTART:20171105T060000
END:STANDARD
BEGIN:DAYLIGHT
TZOFFSETFROM:-0500
TZOFFSETTO:-0400
TZNAME:EDT
DTSTART:20180311T070000
END:DAYLIGHT
BEGIN:STANDARD
TZOFFSETFROM:-0400
TZOFFSETTO:-0500
TZNAME:EST
DTSTART:20181104T060000
END:STANDARD
BEGIN:DAYLIGHT
TZOFFSETFROM:-0500
TZOFFSETTO:-0400
TZNAME:EDT
DTSTART:20190310T070000
END:DAYLIGHT
BEGIN:STANDARD
TZOFFSETFROM:-0400
TZOFFSETTO:-0500
TZNAME:EST
DTSTART:20191103T060000
END:STANDARD
END:VTIMEZONE
BEGIN:VEVENT
DTSTART;TZID=America/Indiana/Indianapolis:20181205T073000
DTEND;TZID=America/Indiana/Indianapolis:20181205T090000
DTSTAMP:20260422T172757
CREATED:20180920T190703Z
LAST-MODIFIED:20180920T190703Z
UID:121707-1543995000-1544000400@gorainmakers.com
SUMMARY:Putting Your Best Words Forward December
DESCRIPTION:Building a network is critical to all business leaders. \nLet’s take a strategic approach to transform a simple introduction into a conversation that builds relationships\, referrals\, and sales results. \nLisa Hudson\, President of The Growth Coach of Carmel and H7 Network Indiana Territory Director\, will lead a monthly round table focused on the art of developing a USP (Unique Selling Proposition) and 60-second introductions to encourage others to want to learn more about you and your business.
URL:https://gorainmakers.com/event/putting-your-best-words-forward-december/
LOCATION:Lushin & Associates\, 5655 Castle Creek Pkwy N Dr\, Indianapolis\, 46250\, United States
CATEGORIES:Training
ATTACH;FMTTYPE=image/jpeg:https://gorainmakers.com/wp-content/uploads/2018/01/USPfor-Website.jpg
GEO:39.9148242;-86.071145
X-APPLE-STRUCTURED-LOCATION;VALUE=URI;X-ADDRESS=Lushin & Associates 5655 Castle Creek Pkwy N Dr Indianapolis 46250 United States;X-APPLE-RADIUS=500;X-TITLE=5655 Castle Creek Pkwy N Dr:geo:-86.071145,39.9148242
END:VEVENT
BEGIN:VEVENT
DTSTART;TZID=America/Indiana/Indianapolis:20181206T083000
DTEND;TZID=America/Indiana/Indianapolis:20181206T100000
DTSTAMP:20260422T172757
CREATED:20181015T210807Z
LAST-MODIFIED:20181015T210807Z
UID:121723-1544085000-1544090400@gorainmakers.com
SUMMARY:Social Selling Code: Using LinkedIn and Facebook to Sell
DESCRIPTION:By now\, most sales-minded CEOs\, business owners\, presidents\, managers\, and account executives realize there are sales opportunities rotting away on social media sites such as LinkedIn and Facebook. And they have either tried and failed\, or not tried at all\, to access these opportunities. If you are frustrated with social selling\, are looking to crack the social selling code\, and believe there are deals to be mined in the digital abyss\, join us for this 90-minute interactive workshop. \nThis session is especially for those who prefer to sell in a non-salesy\, non-pitchy\, and non-abrasive manner. We will discuss ….. \nDISCLAIMER: This is NOT a 90-minute sales pitch for a digital marketing program or agency. This is an interactive workshop and no products or services will be pitched to participants.
URL:https://gorainmakers.com/event/social-selling-code-using-linkedin-and-facebook-to-sell/
LOCATION:Lushin & Associates\, 5655 Castle Creek Pkwy N Dr\, Indianapolis\, 46250\, United States
GEO:39.9148242;-86.071145
X-APPLE-STRUCTURED-LOCATION;VALUE=URI;X-ADDRESS=Lushin & Associates 5655 Castle Creek Pkwy N Dr Indianapolis 46250 United States;X-APPLE-RADIUS=500;X-TITLE=5655 Castle Creek Pkwy N Dr:geo:-86.071145,39.9148242
END:VEVENT
BEGIN:VEVENT
DTSTART;TZID=America/Indiana/Indianapolis:20181211T163000
DTEND;TZID=America/Indiana/Indianapolis:20181211T200000
DTSTAMP:20260422T172757
CREATED:20181018T224437Z
LAST-MODIFIED:20181102T170240Z
UID:121732-1544545800-1544558400@gorainmakers.com
SUMMARY:Holiday Eat + Drink
DESCRIPTION:Rainmakers Eat + Drink is our monthly social event. We travel all around the city to experience Indy’s best independent restaurant establishments. We conduct a short icebreaker activity to help everyone meet. Bring a friend or colleague and participate in a relaxed networking environment while enjoying the great tastes of Indy. \nExplore December’s restaurant pick: Matteo’s \nWhat: Rainmakers Holiday Eat + Drink \nWhen: Tuesday\, December 11\, 2018 \nWhere: Matteo’s \n40 N 9th St. \nNoblesville\, IN 46060 \nTime: 4:30 p.m. to 6:30 p.m. Cocktail Hour \n6:30 p.m. Wine Pairing Dinner \n\n\nIn case you just didn’t get enough of Matteo’s at our October Eat + Drink event\, we are back again! At our special Holiday Event you will enjoy fabulous wine and a 4-course meal ($65 covers wine\, dinner\, tax\, and gratuity).\nAt your table\, you will be accompanied by a wine distributor who will be there to explain the wines that pair best with each course.\n\nCourse 1 – Antipasto\nCourse 2 – Pasta\nCourse 3 – Protein\nCourse 4 – Dessert\n\n*If someone requests a special meal\, please let us know ahead of time*\n\n\nAs you walk into the room you will receive a glass of Prosecco\, as well as have the option to buy wine that night throughout the evening.
URL:https://gorainmakers.com/event/holiday-eat-drink-2/2018-12-11/
LOCATION:Matteo’s Italian Restaurant\, 40 N 9th St.\, Noblesville\, IN\, 46060\, United States
CATEGORIES:Social
ATTACH;FMTTYPE=image/jpeg:https://gorainmakers.com/wp-content/uploads/2017/12/Eat-DrinkWEB.jpg
END:VEVENT
BEGIN:VEVENT
DTSTART;TZID=America/Indiana/Indianapolis:20181218T080000
DTEND;TZID=America/Indiana/Indianapolis:20181218T093000
DTSTAMP:20260422T172757
CREATED:20181207T152130Z
LAST-MODIFIED:20181207T152130Z
UID:121816-1545120000-1545125400@gorainmakers.com
SUMMARY:Rainmakers Christian Professionals (RCP)
DESCRIPTION:Recognizing our workplace is also our mission field\, we are here to encourage one another as we learn and apply biblical principles at work. \nRainmakers Christian Professionals (RCP) is an intimate networking experience for Christian business professionals. Every monthly event provides teaching and small group discussion. RCP is a platform to build and strengthen your relationship with God and your relationships with people. \nDecember Topic: Networking With A Twist
URL:https://gorainmakers.com/event/rainmakers-christian-professionals-rcp-2/
LOCATION:Indiana Wesleyan University – Indianapolis North campus\, 3777 Priority Way South Drive\, Indianapolis\, IN\, 46240\, United States
CATEGORIES:Faith Based
ATTACH;FMTTYPE=image/jpeg:https://gorainmakers.com/wp-content/uploads/2017/12/Christian-Professionals-LOGO-WEB.jpg
GEO:39.9191828;-86.1018606
X-APPLE-STRUCTURED-LOCATION;VALUE=URI;X-ADDRESS=Indiana Wesleyan University – Indianapolis North campus 3777 Priority Way South Drive Indianapolis IN 46240 United States;X-APPLE-RADIUS=500;X-TITLE=3777 Priority Way South Drive:geo:-86.1018606,39.9191828
END:VEVENT
BEGIN:VEVENT
DTSTART;TZID=America/Indiana/Indianapolis:20181221T103000
DTEND;TZID=America/Indiana/Indianapolis:20181221T120000
DTSTAMP:20260422T172757
CREATED:20180614T163348Z
LAST-MODIFIED:20181203T154001Z
UID:121615-1545388200-1545393600@gorainmakers.com
SUMMARY:Empowering Women Roundtable
DESCRIPTION:Nadine McGowan\, President & Found of Purposeful Living\, Inc.\, will lead a monthly roundtable for women in Rainmakers to meet\, develop and strengthen relationships. Rainmakers\, as an organization\, is passionate about helping professionals build authentic relationships that enable them to reach new levels of success in their business and personal lives. This session is for women of all ages and stages of professional accomplishment. \nTopic: Goal Setting \nPurposeful Living\, Inc. is here to serve the modern woman; the woman who looks like she has it all together but behind closed doors she’s hurting\, searching\, or lonely. We are here to love\, to walk alongside\, and to encourage women to be all God created us to be: peaceful\, joyful\, and authentic. \nEach month we will spend time getting to know each other and our business needs while engaging in a meaningful discussion topic. \nThis event occurs monthly on the 3rd Friday \n 
URL:https://gorainmakers.com/event/empowering-women-roundtable-3-2018-12-21/
LOCATION:Tilly’s Tea Room\, 8701 Keystone Crossing\, 3rd Fl. Saks Dept. Store\, Indianapolis\, IN\, 46240
CATEGORIES:Empowering Women Roundtable
ATTACH;FMTTYPE=image/jpeg:https://gorainmakers.com/wp-content/uploads/2016/08/Empowering-Women-Option2.jpg
GEO:39.9143623;-86.1072716
X-APPLE-STRUCTURED-LOCATION;VALUE=URI;X-ADDRESS=Tilly’s Tea Room 8701 Keystone Crossing 3rd Fl. Saks Dept. Store Indianapolis IN 46240;X-APPLE-RADIUS=500;X-TITLE=8701 Keystone Crossing\, 3rd Fl. Saks Dept. Store:geo:-86.1072716,39.9143623
END:VEVENT
END:VCALENDAR