BEGIN:VCALENDAR
VERSION:2.0
PRODID:-//Rainmakers - ECPv6.15.17.1//NONSGML v1.0//EN
CALSCALE:GREGORIAN
METHOD:PUBLISH
X-ORIGINAL-URL:https://gorainmakers.com
X-WR-CALDESC:Events for Rainmakers
REFRESH-INTERVAL;VALUE=DURATION:PT1H
X-Robots-Tag:noindex
X-PUBLISHED-TTL:PT1H
BEGIN:VTIMEZONE
TZID:America/Indiana/Indianapolis
BEGIN:DAYLIGHT
TZOFFSETFROM:-0500
TZOFFSETTO:-0400
TZNAME:EDT
DTSTART:20180311T070000
END:DAYLIGHT
BEGIN:STANDARD
TZOFFSETFROM:-0400
TZOFFSETTO:-0500
TZNAME:EST
DTSTART:20181104T060000
END:STANDARD
BEGIN:DAYLIGHT
TZOFFSETFROM:-0500
TZOFFSETTO:-0400
TZNAME:EDT
DTSTART:20190310T070000
END:DAYLIGHT
BEGIN:STANDARD
TZOFFSETFROM:-0400
TZOFFSETTO:-0500
TZNAME:EST
DTSTART:20191103T060000
END:STANDARD
BEGIN:DAYLIGHT
TZOFFSETFROM:-0500
TZOFFSETTO:-0400
TZNAME:EDT
DTSTART:20200308T070000
END:DAYLIGHT
BEGIN:STANDARD
TZOFFSETFROM:-0400
TZOFFSETTO:-0500
TZNAME:EST
DTSTART:20201101T060000
END:STANDARD
END:VTIMEZONE
BEGIN:VEVENT
DTSTART;TZID=America/Indiana/Indianapolis:20190605T083000
DTEND;TZID=America/Indiana/Indianapolis:20190605T103000
DTSTAMP:20260422T080341
CREATED:20190520T120833Z
LAST-MODIFIED:20190523T014140Z
UID:122326-1559723400-1559730600@gorainmakers.com
SUMMARY:Strategic Networking Workshop Series
DESCRIPTION:Strategic Networking Workshop Series \nJune Topic: How to Automate Your Follow Up Process With Email Automation! \nLearn how to leverage the power of email automation to follow up with and engage with your prospects and referral partners in a way that generates business!\n\nHere’s what you’ll learn: \n\n\nHow to construct an email campaign that delivers value and evokes a specific and detailed response!\nThe 5 reasons to send an email to your list and how to use each of them to generate an appointment to close more business\nThe exact email subject line that will get your prospects to click the “reply” button and open up a conversation with you about your product or service!\nBONUS:  You’ll get actual email templates that you can download and take home with so you can put these strategies to use immediately\n\nOur Facilitator: Brian Manning \n \nBrian works with businesses who want to generate new clients and increase revenue by creating and implementing client acquisition systems and digital workflows. \nHe works with you to…\n✓ Set up a digital marketing workflow that maximizes your customers’ experience\n✓ Maximize lead generation efforts by developing the perfect offer for your target market and audience\n✓ Implement email marketing automation systems to maximize the lifetime value of your clients\n✓ Implement checkout pages on your website that help you get paid faster and more efficiently \nSpecialties & Technical Skills:\n✓ Sales & Marketing Funnel Design\n✓ Email Marketing (automation)\n✓ Webinar Marketing (Gotowebinar)\n✓ Website Optimization (lead capture)\n✓ Client Acquisition & Campaign Strategy\n✓ Content & Promotions Calendar Creation\n✓ Infusionsoft (Certified Partner)\n✓ Leadpages Page Builder\n✓ WordPress & Optimizepress & WooCommerce\n✓ Video Editing & Video Creation (YouTube Management)\n✓ Client Intake Processing
URL:https://gorainmakers.com/event/strategic-networking-workshop-series-3/
LOCATION:Speak Easy Broadripple\, 5255 Winthrop Avenue\, Indianapolis\, IN\, 46220
ATTACH;FMTTYPE=image/png:https://gorainmakers.com/wp-content/uploads/2019/05/Workshop-STRNetwork.png
END:VEVENT
BEGIN:VEVENT
DTSTART;TZID=America/Indiana/Indianapolis:20190610T100000
DTEND;TZID=America/Indiana/Indianapolis:20190610T100000
DTSTAMP:20260422T080341
CREATED:20190104T025413Z
LAST-MODIFIED:20190520T122512Z
UID:121954-1560160800-1560160800@gorainmakers.com
SUMMARY:Monday Fire Webinar
DESCRIPTION:This Month… \nEfficiency \n\nThis session will be fireside chat style on the topic of efficiency. Gain more time back and be happy with what you say yes to when you implement some new ideas that you will learn on this virtual discussion. Top performers are efficient professionals!\n\n-How to prioritize\n-Best practices for planning well\n-Saying No\n-Reflect and sharpen\nJoin Nikki Lewallen\, CEO of Rainmakers\, as she shares 10 life and business best practices to maximize your life in 2019. Looking for peak performance in business? Want more energy? Want to make a lifestyle change or build a strong habit? Join in! She will share the inside scoop and we will set aside time for questions. All in 30 minutes! \n  \nThis webinar will be held on the second Monday of each month with a different topic each month. \n  \n \nNikki Lewallen \nCEO\,Rainmakers
URL:https://gorainmakers.com/event/monday-fire-webinar-2019-02-04-2019-04-08-2019-05-13-2019-06-10/
LOCATION:IN\, Indianapolis\, IN
CATEGORIES:Education,Training,Webinar
ATTACH;FMTTYPE=image/png:https://gorainmakers.com/wp-content/uploads/2019/01/monday-fire.png
END:VEVENT
BEGIN:VEVENT
DTSTART;TZID=America/Indiana/Indianapolis:20190614T103000
DTEND;TZID=America/Indiana/Indianapolis:20190614T120000
DTSTAMP:20260422T080341
CREATED:20181028T020433Z
LAST-MODIFIED:20190602T232850Z
UID:121830-1560508200-1560513600@gorainmakers.com
SUMMARY:Empowering Women Roundtable
DESCRIPTION:Rainmakers Empowering Women Roundtable is for women to meet\, develop and strengthen relationships. Rainmakers\, as an organization\, is passionate about helping professionals build authentic relationships that enable them to reach new levels of success in their business and personal lives. This session is for women of all ages and stages of professional accomplishment. Each month we will spend time getting to know each other and our business needs while engaging in a meaningful discussion topic. \nThis event occurs monthly on the 2nd Friday
URL:https://gorainmakers.com/event/empowering-women-roundtable-4-2019-06-14/
LOCATION:Tilly’s Tea Room\, 8701 Keystone Crossing\, 3rd Fl. Saks Dept. Store\, Indianapolis\, IN\, 46240
CATEGORIES:Roundtable
GEO:39.9143623;-86.1072716
X-APPLE-STRUCTURED-LOCATION;VALUE=URI;X-ADDRESS=Tilly’s Tea Room 8701 Keystone Crossing 3rd Fl. Saks Dept. Store Indianapolis IN 46240;X-APPLE-RADIUS=500;X-TITLE=8701 Keystone Crossing\, 3rd Fl. Saks Dept. Store:geo:-86.1072716,39.9143623
END:VEVENT
BEGIN:VEVENT
DTSTART;TZID=America/Indiana/Indianapolis:20190620T083000
DTEND;TZID=America/Indiana/Indianapolis:20190620T103000
DTSTAMP:20260422T080341
CREATED:20181028T015858Z
LAST-MODIFIED:20190523T013644Z
UID:122138-1561019400-1561026600@gorainmakers.com
SUMMARY:Business Owner Roundtable
DESCRIPTION:Each month\, the Business Owners Roundtable helps you identify top-of-mind business challenges and helps you learn innovative and foundational solutions. Tommy Richardson\, Rainmakers Director of Training and Development\, features a new discussion topic at each event\, which addresses people\, processes\, leadership\, and relevant general business topics. This is your opportunity to build relationships while gaining insights into key topics that affect you and your business.  This roundtable is intended for Business Owners. \n  \nWhat you will learn:\n \n\n1.)  Review Purpose:  Mindset – One Word that can change your life\n \n2.)  Learn More about Presence & Personal Magnetism\n \n3.)  How to Improve your Influence to Persuade & Convince others to take Positive Actions\n \n4.)  Explore What’s Holding You Back in Reaching Your Maximal Potential\n \nThe purpose of the Business Owners Roundtable is to:  Learn & Plan in an Accelerated Environment (Growth Minded) to Increase your Business and Personal Growth.\n\n\n\n\n\nDon’t miss this session! Guaranteed to stretch your business and personal growth!\n\nBe The Exception!!!\n\n\n\n\nDon’t miss the 3rd Thursday every month!
URL:https://gorainmakers.com/event/business-owner-roundtable-4-2019-04-18-2019-06-20/
LOCATION:Jarred Bunch\, 3625 East 96th Street\, Indianapolis\, IN\, 46240\, United States
CATEGORIES:Roundtable
ATTACH;FMTTYPE=image/png:https://gorainmakers.com/wp-content/uploads/2018/10/BUSINESS-OWNERS-rountable.png
END:VEVENT
BEGIN:VEVENT
DTSTART;TZID=America/Indiana/Indianapolis:20190624T173000
DTEND;TZID=America/Indiana/Indianapolis:20190624T190000
DTSTAMP:20260422T080341
CREATED:20190123T201617Z
LAST-MODIFIED:20190617T155942Z
UID:121983-1561397400-1561402800@gorainmakers.com
SUMMARY:Rainmakers Downtown
DESCRIPTION:Downtown Rainmakers is a quarterly event for professionals\, executives and business owners whose market place and/or related activities has a center of commerce from the downtown area. This event features top city leaders and business people with influence in the Indianapolis business community. Extend your professional network\, meet others who focus on the downtown marketplace\, learn from knowledgeable guest speakers\, and participate in the ever changing business landscape of Indianapolis! \n  \nTopic: Indianapolis Cultural Trail and Pacers Bikeshare program \n\n \n\nThe Indianapolis Cultural Trail: A Legacy of Gene & Marilyn Glick is an 8-mile world-class urban bike and pedestrian path in downtown Indianapolis\, Indiana.  The Indianapolis Cultural Trail seamlessly connects neighborhoods\, cultural districts\, and entertainment amenities while serving as the downtown hub for central Indiana’s vast greenway system. According to a study by Indiana University Public Policy Institute\, the Cultural Trail has created an initial economic impact of $1Billion\, largely in part due to the numerous and diverse property developments that have grown up along its path.\n\nThe Indianapolis Cultural Trail is managed by a nonprofit\, Indianapolis Cultural Trail\, Inc. (ICT\, Inc.).  ICT\, Inc. works to thoughtfully manage\, maintain and continue to grow and improve all aspect of the Trail ensuring it continues to exist as a world-class public space for residents and visitors of Indianapolis.  The Cultural Trail launched Pacers Bikeshare in 2014 with 25 stations and 250 bikes located along the Trail and will expand Pacers Bikeshare in 2019 to add 22 new stations and an additional 275 bikes. \n\n  \nOur Speaker: Karen Haley \n \nKären Haley is the founding Executive Director of Indianapolis Cultural Trail\, Inc.\,\nthe non-profit responsible behind the Indianapolis Cultural Trail. Under her leadership\, the organization launched the Pacers Bikeshare program along the Cultural Trail in 2014. She is on the board of directors of the North American Bikes Share Association and was named by the Indianapolis Business Journal 2015 ’40 Under 40’ list. She is a Mitch Daniels Leadership Foundation Fellow and a member of the Stanley K. Lacey Leadership class XXXV. Prior to leading the Cultural Trail\, Ms. Haley was the City of Indianapolis’ first Director of the Office of Sustainability. She began her career working for URS Corporation in the transportation demand management group. \n  \n  \nTHANK YOU TO OUR SPONSOR \nJAM Printing and Promotions \n \nJAM helps simplify marketing by serving as your go-to partner for branded swag\, logo apparel\, signage and trade show pieces\, and printed collateral. With our energy and consultative approach\, we help you Amp up your Marketing and ROCK your Promotions!
URL:https://gorainmakers.com/event/rainmakers-downtown-7/
LOCATION:Columbia Club\, 121 Monument Circle\, Indianapolis\, IN\, 46204\, United States
CATEGORIES:Downtown Indy
END:VEVENT
BEGIN:VEVENT
DTSTART;TZID=America/Indiana/Indianapolis:20190625T080000
DTEND;TZID=America/Indiana/Indianapolis:20190625T093000
DTSTAMP:20260422T080341
CREATED:20181028T021109Z
LAST-MODIFIED:20190607T122547Z
UID:121863-1561449600-1561455000@gorainmakers.com
SUMMARY:Rainmakers Christian Professionals (RCP)
DESCRIPTION:Recognizing our workplace is also our mission field\, we are here to encourage one another as we learn and apply biblical principles at work. \nRainmakers Christian Professionals (RCP) is an intimate networking experience for Christian business professionals. Every monthly event provides teaching and small group discussion. RCP is a platform to build and strengthen your relationship with God and your relationships with people. \n  \nThis Month: A Why to Live For. Discovering your God-given destiny. \nThe big idea: You are a masterpiece of God with a one-of-a-kind destiny to bring healing to our broken world. It’s time you discover it! \n  \nOur Speaker: Dave Rodriguez \n \nDave Rodriguez is the CEO and Founder of Destinyworks\, LLC. He’s a destiny coach\, author and pastor. For the past 27 years Dave has served as the founding and senior pastor of Grace Church in Noblesville\, IN. He is the author of the book A Why to Live For: Where your destiny meets the broken places of the world.  \nDave’s college education began at the University of Pittsburgh. He went on to graduate from Moody Bible Institute and Seminary in Chicago. He also received an honorary doctorate from Taylor University. \nDave has been happily married to Penny for nearly 40 years. When not destiny coaching\, writing or pastoring you’ll likely find Dave slaving over a hot stove doing the hobby he loves – being an amateur chef. \n  \nFind Dave on social media: \nTwitter – @DDRod \nInstagram – d_d_rod \n  \n  \nOur Non-Profit \n \nThe GCC Foundation exists to instill hope\, dignity and sustainable change for all people while transforming the lives of those who give and serve. \nIn July 2012\, the Grace Care Center (GCC) opened with the specific purpose of amplifying efforts to provide care and compassion to the local community through the Choice Food Pantry and referral services. Since then\, the Care Center has grown to serve more than 600 families (2100 individuals) each week through the combined effort of four service areas: The Choice Food Pantry\, Referral Services\, Vehicle Services and ESL Services. For families who need more help than the Choice Pantry and/or ESL\, the GCC developed a co-op program\, which involves monthly meetings to help promote sustainability for those who take part. In 2016\, 19 families graduated from the co-op program\, no longer needing the services of the GCC and on their way of breaking the cycle of poverty within their families.   \nThe GCC is open three days each week\, but has been operating at maximum capacity for more than a year. On average\, the GCC turns away 23 families weekly and the GCC is at maximum capacity for the number of students enrolled in ESL classes. The GCC Foundation/Trust is charged with raising support to expand facilities to maximize efficiencies of the GCC without compromising relationships or impact of programs.   \n  \n____________________________________ \nTHANK YOU TO OUR SPONSOR \n \nCorporate Chaplains of America is the nation’s largest provider of full-time chaplains serving over 350\,000 employees and family members of employees in 43 states. We were founded in 1996 as a 501(c)3 non-profit agency and have grown double digits year over year now serving over 450 owners of companies that range in size from 25 employees to over 17\,000 employees. Our mission is to build caring relationships with the hope of gaining permission to share the life-changing Good News of Jesus Christ\, in a non-threatening manner. Chaplains build a personal relationship with employees through weekly rounds and are available 24/7 to respond to employees in crisis. \n  \n \nJamin Bailey\nRegional Director\, South Central (IN\, OH\, KY\, MO\, KS\, CO)\nCorporate Chaplains of America\n\n\n\n\n\nhttps://chaplain.org/\nhttps://www.facebook.com/CorpChapAmerica/\n\nhttps://www.linkedin.com/company/corporate-chaplains-of-america/ \n\n\n\n\n\n\n\n\n\n\n\n\n\n\n\n\n\n\n\nTwitter: @CorpChapAmerica
URL:https://gorainmakers.com/event/rainmakers-christian-professionals-rcp-2019-06-25/
LOCATION:Indiana Wesleyan University – Indianapolis North campus\, 3777 Priority Way South Drive\, Indianapolis\, IN\, 46240\, United States
CATEGORIES:Faith Based
ATTACH;FMTTYPE=image/jpeg:https://gorainmakers.com/wp-content/uploads/2018/10/RCP.jpg
GEO:39.9191828;-86.1018606
X-APPLE-STRUCTURED-LOCATION;VALUE=URI;X-ADDRESS=Indiana Wesleyan University – Indianapolis North campus 3777 Priority Way South Drive Indianapolis IN 46240 United States;X-APPLE-RADIUS=500;X-TITLE=3777 Priority Way South Drive:geo:-86.1018606,39.9191828
END:VEVENT
BEGIN:VEVENT
DTSTART;TZID=America/Indiana/Indianapolis:20190625T163000
DTEND;TZID=America/Indiana/Indianapolis:20190625T200000
DTSTAMP:20260422T080341
CREATED:20181028T022018Z
LAST-MODIFIED:20190604T160453Z
UID:122147-1561480200-1561492800@gorainmakers.com
SUMMARY:Eat + Drink
DESCRIPTION:Rainmakers Eat + Drink is our monthly social event. We travel all around the city to experience Indy’s best independent restaurant establishments.  Everyone welcome! Bring a friend or colleague and participate in a relaxed networking environment while enjoying the great tastes of Indy. \nRainmakers June Eat + Drink \nat \nCanal Bistro \n Join us for cocktails\, dinner or both! \n 4:30 p.m. to 6:00 p.m. Cocktail Hour \n 6:00 p.m. Dinner \nNote: We’re responsible for finding a great restaurant! You’re responsible for your food and drink! \n  Tuesday afternoons need some love too!  Let’s support a local restaurant\, get to know other folks\, and have great food and beverages all at the same time! \nCheers to Tuesday! \n______________________________ \n  \nAbout Canal Bistro \n \n\n\n\n\nThe Canal Bistro is the realization of a dream for Mona and George. \nGeorge’s homeland is Egypt; Mona spent her first 23 years in Lebanon. They know Mediterranean cooking. George has been in the restaurant business for 22 years. And over the years\, Mona watched her mother and grandmother cook for their big family from their own herb and vegetable gardens\, learning the value of freshness in cooking. \nWhen she’s not at work Mona’s home cooking up a storm for family and friends. “Our house is known as the ‘fun house’ – huge amounts of food\, big parties\,” George says. “It’s been our dream to open our own place\, to be creative with cuisine\, and to have a family business that our sons can be part of.” \nThe Canal Bistro is that dream. “It’s like you’ve come to one of our parties – we’ve basically just moved our kitchen from home to here\,” they say. “We put the grill in the dining room because we want people to know that we are using top quality ingredients\, and that freshness is our goal\, so everything is done right in front of you.” \n\n\n\n\n\n\nSo eat up relax be happy. You’re eating in a dream come true! \n\n\n  \n  \n  \nTHANK YOU TO OUR SPONSOR\n \nThank you to  Nathan Pfahler & The Pfahler Group for sponsoring Rainmakers Eat + Drink!  ‘We consider ourselves more of a “boutique” real estate brokerage- with the ability to shift as the market demands\, and stay at the forefront of the latest marketing initiatives to better serve our clients!
URL:https://gorainmakers.com/event/eat-drink-9-2019-03-26-2019-04-23-2019-04-30-2019-06-25/
LOCATION:Canal Bistro\, 6349 Guilford Ave\, Indianapolis\, IN\, 46220\, United States
CATEGORIES:Social
ATTACH;FMTTYPE=image/png:https://gorainmakers.com/wp-content/uploads/2018/10/eatdrinkF.png
END:VEVENT
BEGIN:VEVENT
DTSTART;TZID=America/Indiana/Indianapolis:20190626T083000
DTEND;TZID=America/Indiana/Indianapolis:20190626T090000
DTSTAMP:20260422T080341
CREATED:20190104T034519Z
LAST-MODIFIED:20190604T163350Z
UID:122010-1561537800-1561539600@gorainmakers.com
SUMMARY:Virtual Networking
DESCRIPTION:Meet new members without leaving your home or office. It’s simple: sign up for a 30 minute session and network via your webcam. This is a moderated networking session. Share your name\, elevator pitch\, ideal client profile and something unique about yourself. If you have a specific ask\, mention that too! \nMeet up to 6 Rainmakers members per session. After the session\, we’ll send the contact information of the participants so you can follow up. Cheers to efficiency in the game of helping others! \nParticipation is limited to 6 people. You must have a webcam to participate. \nThis is a members only event. \n  \n__________ \n  \nWhy Do People Love Rainmakers Virtual Networking?
URL:https://gorainmakers.com/event/virtual-networking-november-3-2019-06-26/
LOCATION:IN\, Indianapolis\, IN
CATEGORIES:Virtual Networking
ATTACH;FMTTYPE=image/png:https://gorainmakers.com/wp-content/uploads/2019/01/VIRTUAL-NETWORKING.png
END:VEVENT
END:VCALENDAR