BEGIN:VCALENDAR
VERSION:2.0
PRODID:-//Rainmakers - ECPv6.15.17.1//NONSGML v1.0//EN
CALSCALE:GREGORIAN
METHOD:PUBLISH
X-WR-CALNAME:Rainmakers
X-ORIGINAL-URL:https://gorainmakers.com
X-WR-CALDESC:Events for Rainmakers
REFRESH-INTERVAL;VALUE=DURATION:PT1H
X-Robots-Tag:noindex
X-PUBLISHED-TTL:PT1H
BEGIN:VTIMEZONE
TZID:America/Indiana/Indianapolis
BEGIN:DAYLIGHT
TZOFFSETFROM:-0500
TZOFFSETTO:-0400
TZNAME:EDT
DTSTART:20190310T070000
END:DAYLIGHT
BEGIN:STANDARD
TZOFFSETFROM:-0400
TZOFFSETTO:-0500
TZNAME:EST
DTSTART:20191103T060000
END:STANDARD
BEGIN:DAYLIGHT
TZOFFSETFROM:-0500
TZOFFSETTO:-0400
TZNAME:EDT
DTSTART:20200308T070000
END:DAYLIGHT
BEGIN:STANDARD
TZOFFSETFROM:-0400
TZOFFSETTO:-0500
TZNAME:EST
DTSTART:20201101T060000
END:STANDARD
BEGIN:DAYLIGHT
TZOFFSETFROM:-0500
TZOFFSETTO:-0400
TZNAME:EDT
DTSTART:20210314T070000
END:DAYLIGHT
BEGIN:STANDARD
TZOFFSETFROM:-0400
TZOFFSETTO:-0500
TZNAME:EST
DTSTART:20211107T060000
END:STANDARD
END:VTIMEZONE
BEGIN:VEVENT
DTSTART;TZID=America/Indiana/Indianapolis:20200108T083000
DTEND;TZID=America/Indiana/Indianapolis:20200108T100000
DTSTAMP:20260418T182349
CREATED:20191009T130202Z
LAST-MODIFIED:20191213T170028Z
UID:122584-1578472200-1578477600@gorainmakers.com
SUMMARY:Business Blaze
DESCRIPTION:An event for business owners and executives\, Business Blaze presents topics relevant to current and future business operations as well as issues that may impact the Indianapolis business community. This quarterly event features top-notch\, industry speakers and an opportunity for meaningful dialogue. \nJoin us January 8th! \nTopic: What an Old Guy has Learned in 30 Years of Business \nBruce Kidd has spent his entire professional career working around\, for\, or inside privately held companies in IN. \nHis 30-year business career has afforded him the opportunity to work with some exceptionally talented and successful people.  He has also worked with some other people who were neither but still offered him important and useful lessons about business and life (without knowing it).  He will share his thoughts and stories about building and living a successful professional and business career. \n  \nOur Speaker: \n \nBruce K. Kidd\nBusiness Executive and Servant Leader \nIn September 2019 Bruce joined KSM Consulting\, a leading technology consulting and services firm based in Indy with clients all across the US.   KSMC’s services include helping companies with data analytics and data warehousing\, managing IT networks\, assisting with software selection and implementation\, remediating bad software installations\, CIO and CFO for hire\, and management consulting.   Bruce leads Business Development for KSMC in Indiana. \nBruce has spent over 30 years advising and/or serving in executive roles with closely-held\, entrepreneurial and professional service firms.  During his career he has been: \n\nSenior Vice President at Walker\nManaging Director of the 21st Century Research & Technology Fund\nA co-founder of the Indiana Venture Center\nThe Director of Business Development for Ernst & Young in Indiana\n\nKidd has served on a variety of Not For Profit and For-Profit Company Board of Directors including four currently. \nIn 2016 he founded Concerts for a Cause\, a 501C3 organization that hosts quarterly live concerts as a mechanism to support local Not For Profits that are improving the lives of Hoosier kids and families in need. \nA native of Indianapolis\, Kidd is a Purdue grad\,  has been married to Chris Cooper for 38 years and they have three adult children and four grandchildren….. and counting. \nFind KSM Consulting on: Facebook | Twitter | Instagram | LinkedIn \n_______________________________ \n  \nOur Featured Non-Profit: \n \nConcerts for a Cause was born from the love for music and the desire to give back to our Hoosier community. \nConcerts for a Cause (CFAC) is a 501(c)3 organization whose mission is to support Indianapolis area not-for-profits that are improving the lives of Hoosiers in need. At CFAC’s quarterly events\, a different singer\, songwriter\, artist or musician will perform for a different local charity. All concert proceeds from each CFAC event will go to the featured non-for-profit involved. \nThe first concert in 2020 is on Jan 25th at the Lucas Estate. \nInfo at www.indyconcertsforacause.org
URL:https://gorainmakers.com/event/business-blaze-4/
LOCATION:HRD Advisory Group\, 11711 North Meridian Street\, Suite 170\, Carmel\, IN\, 46032\, United States
CATEGORIES:Business Blaze
END:VEVENT
BEGIN:VEVENT
DTSTART;TZID=America/Indiana/Indianapolis:20200109T083000
DTEND;TZID=America/Indiana/Indianapolis:20200109T100000
DTSTAMP:20260418T182349
CREATED:20191202T161600Z
LAST-MODIFIED:20191202T171954Z
UID:122726-1578558600-1578564000@gorainmakers.com
SUMMARY:Building Employees
DESCRIPTION:Rainmakers is excited to offer a monthly roundtable for small business leaders to convene on workplace talent topics. It is more important than ever to be strategic in attracting\, engaging and developing employees in order to build a healthy company.\n\n\nIdeal attendees for this session are small business owners or human resource managers. \nSessions are 90 minutes and include introductions and networking along with a workplace talent learning topic and interactive roundtable discussion. All participants share their key takeaways in action steps prior to the conclusion of the session. \nSessions will be facilitated by Rainmakers CEO and employee engagement expert\, Nikki Lewallen. \n \nAs reflected in her leadership style\, Nikki is an avid proponent of robust company culture. She believes that for people to succeed in business and life\, it is necessary for them to find meaning in their work. Today\, Nikki works nationally alongside CEOs\, Presidents and key executives to build highly engaged employers. She has built a national network of the best HR and talent solutions to tie her gift of connecting to the resources leaders need to move the needle on employee engagement\, ultimately helping more people “Love Mondays.” \n\n_________________________________________ \nTHANK YOU TO OUR SPONSOR \n \nSince 1986\, Insperity has been showing companies how to harness the power of HR to improve business success. We’ve grown from two people sharing a one-room office to a $3.3 billion company with more than 70 offices across the U.S \nWe love helping clients strengthen and streamline their businesses. Our proven approach helps you better manage costs and minimize risk. You’ll get the ready-to-use HR infrastructure that your business needs to be more efficient and profitable. \nTo bring out the best in your people\, we’ll show you how to maximize their performance and productivity. That’s our inspiration and purpose.
URL:https://gorainmakers.com/event/building-employees/
LOCATION:Insperity\, 8801 River Crossing Blvd - Suite 160\, Indianapolis \, IN\, 46240\, United States
CATEGORIES:Roundtable
GEO:39.9148161;-86.1064974
X-APPLE-STRUCTURED-LOCATION;VALUE=URI;X-ADDRESS=Insperity 8801 River Crossing Blvd - Suite 160 Indianapolis  IN 46240 United States;X-APPLE-RADIUS=500;X-TITLE=8801 River Crossing Blvd - Suite 160:geo:-86.1064974,39.9148161
END:VEVENT
BEGIN:VEVENT
DTSTART;TZID=America/Indiana/Indianapolis:20200110T103000
DTEND;TZID=America/Indiana/Indianapolis:20200110T120000
DTSTAMP:20260418T182349
CREATED:20191009T140116Z
LAST-MODIFIED:20200106T145530Z
UID:122611-1578652200-1578657600@gorainmakers.com
SUMMARY:Empowering Women Roundtable
DESCRIPTION:Rainmakers Empowering Women Roundtable is for women to meet\, develop and strengthen relationships. Rainmakers\, as an organization\, is passionate about helping professionals build authentic relationships that enable them to reach new levels of success in their business and personal lives. This session is for women of all ages and stages of professional accomplishment. Each month we will spend time getting to know each other and our business needs while engaging in a meaningful discussion topic. \nJanuary Topic:  Designing a Life on Fire\n\n Get ready to discuss how you can design your perfect year that creates momentum to achieve all your dreams.\n\nIn this session of the Empowering Women Roundtable we will discuss and design a passionate Purpose and understand the serious implication Purpose has on our success.  Finding and intentionally focusing on our Purpose in life gives us the fire we need to be empowered and successful.\n\nThe benefits of leveraging your Purpose to the fullest extent include:\n\n\nGreater self-esteem and confidence\nMore joy\, passion\, and happiness in life\nMore energy to jump out of bed and accomplish everything on your list for the day\nAbundance of opportunities\nFocused clarity and direction \n\n  \n\nOur Facilitator: Kimberle Seale  \n \nKimberle Seale is a success coach committed to serving businesses and people to uncover their greatest strengths and transforming performance so they live a life that is truly on fire. \n  \nThis event occurs monthly on the 2nd Friday
URL:https://gorainmakers.com/event/empowering-women-roundtable-5/
LOCATION:Tilly’s Tea Room\, 8701 Keystone Crossing\, 3rd Fl. Saks Dept. Store\, Indianapolis\, IN\, 46240
CATEGORIES:Empowering Women Roundtable,Roundtable
GEO:39.9143623;-86.1072716
X-APPLE-STRUCTURED-LOCATION;VALUE=URI;X-ADDRESS=Tilly’s Tea Room 8701 Keystone Crossing 3rd Fl. Saks Dept. Store Indianapolis IN 46240;X-APPLE-RADIUS=500;X-TITLE=8701 Keystone Crossing\, 3rd Fl. Saks Dept. Store:geo:-86.1072716,39.9143623
END:VEVENT
BEGIN:VEVENT
DTSTART;TZID=America/Indiana/Indianapolis:20200114T083000
DTEND;TZID=America/Indiana/Indianapolis:20200114T103000
DTSTAMP:20260418T182349
CREATED:20191009T130705Z
LAST-MODIFIED:20191024T142203Z
UID:122586-1578990600-1578997800@gorainmakers.com
SUMMARY:LinkedIn Prospecting Roundtable
DESCRIPTION:Rainmakers LinkedIn Roundtables are a Members Exclusive opportunity.\nLeverage your LinkedIn account by sharing your needs with fellow Rainmakers and helping them with their ideal connections. Get the meetings you need to be successful in your business! \nThis is an opportunity to do group prospecting. It is NOT a LinkedIn training session.  To fully participate you must know how to use LinkedIn and you must bring your own laptop. \nSeating is limited so reserve your seat today! \nLooking for a LinkedIn roundtable at a different location? Go to our calendar and type in LinkedIn Roundtable in the search bar to view all locations and times.
URL:https://gorainmakers.com/event/linkedin-prospecting-roundtable-3/
LOCATION:MASSMUTUAL MIDWEST\, 900 East 96th Street\, Suite 300\, Indianapolis\, 46240
CATEGORIES:LinkedIn Roundtable,Roundtable
ATTACH;FMTTYPE=image/png:https://gorainmakers.com/wp-content/uploads/2019/03/LinkedIn-rountable.png
END:VEVENT
BEGIN:VEVENT
DTSTART;TZID=America/Indiana/Indianapolis:20200115T120000
DTEND;TZID=America/Indiana/Indianapolis:20200115T130000
DTSTAMP:20260418T182349
CREATED:20191212T170508Z
LAST-MODIFIED:20200108T182124Z
UID:122748-1579089600-1579093200@gorainmakers.com
SUMMARY:Rainmakers 8X Virtual
DESCRIPTION:8X is a monthly personal development Rainmakers offering that promotes holistic human development by taking time to reflect and grow in the eight core areas of our lives. Each session will provide a dedicated learning topic that fits into one of the key areas of our lives and will include tactical application concepts. Aside from the dedicated topic of the session\, time will be allotted for participants to reflect on each of the eight areas of the Life Wheel\, pinpointing strengths and action planning around opportunities for growth. At Rainmakers\, we believe that in order to be our best in leading and serving others\, we have to be the best version of us\, first. 8X is a system to help us lead ourselves well. \n  \nJanuary Topic: \nIntention ➡️ Action ➡️ Consistency ➡️ Results \n  \nOur Facilitator: Anna Kantzavelos \n \nAnna Kantzavelos is a mom\, wife\, business owner\, and entrepreneur whose “why” is service\, faith\, and impact. She runs an independent pharmacy with her husband\, loves her three awesome (and sometimes crazy) kids\, and launched Elevate 122 to help small-business owners elevate their business\, family\, and health. She starts every day with coffee\, the Bible App\, and if we’re being honest\, a few games of Candy Crush. Anna loves seeing possibility in everything and is committed to helping others live a fully abundant life with purpose and impact.
URL:https://gorainmakers.com/event/rainmakers-8x-virtual/2020-01-15/
LOCATION:Webinar
CATEGORIES:Webinar
END:VEVENT
BEGIN:VEVENT
DTSTART;TZID=America/Indiana/Indianapolis:20200116T083000
DTEND;TZID=America/Indiana/Indianapolis:20200116T103000
DTSTAMP:20260418T182349
CREATED:20191009T131945Z
LAST-MODIFIED:20200109T193441Z
UID:122599-1579163400-1579170600@gorainmakers.com
SUMMARY:Business Leader Roundtable
DESCRIPTION:Each month\, the Business Leader Roundtable helps you identify top-of-mind business challenges and helps you learn innovative and foundational solutions. Tommy Richardson\, Rainmakers Director of Training and Development\, features a new discussion topic at each event\, which addresses people\, processes\, leadership\, and relevant general business topics. This is your opportunity to build relationships while gaining insights into key topics that affect you and your business.  This roundtable is intended for Business Leaders. \nJanuary topic: Critical ideas for a fast start to 2020 \n\nJack Klemeyer\, Certified John Maxwell Coach\, will share with us the influence of NLP (neuro-linguistic programming). NLP can be used for personal development\, phobias\, and anxiety. NLP uses perceptual\, behavioral\, and communication techniques to make it easier for people to change their thoughts and actions. \n\n\nSelling to the “I” Disc Behavior style.  The “I” Personality Style is not afraid to be the center of attention. They are enthusiastic\, optimistic\, talkative\, persuasive\, impulsive and emotional. This personality type will trust others naturally\, truly enjoys being around others\, and function best when around people and working in teams.\n\nJoin us for a great morning of networking and lots of Business and Personal ideas! \n\nThe purpose of the Business Leader Roundtable is to:  Learn & Plan in an Accelerated Environment (Growth Minded) to Increase your Business and Personal Growth.\n\n\n\n\nDon’t miss this session! Guaranteed to stretch your business and personal growth!\n\nBe The Exception!!!\n\n\n\nDon’t miss the 3rd Thursday every month!
URL:https://gorainmakers.com/event/business-leader-roundtable/2020-01-16/
LOCATION:Nexus Impact Center\, 9511 Angola Ct\, Indianapolis\, 46268
CATEGORIES:Roundtable
END:VEVENT
BEGIN:VEVENT
DTSTART;TZID=America/Indiana/Indianapolis:20200117T080000
DTEND;TZID=America/Indiana/Indianapolis:20200117T170000
DTSTAMP:20260418T182349
CREATED:20200117T195217Z
LAST-MODIFIED:20200117T195245Z
UID:122845-1579248000-1579280400@gorainmakers.com
SUMMARY:Virtual Roundtable
DESCRIPTION:Our Facilitator:  \nBridge Builder Strategies Partner \n\n\n\nBridge Builder Strategies partners with non-profits\, businesses\, and government agencies to bring transformational change and lasting impact to bear on the people\, organizations\, and communities they serve. BBS helps their partners to build relationships through shared experiences that lead to engaged communities and lasting impact.
URL:https://gorainmakers.com/event/virtual-roundtable/
LOCATION:Webinar
CATEGORIES:Roundtable,Webinar
ATTACH;FMTTYPE=image/png:https://gorainmakers.com/wp-content/uploads/2019/09/VIRTUAL-roundtable.png
END:VEVENT
BEGIN:VEVENT
DTSTART;TZID=America/Indiana/Indianapolis:20200120T113000
DTEND;TZID=America/Indiana/Indianapolis:20200120T133000
DTSTAMP:20260418T182349
CREATED:20200106T190958Z
LAST-MODIFIED:20200110T141725Z
UID:122806-1579519800-1579527000@gorainmakers.com
SUMMARY:We Have A Dream; An MLK Jr. Legacy Event
DESCRIPTION:Bridge Builder Strategies would like to invite you to our Martin Luther King Jr. event “We have A Dream…” This event is a public luncheon with dynamic speakers sharing their dreams and vision for Indiana’s education\, health & aging\, and economic development. Come hear each leader’s vision and see what YOU can do to make transformational change in our community. \nIn Partnership with \nNexus Impact Center Co-Working Space \n9511 Angola Court \nIndianapolis\, Indiana 46268 \n317.207.0222 \nwww.nexusimpactcenter.org
URL:https://gorainmakers.com/event/we-have-a-dream-a-mlk-jr-legacy-event/
LOCATION:Mercy Road Church – Northwest\, 9511 Angola Court\, Indianapolis\, 46268
ATTACH;FMTTYPE=image/jpeg:https://gorainmakers.com/wp-content/uploads/2020/01/We-Have-a-Dream.jpg
END:VEVENT
BEGIN:VEVENT
DTSTART;TZID=America/Indiana/Indianapolis:20200122T083000
DTEND;TZID=America/Indiana/Indianapolis:20200122T100000
DTSTAMP:20260418T182349
CREATED:20191212T170908Z
LAST-MODIFIED:20200108T182325Z
UID:122761-1579681800-1579687200@gorainmakers.com
SUMMARY:Rainmakers 8X LIVE
DESCRIPTION:8X is a monthly personal development Rainmakers offering that promotes holistic human development by taking time to reflect and grow in the eight core areas of our lives. Each session will provide a dedicated learning topic that fits into one of the key areas of our lives and will include tactical application concepts. Aside from the dedicated topic of the session\, time will be allotted for participants to reflect on each of the eight areas of the Life Wheel\, pinpointing strengths and action planning around opportunities for growth. At Rainmakers\, we believe that in order to be our best in leading and serving others\, we have to be the best version of us\, first. 8X is a system to help us lead ourselves well. \n  \nJanuary Topic: \nIntention ➡️ Action ➡️ Consistency ➡️ Results \n  \nOur Facilitator: Anna Kantzavelos \n \nAnna Kantzavelos is a mom\, wife\, business owner\, and entrepreneur whose “why” is service\, faith\, and impact. She runs an independent pharmacy with her husband\, loves her three awesome (and sometimes crazy) kids\, and launched Elevate 122 to help small-business owners elevate their business\, family\, and health. She starts every day with coffee\, the Bible App\, and if we’re being honest\, a few games of Candy Crush. Anna loves seeing the possibility in everything and is committed to helping others live a fully abundant life with purpose and impact.
URL:https://gorainmakers.com/event/rainmakers-8x/2020-01-22/
LOCATION:Nexus Impact Center\, 9511 Angola Ct\, Indianapolis\, 46268
END:VEVENT
BEGIN:VEVENT
DTSTART;TZID=America/Indiana/Indianapolis:20200127T083000
DTEND;TZID=America/Indiana/Indianapolis:20200127T100000
DTSTAMP:20260418T182349
CREATED:20191213T171947Z
LAST-MODIFIED:20200117T133527Z
UID:122775-1580113800-1580119200@gorainmakers.com
SUMMARY:Are you ready to make your first or next $10K as a coach?
DESCRIPTION:Topic: Are you ready to make your first or next $10K as a coach? \nKatherine has cracked the code on making business growth simple and effective and she is going to teach you how to apply her proven formula to create your own success. It’s three simple steps multiplied together that equal results.\n\nIt is possible for you to find clients.  Getting them to YES is even easier.  She will teach you how to do both. \n\nIt is her mission to make sure you have the tools and resources you need to build your business so you can spend your time impacting clients and enjoying your life.\n\n\nOur Facilitator Katherine Kuhn\n\n\n \nhttps://www.lodestar-coach.com \nStrong. Confident. Bold. Fierce.\nShe’s Electric!\n\nI started my career in the corporate world and worked my way up the ladder.  I got my Masters degree in Human Resource Management and became a very successful Head of HR. I did that for 18 years. \nEvery day when I went to work and climbed the stairs to my office\, I longed for more. I was burnt out with the corporate world\, barely breathing and gasping for air.  I just knew I was meant to do so much more.  I found Brooke Castillo’s work in the winter of 2018. I was at my breaking point. \nWhen I found Brooke\, my whole world began to change. The more I learned\, the better I got at coaching myself\, the better I got at coaching myself the more I realized coaching is my calling. \nI quickly got certified through The Life Coach School and now teach other coaches how to create their dream business\, just like I created mine.  I’ve been right where you are now and I can take you to where you want to be.  Everyone needs a coach.  You’re clients are out there waiting to connect with you right now.  \nIt’s my mission to make sure you have the tools and resources you need to build your business so you can spend your time impacting clients and enjoying your life.
URL:https://gorainmakers.com/event/coaching-workshop/
LOCATION:Main Event Entertainment\, 4016 E 82nd St.\, Indianapolis\, IN\, 46250\, United States
ATTACH;FMTTYPE=image/png:https://gorainmakers.com/wp-content/uploads/2019/10/Workshop-Logo.png
END:VEVENT
BEGIN:VEVENT
DTSTART;TZID=America/Indiana/Indianapolis:20200128T163000
DTEND;TZID=America/Indiana/Indianapolis:20200128T200000
DTSTAMP:20260418T182349
CREATED:20191009T141536Z
LAST-MODIFIED:20200109T162632Z
UID:122635-1580229000-1580241600@gorainmakers.com
SUMMARY:Eat + Drink
DESCRIPTION:Rainmakers Eat + Drink is our monthly social event. We travel all around the city to experience Indy’s best independent restaurant establishments.  Everyone welcome! Bring a friend or colleague and participate in a relaxed networking environment while enjoying the great tastes of Indy. \nRainmakers Eat + Drink \nJoin us at Field Brewing! \n  \nNote: We’re responsible for finding a great restaurant! You’re responsible for your food and drink! \n  Tuesday afternoons need some love too!  Let’s support a local restaurant\, get to know other folks\, and have great food and beverages all at the same time! \nCheers to Tuesday! \n  \n \nFIELD BREWING STRIVES FOR MORE THAN MAKING TASTY BEER. \nWe are committed to the craft behind creating amazing flavors. Wholesome food and drink using clean\, quality ingredients is at the heart of what we do. We skip the processed extras to let real ingredients shine. Fresh food and drink on our unique campus creates a memorable dining experience. \n  \n_____________________________________ \n  \nTHANK YOU TO OUR SPONSOR\n \nThank you to  Nathan Pfahler & The Pfahler Group for sponsoring Rainmakers Eat + Drink!  ‘We consider ourselves more of a “boutique” real estate brokerage- with the ability to shift as the market demands\, and stay at the forefront of the latest marketing initiatives to better serve our clients!
URL:https://gorainmakers.com/event/eat-drink-10/2020-01-28/
LOCATION:Field Brewing\, 303 E. Main St.\, Westfield\, IN\, 46074
CATEGORIES:Social
ATTACH;FMTTYPE=image/png:https://gorainmakers.com/wp-content/uploads/2018/10/eatdrinkF.png
END:VEVENT
BEGIN:VEVENT
DTSTART;TZID=America/Indiana/Indianapolis:20200129T083000
DTEND;TZID=America/Indiana/Indianapolis:20200129T090000
DTSTAMP:20260418T182349
CREATED:20191219T161049Z
LAST-MODIFIED:20191219T161049Z
UID:122782-1580286600-1580288400@gorainmakers.com
SUMMARY:Virtual Networking
DESCRIPTION:Meet new members without leaving your home or office. It’s simple: sign up for a 30-minute session and network via your webcam. This is a moderated networking session. Share your name\, elevator pitch\, ideal client profile and something unique about yourself. If you have a specific ask\, mention that too! \nMeet up to 6 Rainmakers members per session. After the session\, we’ll send the contact information of the participants so you can follow up. Cheers to efficiency in the game of helping others! \nParticipation is limited to 6 people. You must have a webcam to participate. \nThis is a members-only event. \nWhy Do People Love Rainmakers Virtual Networking? \n 
URL:https://gorainmakers.com/event/virtual-networking-6/2020-01-29/
LOCATION:Zoom Webinar\, Indianapolis\, IN
CATEGORIES:Virtual Networking,Webinar
END:VEVENT
END:VCALENDAR