BEGIN:VCALENDAR
VERSION:2.0
PRODID:-//Rainmakers - ECPv6.15.17.1//NONSGML v1.0//EN
CALSCALE:GREGORIAN
METHOD:PUBLISH
X-WR-CALNAME:Rainmakers
X-ORIGINAL-URL:https://gorainmakers.com
X-WR-CALDESC:Events for Rainmakers
REFRESH-INTERVAL;VALUE=DURATION:PT1H
X-Robots-Tag:noindex
X-PUBLISHED-TTL:PT1H
BEGIN:VTIMEZONE
TZID:America/Indiana/Indianapolis
BEGIN:DAYLIGHT
TZOFFSETFROM:-0500
TZOFFSETTO:-0400
TZNAME:EDT
DTSTART:20200308T070000
END:DAYLIGHT
BEGIN:STANDARD
TZOFFSETFROM:-0400
TZOFFSETTO:-0500
TZNAME:EST
DTSTART:20201101T060000
END:STANDARD
BEGIN:DAYLIGHT
TZOFFSETFROM:-0500
TZOFFSETTO:-0400
TZNAME:EDT
DTSTART:20210314T070000
END:DAYLIGHT
BEGIN:STANDARD
TZOFFSETFROM:-0400
TZOFFSETTO:-0500
TZNAME:EST
DTSTART:20211107T060000
END:STANDARD
BEGIN:DAYLIGHT
TZOFFSETFROM:-0500
TZOFFSETTO:-0400
TZNAME:EDT
DTSTART:20220313T070000
END:DAYLIGHT
BEGIN:STANDARD
TZOFFSETFROM:-0400
TZOFFSETTO:-0500
TZNAME:EST
DTSTART:20221106T060000
END:STANDARD
END:VTIMEZONE
BEGIN:VEVENT
DTSTART;TZID=America/Indiana/Indianapolis:20210608T090000
DTEND;TZID=America/Indiana/Indianapolis:20210608T103000
DTSTAMP:20260418T182335
CREATED:20201211T201404Z
LAST-MODIFIED:20210308T184156Z
UID:123666-1623142800-1623148200@gorainmakers.com
SUMMARY:LinkedIn Prospecting Roundtable
DESCRIPTION:Leverage your LinkedIn account by sharing your needs with fellow Rainmakers and helping them with their ideal connections. Get the meetings you need to be successful in your business! \nThis is an opportunity to do group prospecting. To fully participate you must know how to use LinkedIn. \n  \nOur Facilitator: \n \nJim Patton \nJim Patton is a Financial Planner with WestPoint Financial Group.  He provides objective and customized insurance and investment strategies to help meet the financial needs of his clients. \nJim is a graduate of Purdue University where he earned his Bachelor of Science in Economics.  He later earned his Master of Business Administration from Oklahoma University and his MS in Adult Education from Indiana University. Jim is also a graduate of the US Army War College. \nPrior to joining WestPoint Financial Group\, Jim was the owner of J Patton Consulting\, LLC. He also worked for Transamerica Financial Advisors as an Investment Advisor Representative. From 1970 to 2000\, Jim served in the United States Army as a Colonel. During his service\, he was stationed in Germany and Korea. Given Jim’s background\, he enjoys focusing on veteran business owners. \nJim is a member of the Society of Financial Services Professionals and a member of the Board of Directors of the Central Indiana Chapter of the Society of Financial Services Professionals. \nIn his free time\, Jim enjoys spending time with his family and friends. His hobbies include hiking and reading.
URL:https://gorainmakers.com/event/linkedin-prospecting-roundtable-8-2021-06-08/
LOCATION:Zoom Webinar\, Indianapolis\, IN
CATEGORIES:LinkedIn Roundtable
ATTACH;FMTTYPE=image/png:https://gorainmakers.com/wp-content/uploads/2020/12/Rainmakers-Presents_LinkedIn-Prospecting-Rtbl.png
END:VEVENT
BEGIN:VEVENT
DTSTART;TZID=America/Indiana/Indianapolis:20210609T090000
DTEND;TZID=America/Indiana/Indianapolis:20210609T100000
DTSTAMP:20260418T182335
CREATED:20201211T192656Z
LAST-MODIFIED:20210504T181707Z
UID:123625-1623229200-1623232800@gorainmakers.com
SUMMARY:Gimme Five!
DESCRIPTION:GIMME FIVE! Proven Website Strategies the Work! \n  \nJune Topic: 5 ​essentials to pop to the top – getting found in search​ \n\n\nGetting a good placement in Google search results may seem extremely challenging\, but you can make your life (and results) a lot easier by taking some simple\, Google-recommended\, steps to help them know that you exist. In this session\, we will go over the top 5 things you can do to make Google sit up\, notice your site and get the results you are looking for.\n\n\n\nidentify the Google tools you need to have access to and use\ndetermine what items you can set and forget\nidentify the few things you should be monitoring to indicate progress\, failure or success\nanswer common questions about improving search visibility\n\n\n\n \n  \nOur Facilitator: \n \nNeil Richmund \nNeil Richmund is a unique blend of marketing strategist and web designer – with a passion for helping businesses\, non-profits\, and schools to improve their visibility and be successful online.  Neil’s 15 years of experience as a pastor and teacher in Christian schools has inspired him to bring an educational perspective to marketing by teaching his clients to use the tools available to them (but often mystify them).  In his 10 years as a web designer\, Neil has seen firsthand the impact that an improved online presence has on helping organizations to be successful online\, and he is eager to share that knowledge with others.  Don’t let his Aussie accent fool you though–he has called the US home for over 30 years!
URL:https://gorainmakers.com/event/gimme-five-2021-06-09/
LOCATION:Zoom Webinar\, Indianapolis\, IN
CATEGORIES:Small Business,Website Marketing
ATTACH;FMTTYPE=image/png:https://gorainmakers.com/wp-content/uploads/2020/12/Rainmakers-Presents_Gimme-Five.png
END:VEVENT
BEGIN:VEVENT
DTSTART;TZID=America/Indiana/Indianapolis:20210615T160000
DTEND;TZID=America/Indiana/Indianapolis:20210615T170000
DTSTAMP:20260418T182335
CREATED:20210129T224439Z
LAST-MODIFIED:20210310T163603Z
UID:123717-1623772800-1623776400@gorainmakers.com
SUMMARY:Happy After Hours
DESCRIPTION:Rainmakers Happy After Hours is a monthly 1-hour event that helps participants make new connections\, reconnect with those we already know\, and deepen our connections without leaving their home or office. \nThis is a moderated networking session. Share your name\, elevator pitch\, ideal client profile\, and something unique about yourself (make it short and to the point to help gain traction on the results you are working to create in 2021). \nAfter the session\, we’ll send the contact information of the participants so you can follow up. Cheers to efficiency in the game of helping others! \n  \nTopic: Virtual Speed 1-1 Networking \n  \nOur Facilitator: \n \nTodd Polackin \nFinancial Advisor with Polackin Wealth Management of Raymond James.
URL:https://gorainmakers.com/event/happy-after-hours-2021-06-15/
LOCATION:Zoom Webinar\, Indianapolis\, IN
CATEGORIES:Networking
ATTACH;FMTTYPE=image/png:https://gorainmakers.com/wp-content/uploads/2021/01/Rainmakers-Presents_Happy-After-Hours.png
END:VEVENT
BEGIN:VEVENT
DTSTART;TZID=America/Indiana/Indianapolis:20210616T130000
DTEND;TZID=America/Indiana/Indianapolis:20210616T140000
DTSTAMP:20260418T182335
CREATED:20210315T231015Z
LAST-MODIFIED:20210329T180725Z
UID:123839-1623848400-1623852000@gorainmakers.com
SUMMARY:Referrals to Revenue
DESCRIPTION:Do you find yourself to be both the salesperson and the producer in your company?  Do you have to make a choice each day whether you spend your time chasing new sales or working with your clients to fulfill their needs? If you answer yes to one or both of these questions\, join me each month for Referrals to Revenue where I will share different tactics and techniques to help you stop hunting for clients so you can spend more time helping your clients. \n  \nJune Topic: The Power of Collaboration \nCollaboration is a great way to increase your reach in the market AND leverage your time and effort\, yet so few businesses really utilize this tactic.  In this session we will discuss: \n\nWhat does a true collaboration look like?\nWays to collaborate\nHow to measure if the collaboration is truly paying off\n\n  \nOur Facilitator: \n \nDenise Praul \nDenise Praul is a Referral Marketing Strategist and the founder of Whiteboard Learning. She is committed to sharing practical real-world information to help business professionals create referral marketing strategies to grow their businesses. \nShe put her referral knowledge to the test in her own property tax consulting business and significantly and consistently grew the business year after year with no additional investment of money or time. Using that experience and knowledge she developed a duplicatable system to help other businesses have the same success. \nDenise has created a system called Roadmap to Unlimited Referrals that she now trains and shares with other business people to help them significantly grow and scale their own businesses. \nDenise Praul \nWhite Board Learning \n317-989-2222 \nwb-learning.com \n 
URL:https://gorainmakers.com/event/referrals-to-revenue-2021-07-21/
LOCATION:Zoom Webinar\, Indianapolis\, IN
CATEGORIES:Efficiency,Small Business
ATTACH;FMTTYPE=image/png:https://gorainmakers.com/wp-content/uploads/2021/03/Rainmakers-Presents_Referrals-to-Revenue.png
END:VEVENT
BEGIN:VEVENT
DTSTART;TZID=America/Indiana/Indianapolis:20210617T140000
DTEND;TZID=America/Indiana/Indianapolis:20210617T150000
DTSTAMP:20260418T182335
CREATED:20210528T130429Z
LAST-MODIFIED:20210601T192328Z
UID:123927-1623938400-1623942000@gorainmakers.com
SUMMARY:Negotiation Savviness
DESCRIPTION:June Topic: What Can Behavioral Science Teach You About Persuasion\, Influence & Negotiation? \nThe fact is\, great negotiators are made\, not born. Negotiation is a skill that can be acquired\, polished\, and honed. Over the past three decades\, a rich literature has grown up around the finer points of influence & negotiation. In our time together we will be discussing how to use lessons from behavioral science to improve our negotiation skills by using the Laws of: \n\nReciprocity\nScarcity\nLiking\nAuthority\nSocial proof\nConsistency\n\nOur Facilitator: \n \nCole Wyant \nCole is a highly successful serial entrepreneur and expert marketer who has built several companies from concept to significance.  Currently\, he is the host of the G.O.A.T. Negotiator Podcast and a multi-territory owner of Schooley Mitchell for IN\, KY\, and TX.  Schooley Mitchell is North America’s largest expense reduction consulting firm that negotiates vendor relationships on behalf of its 23k clients that saved $360M last year. \nIn the four sessions listed below\, you will learn from Cole’s experience as a professional negotiator and the lessons learned from his podcast guests’. \nCole will lace his sessions with stories and key takeaways from The G.O.A.T. Negotiator Podcast.  Stories from Authors\, C-Level Executives\, Entrepreneurs\, Body Language Experts\, Behavioral Psychologists\, Real Estate Developers\, Lawyers\, Sports Agents\, Business Brokers\, Law Enforcement Negotiators\, Politicians\, Foreign Policy Intelligence Experts\, Association & Chamber of Commerce Executives and Professors who teach negotiation at some of America’s Top Universities.
URL:https://gorainmakers.com/event/negotiation-savviness-2/
LOCATION:Zoom Webinar\, Indianapolis\, IN
CATEGORIES:Negotiation,Small Business
ATTACH;FMTTYPE=image/png:https://gorainmakers.com/wp-content/uploads/2020/12/Rainmakers-Presents_Negotiation-Savviness.png
END:VEVENT
BEGIN:VEVENT
DTSTART;TZID=America/Indiana/Indianapolis:20210629T083000
DTEND;TZID=America/Indiana/Indianapolis:20210629T093000
DTSTAMP:20260418T182335
CREATED:20201210T184247Z
LAST-MODIFIED:20210512T110259Z
UID:123607-1624955400-1624959000@gorainmakers.com
SUMMARY:Profitable Partnerships
DESCRIPTION:New business opportunities sourced by referrals are obviously the best way to grow new business. The biggest challenge to building a referral-based business seems to be consistency and predictability. In this short session\, Nikki will help participants lay the groundwork for success in building successful partnerships. \n  \nJune Topic: Right Partners\, Right Activity \nNew business opportunities sourced by referrals are obviously the best way to grow new business. The biggest challenge to building a referral-based business seems to be consistency and predictability. In this short session\, Nikki will review the groundwork for success in building successful partnerships\, identifying your ideal partner just like you identified your ideal client. She will then share some key activities to unlock momentum in the relationships from building trust to getting traction on results via partnerships.\n\nConfirm your ideal partner profile\nExplore ways to build trust\nDiscuss various partner activities to unlock new business opportunities for both parties\n\n  \nOur Facilitator: \n\n \nNikki Lewallen \nNikki Lewallen is an accomplished leader\, business development pro\, speaker and philanthropist. As CEO of Rainmakers\, Nikki supports the Indianapolis business community by providing a platform for business growth through relationships. A natural connector of people\, Nikki’s expertise in business development enables her to find and nurture strategic relationships that result in meaningful business outcomes. One of her favorite things is to learn new\, authentic business development practices and teach them to others. Under her leadership\, Rainmakers has served over 5\,000 members to date. \nAs reflected in her leadership style\, Nikki is an avid proponent of robust company culture. She believes that for people to succeed in business and life\, it is necessary for them to find meaning in their work. Today\, Nikki works nationally alongside CEOs\, Presidents and key executives to build highly engaged employers. She has built a national network of the best HR and talent solutions to tie her gift of connecting to the resources leaders need to move the needle on employee engagement\, ultimately helping more people “Love Mondays.” \nNikki is the show host for Gut + Science\, a podcast that convenes key leaders across the globe to solve and innovate talent topics\, building very best workplaces. The international show currently engages an audience of 70K+. Nikki is the Director of Partnerships for Wambi\, a healthcare technology company that helps people-first leaders create cultures of gratitude. \nNikki holds a variety of non profit board positions around Indianapolis including Thrivent Financial and Purposeful Living INC. Rainmakers\, as an organization\, is committed to featuring local nonprofits at every event and giving back a minimum of 5% profits each year to important causes. Nikki believes that we all want to give back and Rainmakers serves as a platform to make it easier for people to get involved with a charity the pulls on their heart. \nNikki grew up in the Indianapolis area and holds an undergraduate and graduate degree from Indiana University.
URL:https://gorainmakers.com/event/profitable-partnerships-2021-06-15/
LOCATION:Zoom Webinar\, Indianapolis\, IN
CATEGORIES:Partnerships,Small Business
ATTACH;FMTTYPE=image/png:https://gorainmakers.com/wp-content/uploads/2020/12/Rainmakers-Presents_Profitable-Partnerships-1.png
END:VEVENT
BEGIN:VEVENT
DTSTART;TZID=America/Indiana/Indianapolis:20210629T173000
DTEND;TZID=America/Indiana/Indianapolis:20210629T200000
DTSTAMP:20260418T182335
CREATED:20201208T204217Z
LAST-MODIFIED:20210608T174245Z
UID:123558-1624987800-1624996800@gorainmakers.com
SUMMARY:Eat + Drink
DESCRIPTION:Rainmakers Eat + Drink is our monthly social event. We travel all around the city to experience Indy’s best independent restaurant establishments.  Everyone welcome! Bring a friend or colleague and participate in a relaxed networking environment while enjoying the great tastes of Indy. \nJoin us in June at Rick’s Cafe Boatyard! \n \n5:30-6:30 Cocktails\n6:30 – 8 p.m. Dinner\nNote: We’re responsible for finding a great restaurant! You’re responsible for your food and drink! \nLet’s support a local restaurant\, get to know other folks\, and have great food and beverages all at the same time! \n  \nAbout Rick’s Cafe Boatyard: \n \n\nWhen Rick Albrecht moved to Indianapolis from Louisville in the 1970s\, he was an insurance salesman who had previously been enlisted in the United States Navy. Rick would quickly become a well-known restaurateur\, owning several bars and eateries in the greater Indianapolis area\, including downtown\, Geist\, Keystone and eventually Eagle Creek. \n\n\nRick’s Cafe Boatyard has grown and evolved significantly since opening in 1994. The space now boasts several decks – an awning on the side of the restaurant\, an “extended deck” with retractable siding to keep rain and wind away\, and a large bar with an area for nightly live music. \nThe inside dining space includes a large dining room with a waterfront view from nearly every seat\, a bustling bar\, and two private event areas — one of which comes with a private outdoor terrace. While the menu has changed over the years\, one thing remains constant: Rick’s has the freshest seafood in Indianapolis. Our seafood is carefully chosen from locations around the world\, and our steaks and chops are locally sourced and of the finest quality. \nRick’s Cafe Boatyard is open every day of the year besides Christmas Day\, and is a true gem on the west side of Indianapolis. Many patrons know Rick and Tena\, and stop by their table to say hi when dining in the restaurant. The atmosphere at Rick’s is one-of-a-kind. Stop in to see for yourself! \n\n  \n  \nTHANK YOU to Our Sponsor: \n \nNathan Pfahler \nwith Weichert Realtors for sponsoring Rainmakers Eat + Drink! \nI am happily married to Jennifer Pfahler and we have 2 young boys who are fun and active! I have been a licensed REALTOR since 2005\, started the real estate team of The Pfahler Group\, in 2012\, and have owned my own brokerage since 2018\, purchasing the Weichert Franchise towards the end of 2019. To date\, I’ve been involved in over 700 real estate transactions and am pumped to think about how many families and individuals that means we have helped in their journey to homeownership! \nMy family and I reside in Brownsburg\, IN where we are involved in various school\, church\, and community activities! I am excited to lead a great team and a great brokerage! We would be honored to assist you in your residential or commercial needs. \n 
URL:https://gorainmakers.com/event/eat-drink-12-2021-06-29/
LOCATION:Rick’s Cafe Boatyard\, 4050 Dandy Trail\, Indianapolis\, IN\, 46254
CATEGORIES:Social
ATTACH;FMTTYPE=image/png:https://gorainmakers.com/wp-content/uploads/2020/12/Rainmakers-Presents_EatDrink.png
END:VEVENT
END:VCALENDAR