BEGIN:VCALENDAR
VERSION:2.0
PRODID:-//Rainmakers - ECPv6.15.17.1//NONSGML v1.0//EN
CALSCALE:GREGORIAN
METHOD:PUBLISH
X-ORIGINAL-URL:https://gorainmakers.com
X-WR-CALDESC:Events for Rainmakers
REFRESH-INTERVAL;VALUE=DURATION:PT1H
X-Robots-Tag:noindex
X-PUBLISHED-TTL:PT1H
BEGIN:VTIMEZONE
TZID:America/Indiana/Indianapolis
BEGIN:DAYLIGHT
TZOFFSETFROM:-0500
TZOFFSETTO:-0400
TZNAME:EDT
DTSTART:20200308T070000
END:DAYLIGHT
BEGIN:STANDARD
TZOFFSETFROM:-0400
TZOFFSETTO:-0500
TZNAME:EST
DTSTART:20201101T060000
END:STANDARD
BEGIN:DAYLIGHT
TZOFFSETFROM:-0500
TZOFFSETTO:-0400
TZNAME:EDT
DTSTART:20210314T070000
END:DAYLIGHT
BEGIN:STANDARD
TZOFFSETFROM:-0400
TZOFFSETTO:-0500
TZNAME:EST
DTSTART:20211107T060000
END:STANDARD
BEGIN:DAYLIGHT
TZOFFSETFROM:-0500
TZOFFSETTO:-0400
TZNAME:EDT
DTSTART:20220313T070000
END:DAYLIGHT
BEGIN:STANDARD
TZOFFSETFROM:-0400
TZOFFSETTO:-0500
TZNAME:EST
DTSTART:20221106T060000
END:STANDARD
END:VTIMEZONE
BEGIN:VEVENT
DTSTART;TZID=America/Indiana/Indianapolis:20211007T083000
DTEND;TZID=America/Indiana/Indianapolis:20211007T103000
DTSTAMP:20260421T145402
CREATED:20210615T205903Z
LAST-MODIFIED:20210914T155745Z
UID:123975-1633595400-1633602600@gorainmakers.com
SUMMARY:The Business Owners’ Boardroom
DESCRIPTION:Change Happens\, So Take Control.  Learn how to address your most pressing issues that may present themselves at any moment. \nThis is a business owners’ series on how to stay ahead in a rapidly changing world.  Rapidly changing market conditions force companies to quickly update traditional day-to-day operations. In today’s environment\, you have to be fast and nimble in order to seize opportunities\, rise above challenges and respond to changing times. \nJoin us for this monthly series where you will learn new ideas\, share your experiences\, and meet other business owners\, just like you\, focused on staying competitive\, increasing revenue and enjoying the journey. \nAs a part of your attendance\, all participants receive a complimentary business diagnostic that will help you prioritize your most challenging problems and leverage opportunities. \n  \nOctober Topic: Time IS Money!  Are you wasting time being “busy” or are you getting the best return on your time? \n  \nOne of the most universal challenges for business owners is that of time management.  As business owners we wear many hats\, working both as the visionary leader and frontline employee playing many role.  As the owner of your time\, you’re in charge of managing how you spend every single moment.  The decision you make as to where to focus your time is critical to the overall health of your business. \nOne key theme from business owners surveyed is that most business owners are spending less time working on their businesses (doing strategic planning\, marketing\, and other leadership responsibilities) than they are working inside their businesses (performing repetitive administrative or customer-oriented tasks that could be delegated to another employee or outsourced).  While the later tasks often feel the most urgent\, it is the former strategic responsibilities that are most critical to a healthy\, forward-moving organization. \nIn our TAB Business Owners survey\, we found that there is a gap between how most business owners spend and perceive their time and how they believe they should be spending it.  These business owners are largely unsatisfied with how they are spending their time. \nAt this session of the Business Owners’ Boardroom\, we will be honestly reviewing how we are spending our time and committing to new ways we can spend it that brings out the highest value for the time we have and the best in our business. \nNow you may say “I’m busy\, I don’t have time to attend this session\,” and that is a pretty common response amongst struggling business owners.  My response to this is that you can’t afford not to attend.  “Busy” is really just a state of mind.  That is the difference between highly effective business owners and those who are constantly stressed and overwhelmed.  Both have 24 hours in the day.  Great business owners get more accomplished and will rarely tell you that they are “really busy” when asked.  Conversely\, unsuccessful owners are addicted to busy-ness and are typically overwhelmed and stressed. \nSo take control of your time and sign up for our next session on October 7th at 8:30 AM EST. \n  \nOur Facilitator: \n \nKimberle Seale \nKim is a success coach focused on creating a lasting legacy of wealth\, health\, and happiness for professionals and business owners.  She is an experienced and credentialed coach\, has won multiple leadership awards\, an author\, and a patent inventor for a product developed for Uber. Kim has achieved some amazing and transformative results with her clients and in her past as a corporate executive before she started her own practice three years ago.  What is inspiring and unique about her approach is the level of motivation and passion she brings out of her clients and their employees\, including those that had not been performing at their best. \n  \nTHANK YOU to Our Host: \n \nConveniently located near downtown Indianapolis\, the Broadmoor Country Club truly offers something for everyone through an extensive array of programming and amenities for members of all ages. Golf aficionados will love the beautifully-preserved Donald Ross designed course\, while golfers and non-golfers alike can enjoy the myriad dining\, recreation\, social activities and amenities the club has to offer. \nCall to visit Broadmoor Country Club today. Learn more here.
URL:https://gorainmakers.com/event/the-business-owners-boardroom-2021-10-07/
LOCATION:Broadmoor Country Club\, 2155 Kessler Boulevard West Drive\, Indianapolis\, IN\, 46228
CATEGORIES:Small Business
ATTACH;FMTTYPE=image/png:https://gorainmakers.com/wp-content/uploads/2021/06/LIVE-at-Broadmoor_Business-Owner-Boardroom2_1200x600.png
END:VEVENT
BEGIN:VEVENT
DTSTART;TZID=America/Indiana/Indianapolis:20211013T090000
DTEND;TZID=America/Indiana/Indianapolis:20211013T103000
DTSTAMP:20260421T145402
CREATED:20201211T201404Z
LAST-MODIFIED:20210802T200936Z
UID:123668-1634115600-1634121000@gorainmakers.com
SUMMARY:LinkedIn Prospecting Roundtable
DESCRIPTION:Leverage your LinkedIn account by sharing your needs with fellow Rainmakers and helping them with their ideal connections. Get the meetings you need to be successful in your business! \nEveryone who attends will have a chance to share the following: \nYour name\, The company you represent\, The service or product that you offer your clients\, and how you help your clients. Everyone else will search their own Linkedin connections for this criteria and make immediate introductions.\nTo attend this session you must know how to: \n\nSearch and use filters on Linkedin\nHave an all-star profile\nKnow-How to share a profile with a connection\nYou must have a written intro for others to send on your behalf.  I have attached a variety of samples from other members that might be helpful when putting together your intro.\n\nIn this session\, you will share the following: \n\nDescribe who is your ideal strategic partner/referral partner.  Who calls on the same person in a corporation that you do?  (CIO/CEO/CFO\, ETC.)\nDescribe who is your ideal client (it’s not“everyone”)\nYou do not need to have a paid LinkedIn subscription\, although it’s nice to have.\n\n What to expect (how-to): \n\nRound 1 connect to each other before the actual session (I will send the list of people who registered for this event ahead of time)\nRound 2 explain keywords describing who you want to meet.  Other members will send you a person that fits the bill and you reply through messenger if that looks good.\nRound 3 members send a three-way email or LinkedIn message as a warm introduction using verbiage provided during the session.\n\n\n  \n  \nOur Facilitator: \n \nJim Patton \nJim Patton is a Financial Planner with WestPoint Financial Group.  He provides objective and customized insurance and investment strategies to help meet the financial needs of his clients. \nJim is a graduate of Purdue University where he earned his Bachelor of Science in Economics.  He later earned his Master of Business Administration from Oklahoma University and his MS in Adult Education from Indiana University. Jim is also a graduate of the US Army War College. \nPrior to joining WestPoint Financial Group\, Jim was the owner of J Patton Consulting\, LLC. He also worked for Transamerica Financial Advisors as an Investment Advisor Representative. From 1970 to 2000\, Jim served in the United States Army as a Colonel. During his service\, he was stationed in Germany and Korea. Given Jim’s background\, he enjoys focusing on veteran business owners. \nJim is a member of the Society of Financial Services Professionals and a member of the Board of Directors of the Central Indiana Chapter of the Society of Financial Services Professionals. \nIn his free time\, Jim enjoys spending time with his family and friends. His hobbies include hiking and reading.
URL:https://gorainmakers.com/event/linkedin-prospecting-roundtable-8-2021-10-13/
LOCATION:Zoom Webinar\, Indianapolis\, IN
CATEGORIES:LinkedIn Roundtable
ATTACH;FMTTYPE=image/png:https://gorainmakers.com/wp-content/uploads/2020/12/Rainmakers-Presents_LinkedIn-Prospecting-Rtbl.png
END:VEVENT
BEGIN:VEVENT
DTSTART;TZID=America/Indiana/Indianapolis:20211019T090000
DTEND;TZID=America/Indiana/Indianapolis:20211019T100000
DTSTAMP:20260421T145402
CREATED:20201208T192325Z
LAST-MODIFIED:20210920T191725Z
UID:123549-1634634000-1634637600@gorainmakers.com
SUMMARY:Critical Sales Habits
DESCRIPTION:October Topic: Tips to build confidence and destroy fear in professional selling. \nLet’s address the elephant in the room.  Sales can be nerve-racking and anxiety-inducing.  I said it. \nBig important presentations\, quotas to hit\, lack of qualified leads\, hearing the word “no” too often and the pressure to constantly find new prospects can lead to stress triggers that salespeople rarely talk about with others.  In some cases\, this high-stress environment can boil over causing a full-blown panic attack. \nIn this session\, we’ll discuss ways to curb the anxiety and even embrace the challenges.  We’ll talk about how to stay calm amidst the daily rejection we all face\, manage sales call reluctance\, and create an environment where we can consistently produce without fear and second-guessing our abilities. \nJoin us in the discussion.  You’ll be glad you did! \n  \n  \nOur Facilitator: \n \nDenny Ward \nWith a deep passion for solving problems\, Denny has been in the human capital management space for 13 years. \nHe now leads the charge at Velocity Sales Consulting. Denny strives to help organizations unpack the cause of sales team challenges so they can maximize team performance and be more intentional about engaging their people and improving processes. \nDenny has a Bachelor of Arts in Communications from Bowling Green State University\, where he majored in communications with a focus in business. His first role in business development and sales management was at WFAL Radio\, where he sold advertising. After cutting his teeth in sales\, Denny enjoyed a successful 12-year career at ADP in several leadership and business development roles. There he worked with companies of all sizes to help them solve organizational and associate challenges. \nIn 2014 he became a licensed Benefits Consultant and helped Indiana companies with their insurance and compliance goals.  His ability to help his clients reach their goals\, as well as provide impeccable service and follow up earned him many referrals and new clients. He has a proven track record of increasing revenue year over year at two fortune 500 companies. He is considered an expert in the area of sales process and employee engagement.
URL:https://gorainmakers.com/event/critical-sales-habits-2021-10-19/
LOCATION:Zoom Webinar\, Indianapolis\, IN
CATEGORIES:Sales Habits,Small Business,Training
ATTACH;FMTTYPE=image/png:https://gorainmakers.com/wp-content/uploads/2020/12/Rainmakers-Presents_Critical-Sales-Habits.png
END:VEVENT
BEGIN:VEVENT
DTSTART;TZID=America/Indiana/Indianapolis:20211020T130000
DTEND;TZID=America/Indiana/Indianapolis:20211020T140000
DTSTAMP:20260421T145402
CREATED:20210315T231015Z
LAST-MODIFIED:20210922T130747Z
UID:123842-1634734800-1634738400@gorainmakers.com
SUMMARY:Referrals to Revenue
DESCRIPTION:Do you find yourself worrying or wondering each week where your next client is coming from?  Would you love to have your sales pipeline full of people that are ready to buy from you? If you answer yes to one or both of these questions\, join me each month for Referrals to Revenue\, where I will share different tactics and techniques to help you stop hunting for clients so you can spend more time helping your clients. \n  \nOctober Topic: 3 Ways To Attract More Referrals To Your Business \nHow do you organically attract more Referrals to your business?  Businesses that naturally attract consistent referrals to their business know these 5 Referral secrets. Join me to learn: \n\nHow to make more money with the before and after referral follow-up.\nThe power of keeping your Referral Sources consistently updated\nLearn the benefit of Referral Feedback\n\n  \nOur Facilitator: \n \nDenise Praul \nDenise Praul is a Referral Marketing Strategist and the founder of Whiteboard Learning. She is committed to sharing practical real-world information to help business professionals create referral marketing strategies to grow their businesses. \nShe put her referral knowledge to the test in her own property tax consulting business and significantly and consistently grew the business year after year with no additional investment of money or time. Using that experience and knowledge she developed a duplicatable system to help other businesses have the same success. \nDenise has created a system called Roadmap to Unlimited Referrals that she now trains and shares with other business people to help them significantly grow and scale their own businesses. \nDenise Praul \nWhite Board Learning \n317-989-2222 \nwb-learning.com \n 
URL:https://gorainmakers.com/event/referrals-to-revenue-2021-10-20/
LOCATION:Zoom Webinar\, Indianapolis\, IN
CATEGORIES:Efficiency,Small Business
ATTACH;FMTTYPE=image/png:https://gorainmakers.com/wp-content/uploads/2021/03/Rainmakers-Presents_Referrals-to-Revenue.png
END:VEVENT
BEGIN:VEVENT
DTSTART;TZID=America/Indiana/Indianapolis:20211021T100000
DTEND;TZID=America/Indiana/Indianapolis:20211021T110000
DTSTAMP:20260421T145402
CREATED:20201208T190641Z
LAST-MODIFIED:20211007T160738Z
UID:123538-1634810400-1634814000@gorainmakers.com
SUMMARY:Leadership Pillars
DESCRIPTION:Every quarter Leadership Pillars is here to help you identify top-of-mind business challenges and helps you learn innovative and foundational solutions. Tommy Richardson\, Rainmakers Director of Training and Development\, features a new discussion topic at each event\, which addresses people\, processes\, leadership\, and relevant general business topics. This is your opportunity to build relationships while gaining insights into key topics that affect you and your business.  This roundtable is intended for Business Leaders. \nOctober Topic: COMMUNICATE\, CONNECT & CONVINCE so that you can have WIN-WIN relationships \n\n3 Ways to Communicate\n4 Questions to Guarantee Connection\n5 Ways to Convince\n\nDiscover what you could do to be a better communicator\, and what you could do to better connect with others.  \nImprove your ability to impact others – both personally & professionally- to have win-win relationships.\n  \n  \nOur Facilitator: \n \nTommy Richardson \nTommy is responsible for the Leadership development within the Rainmakers organization and Leadership and Personal Development training for executives\, employee groups and members. \nTommy has more than 40 years of experience in business coaching\, training\, and athletic coaching. He has coached more than 1\,000 individuals and teams and facilitated training for corporate teams and executives and is a former president of Toastmasters\, International.
URL:https://gorainmakers.com/event/leadership-pillars-2021-10-21/
LOCATION:Zoom Webinar\, Indianapolis\, IN
CATEGORIES:Small Business
ATTACH;FMTTYPE=image/png:https://gorainmakers.com/wp-content/uploads/2020/12/Rainmakers-Presents_LeadershipPillars.png
END:VEVENT
BEGIN:VEVENT
DTSTART;TZID=America/Indiana/Indianapolis:20211026T083000
DTEND;TZID=America/Indiana/Indianapolis:20211026T103000
DTSTAMP:20260421T145402
CREATED:20210622T232358Z
LAST-MODIFIED:20211004T143457Z
UID:124008-1635237000-1635244200@gorainmakers.com
SUMMARY:Excel in Your Business and Personal Life
DESCRIPTION:A program for you\, individually\, leadership from the inside out and for a team builder developing a high-performance team \nA program for entrepreneurs\, small business leaders\, and any business leaders with teams.  \nIt is a most comprehensive leadership program built on 70 years of leadership experience\, research and certification in the best training programs available\, a proven success model. It will cover the principles\, strategies and habits of people and businesses that excel in the Gold Medal Program. \n  \nOctober Discussion Topics: Get a head start on 2022! \nWe will be working through the importance of goals setting\, what the traps are when trying to achieve\, and working through tried and tested processes to achieving goals.  We will also be touching on other leadership topics such as transactional and transformational leadership and working through to the third D of the 5 D’s Discipline. \n  \nOur Facilitators: \n \nPaul McCoy \nPaul is a certified Business Coach with Tidal Coach\, affiliated with ActionCoach and is passionate about making a difference to businesses that want to improve the way they are currently operating. He has over 25 years of experience as a business executive with experience in team leadership\, program management\, green field site development\, business improvement\, strategy development\, sales\, contracts\, engineering and business processes. \n  \n \nTommy Richardson \nTommy is responsible for the Leadership Development within the Rainmakers organization and Leadership and Personal Development training for executives\, employee groups and members. \nTommy has more than 40 years of experience in business coaching\, training\, and athletic coaching. He has coached more than 1\,000 individuals and teams and facilitated training for corporate teams and executives and is a former president of Toastmasters\, International.
URL:https://gorainmakers.com/event/excel-in-your-business-and-personal-life-2021-10-26/
LOCATION:Broadmoor Country Club\, 2155 Kessler Boulevard West Drive\, Indianapolis\, IN\, 46228
CATEGORIES:Efficiency,Leadership
ATTACH;FMTTYPE=image/png:https://gorainmakers.com/wp-content/uploads/2021/06/Excel-in-Your-Business-and-Personal-Life_1200x600.png
END:VEVENT
BEGIN:VEVENT
DTSTART;TZID=America/Indiana/Indianapolis:20211027T110000
DTEND;TZID=America/Indiana/Indianapolis:20211027T130000
DTSTAMP:20260421T145402
CREATED:20211005T142006Z
LAST-MODIFIED:20211011T151700Z
UID:124065-1635332400-1635339600@gorainmakers.com
SUMMARY:Activate the ROCK STAR NETWORKER in you!
DESCRIPTION:Building one’s business is always on the minds of business owners. We are strategic with plans to build and strengthen the business by setting goals and working with grit to make them come to fruition. \nNetworking with Confidence will be an action-packed 90-minutes! Meeting fellow business professionals\, sharing and honing in on current skills while practicing and polishing additional skills to grow your interactions with others. As well as finding connections that you initiate fostering with others. Some who are new to networking\, or seasoned to learn from all the while have a fun-filled morning with nuggets to add to your networking experience. \nJoin us LIVE in October! \nActivate the ROCK STAR NETWORKER in you! *In only 90 minutes* \nYes\, in only 90 minutes!  Meet fellow business professionals\, polish current skills\, uncover something new\, begin a new relationship\, find some golden nuggets in your backyard. \n11 a.m. – 11:30 a.m. networking\n11:30 a.m. – 1 p.m. Session\n  \nBe sure to bring with you:\n• plenty of business cards\n• pen & notebook\n• a friend who loves to meet new business professionals! \n  \nOur Facilitator: \n \nPatty Pavey \nPatty has coached and encouraged people her whole life. Teaching and coaching in public schools adult education. Twenty + successful years in a direct sales company in the top 2-1/2 percent of the company. As a Certified Kitchen and Bath Designer\, she owned her own company and design studio traveling\, training\, and mentoring. Today she is the owner of Today’s The Day Coaching. As a coach\, and leadership trainer she has cycled all her education\, experiences\, training\, and skills into empowering people to make better choices to improve their lifestyles for a lifetime. She is passionate and committed to helping individuals and groups in mastering change\, enlivening hope in people who are frustrated\, unmotivated\, stressed\, and unhappy. She assists people who are STUCK TO BECOME STUPENDOUS. \nWith a successful networking background\, she has written a Networking book (Guide To Powerful Networking & Strategic Partnering ) and runs popular networking groups as well as teaches networking classes and workshops assisting people in enlarging their sphere of influence. She loves connecting people and watching others embrace networking and step up their skills as a professional networker. \nPatty has a degree from Purdue and a Masters from Ball State. She was honored a few years ago as one of the outstanding women in business in the Heartland. \nMarried to Chuck for 39 years\, with 3 children\, 5 grandchildren. She loves to travel and meet new people\, read\, exercise\, cook\, and decorate.
URL:https://gorainmakers.com/event/rock-star-networker/
LOCATION:Nexus Impact Center\, 9511 Angola Ct\, Indianapolis\, 46268
CATEGORIES:Networking,Small Business,Training
ATTACH;FMTTYPE=image/png:https://gorainmakers.com/wp-content/uploads/2021/10/Rainmakers-Presents_Activate-the-ROCK-STAR-NETWORKER-in-you.png
END:VEVENT
BEGIN:VEVENT
DTSTART;TZID=America/Indiana/Indianapolis:20211028T140000
DTEND;TZID=America/Indiana/Indianapolis:20211028T153000
DTSTAMP:20260421T145402
CREATED:20210929T145256Z
LAST-MODIFIED:20210929T145342Z
UID:124060-1635429600-1635435000@gorainmakers.com
SUMMARY:The Business Owners' Boardroom (Virtual)
DESCRIPTION:Change Happens\, So Take Control.  Learn how to address your most pressing issues that may present themselves at any moment. \nThis is a business owners’ series on how to stay ahead in a rapidly changing world.  Rapidly changing market conditions force companies to quickly update traditional day-to-day operations. In today’s environment\, you have to be fast and nimble in order to seize opportunities\, rise above challenges and respond to changing times. \nJoin us for this monthly series where you will learn new ideas\, share your experiences\, and meet other business owners\, just like you\, focused on staying competitive\, increasing revenue and enjoying the journey. \nAs a part of your attendance\, all participants receive a complimentary business diagnostic that will help you prioritize your most challenging problems and leverage opportunities. \n  \nOctober Topic: Time IS Money!  Are you wasting time being “busy” or are you getting the best return on your time? \n  \nOne of the most universal challenges for business owners is that of time management.  As business owners we wear many hats\, working both as the visionary leader and frontline employee playing many role.  As the owner of your time\, you’re in charge of managing how you spend every single moment.  The decision you make as to where to focus your time is critical to the overall health of your business. \nOne key theme from business owners surveyed is that most business owners are spending less time working on their businesses (doing strategic planning\, marketing\, and other leadership responsibilities) than they are working inside their businesses (performing repetitive administrative or customer-oriented tasks that could be delegated to another employee or outsourced).  While the later tasks often feel the most urgent\, it is the former strategic responsibilities that are most critical to a healthy\, forward-moving organization. \nIn our TAB Business Owners survey\, we found that there is a gap between how most business owners spend and perceive their time and how they believe they should be spending it.  These business owners are largely unsatisfied with how they are spending their time. \nAt this session of the Business Owners’ Boardroom\, we will be honestly reviewing how we are spending our time and committing to new ways we can spend it that brings out the highest value for the time we have and the best in our business. \nNow you may say “I’m busy\, I don’t have time to attend this session\,” and that is a pretty common response amongst struggling business owners.  My response to this is that you can’t afford not to attend.  “Busy” is really just a state of mind.  That is the difference between highly effective business owners and those who are constantly stressed and overwhelmed.  Both have 24 hours in the day.  Great business owners get more accomplished and will rarely tell you that they are “really busy” when asked.  Conversely\, unsuccessful owners are addicted to busy-ness and are typically overwhelmed and stressed. \nSo take control of your time and sign up for this virtual session on October 28th at 2 PM EST. \n  \nOur Facilitator: \n \nKimberle Seale \nKim is a success coach focused on creating a lasting legacy of wealth\, health\, and happiness for professionals and business owners.  She is an experienced and credentialed coach\, has won multiple leadership awards\, an author\, and a patent inventor for a product developed for Uber. Kim has achieved some amazing and transformative results with her clients and in her past as a corporate executive before she started her own practice three years ago.  What is inspiring and unique about her approach is the level of motivation and passion she brings out of her clients and their employees\, including those that had not been performing at their best. \n 
URL:https://gorainmakers.com/event/124060/
LOCATION:Zoom Webinar\, Indianapolis\, IN
CATEGORIES:Small Business,Virtual Networking
ATTACH;FMTTYPE=image/jpeg:https://gorainmakers.com/wp-content/uploads/2021/09/Rainmakers_Business-Owner-Boardroom_Virtual.jpg
END:VEVENT
END:VCALENDAR