BEGIN:VCALENDAR
VERSION:2.0
PRODID:-//Rainmakers - ECPv6.15.17.1//NONSGML v1.0//EN
CALSCALE:GREGORIAN
METHOD:PUBLISH
X-WR-CALNAME:Rainmakers
X-ORIGINAL-URL:https://gorainmakers.com
X-WR-CALDESC:Events for Rainmakers
REFRESH-INTERVAL;VALUE=DURATION:PT1H
X-Robots-Tag:noindex
X-PUBLISHED-TTL:PT1H
BEGIN:VTIMEZONE
TZID:America/Indiana/Indianapolis
BEGIN:DAYLIGHT
TZOFFSETFROM:-0500
TZOFFSETTO:-0400
TZNAME:EDT
DTSTART:20210314T070000
END:DAYLIGHT
BEGIN:STANDARD
TZOFFSETFROM:-0400
TZOFFSETTO:-0500
TZNAME:EST
DTSTART:20211107T060000
END:STANDARD
BEGIN:DAYLIGHT
TZOFFSETFROM:-0500
TZOFFSETTO:-0400
TZNAME:EDT
DTSTART:20220313T070000
END:DAYLIGHT
BEGIN:STANDARD
TZOFFSETFROM:-0400
TZOFFSETTO:-0500
TZNAME:EST
DTSTART:20221106T060000
END:STANDARD
BEGIN:DAYLIGHT
TZOFFSETFROM:-0500
TZOFFSETTO:-0400
TZNAME:EDT
DTSTART:20230312T070000
END:DAYLIGHT
BEGIN:STANDARD
TZOFFSETFROM:-0400
TZOFFSETTO:-0500
TZNAME:EST
DTSTART:20231105T060000
END:STANDARD
END:VTIMEZONE
BEGIN:VEVENT
DTSTART;TZID=America/Indiana/Indianapolis:20220106T083000
DTEND;TZID=America/Indiana/Indianapolis:20220106T100000
DTSTAMP:20260423T224028
CREATED:20211208T205426Z
LAST-MODIFIED:20211229T132317Z
UID:124102-1641457800-1641463200@gorainmakers.com
SUMMARY:Rainmakers Speed Networking
DESCRIPTION:Rainmakers Speed Networking is a high-energy and high-impact virtual networking event. Entrepreneurs\, owners\, business leaders and those who have a role in growing sales get a short dose of inspiration from a featured thought leader. The majority of the hour is to help attendees network with targeted\, impactful connections through a series of one-on-one meetings \nThe software-enabled platform will ask you questions that target your connections and we’ll provide a framework for meaningful introductions. We believe in the power of networking and this session is a great monthly habit to sharpen your practice and grow your sphere of influence. \nJoin us!
URL:https://gorainmakers.com/event/rainmakers-speed-networking/
LOCATION:Online Event\, United States
CATEGORIES:Networking,Virtual Networking
ATTACH;FMTTYPE=image/png:https://gorainmakers.com/wp-content/uploads/2021/12/RM_Speed-Networking.png
END:VEVENT
BEGIN:VEVENT
DTSTART;TZID=America/Indiana/Indianapolis:20220111T160000
DTEND;TZID=America/Indiana/Indianapolis:20220111T173000
DTSTAMP:20260423T224028
CREATED:20211208T210054Z
LAST-MODIFIED:20211229T132251Z
UID:124105-1641916800-1641922200@gorainmakers.com
SUMMARY:Rainmakers Speed Networking
DESCRIPTION:Rainmakers Speed Networking is a high-energy and high-impact virtual networking event. Entrepreneurs\, owners\, business leaders and those who have a role in growing sales get a short dose of inspiration from a featured thought leader. The majority of the hour is to help attendees network with targeted\, impactful connections through a series of one-on-one meetings \nThe software-enabled platform will ask you questions that target your connections and we’ll provide a framework for meaningful introductions. We believe in the power of networking and this session is a great monthly habit to sharpen your practice and grow your sphere of influence. \nJoin us!
URL:https://gorainmakers.com/event/rainmakers-speed-networking-2/
LOCATION:Online Event\, United States
CATEGORIES:Networking,Virtual Networking
ATTACH;FMTTYPE=image/png:https://gorainmakers.com/wp-content/uploads/2021/12/RM_Speed-Networking.png
END:VEVENT
BEGIN:VEVENT
DTSTART;TZID=America/Indiana/Indianapolis:20220118T173000
DTEND;TZID=America/Indiana/Indianapolis:20220118T190000
DTSTAMP:20260423T224028
CREATED:20220104T151741Z
LAST-MODIFIED:20220112T182029Z
UID:124117-1642527000-1642532400@gorainmakers.com
SUMMARY:Eat + Drink
DESCRIPTION:Rainmakers Eat + Drink is our monthly social event. We travel all around the city to experience Indy’s best independent restaurant establishments.  Everyone welcome! Bring a friend or colleague and participate in a relaxed networking environment while enjoying the great tastes of Indy. \nJoin us in January at Luciana’s! \n \nNote: We’re responsible for finding a great restaurant! You’re responsible for your food and drink! \nLet’s support a local restaurant\, get to know other folks\, and have great food and beverages all at the same time! \n  \n  \nTHANK YOU to Our Sponsor: \n \nNathan Pfahler \nwith Weichert Realtors for sponsoring Rainmakers Eat + Drink! \nI am happily married to Jennifer Pfahler and we have 2 young boys who are fun and active! I have been a licensed REALTOR since 2005\, started the real estate team of The Pfahler Group\, in 2012\, and have owned my own brokerage since 2018\, purchasing the Weichert Franchise towards the end of 2019. To date\, I’ve been involved in over 700 real estate transactions and am pumped to think about how many families and individuals that means we have helped in their journey to homeownership! \nMy family and I reside in Brownsburg\, IN where we are involved in various school\, church\, and community activities! I am excited to lead a great team and a great brokerage! We would be honored to assist you in your residential or commercial needs. \n 
URL:https://gorainmakers.com/event/eat-drink-13/
LOCATION:Luciana’s Mexican Restaurant and Cantina\, 5910 W 86th St\, Indianapolis\, IN\, 46278\, United States
CATEGORIES:Social
ATTACH;FMTTYPE=image/jpeg:https://gorainmakers.com/wp-content/uploads/2022/01/Untitled-1.jpg
END:VEVENT
BEGIN:VEVENT
DTSTART;TZID=America/Indiana/Indianapolis:20220119T110000
DTEND;TZID=America/Indiana/Indianapolis:20220119T123000
DTSTAMP:20260423T224028
CREATED:20211208T210543Z
LAST-MODIFIED:20211229T132224Z
UID:124106-1642590000-1642595400@gorainmakers.com
SUMMARY:Rainmakers Speed Networking
DESCRIPTION:Rainmakers Speed Networking is a high-energy and high-impact virtual networking event. Entrepreneurs\, owners\, business leaders and those who have a role in growing sales get a short dose of inspiration from a featured thought leader. The majority of the hour is to help attendees network with targeted\, impactful connections through a series of one-on-one meetings \nThe software-enabled platform will ask you questions that target your connections and we’ll provide a framework for meaningful introductions. We believe in the power of networking and this session is a great monthly habit to sharpen your practice and grow your sphere of influence. \nJoin us!
URL:https://gorainmakers.com/event/rainmakers-speed-networking-3/
LOCATION:Online Event\, United States
CATEGORIES:Networking,Virtual Networking
ATTACH;FMTTYPE=image/png:https://gorainmakers.com/wp-content/uploads/2021/12/RM_Speed-Networking.png
END:VEVENT
BEGIN:VEVENT
DTSTART;TZID=America/Indiana/Indianapolis:20220125T083000
DTEND;TZID=America/Indiana/Indianapolis:20220125T103000
DTSTAMP:20260423T224028
CREATED:20211221T153555Z
LAST-MODIFIED:20220118T185735Z
UID:124113-1643099400-1643106600@gorainmakers.com
SUMMARY:Excel In Your Business And Personal Life
DESCRIPTION:A New Year\, a new program that will lead you to a fast start to your most productive business and personal year ever. \nThe blueprint series will explore the impact of trust in your personal and business worlds and provide the roadmap for you to implement in your future. We guarantee you will like it! \nLearn how you can gain the competitive advantage when introducing this recipe in your life\, to the point that you achieve when others confidently believe in you. \nWould it be worth you joining us if you understood how to improve customer or client retention\, you receive greater loyalty in your business dealings\, and as a by product your revenue increased? \nCome join us in this exciting new series outlining trust. \nOur Facilitators: \n \nPaul McCoy \nPaul is a certified Business Coach with Tidal Coach\, affiliated with ActionCoach and is passionate about making a difference to businesses that want to improve the way they are currently operating. He has over 25 years of experience as a business executive with experience in team leadership\, program management\, green field site development\, business improvement\, strategy development\, sales\, contracts\, engineering and business processes. \n  \n \nTommy Richardson \nTommy is responsible for the Leadership Development within the Rainmakers organization and Leadership and Personal Development training for executives\, employee groups and members. \nTommy has more than 40 years of experience in business coaching\, training\, and athletic coaching. He has coached more than 1\,000 individuals and teams and facilitated training for corporate teams and executives and is a former president of Toastmasters\, International. \n  \n  \n\n\nTHANK YOU to Our Host: \n\n\n\nNexus is more than just a coworking space and venue location. While we do have the typical benefits these spaces offer like high-speed internet and great coffee\, we do things a little differently: our profits support social impact. Our pricing\, amenities and flexibility are all designed to tear down walls for socially-minded companies and organizations to enable them to grow their impact. While our mission and programs are focused on helping people embed sustainable social impact\, our space and memberships are open to people of all walks of life looking for an economical space to work\, meet and hold events\, thereby contributing to social impact. \nLearn more about Nexus here.
URL:https://gorainmakers.com/event/excel-in-your-business-and-personal-life/
LOCATION:Nexus Impact Center\, 9511 Angola Ct\, Indianapolis\, 46268
CATEGORIES:Efficiency,Leadership
ATTACH;FMTTYPE=image/jpeg:https://gorainmakers.com/wp-content/uploads/2021/12/Excel-in-Business-and-Personal-Life_1200x600.jpg
END:VEVENT
BEGIN:VEVENT
DTSTART;TZID=America/Indiana/Indianapolis:20220127T163000
DTEND;TZID=America/Indiana/Indianapolis:20220127T180000
DTSTAMP:20260423T224028
CREATED:20211208T210822Z
LAST-MODIFIED:20211229T132158Z
UID:124107-1643301000-1643306400@gorainmakers.com
SUMMARY:Rainmakers Speed Networking
DESCRIPTION:Rainmakers Speed Networking is a high-energy and high-impact virtual networking event. Entrepreneurs\, owners\, business leaders and those who have a role in growing sales get a short dose of inspiration from a featured thought leader. The majority of the hour is to help attendees network with targeted\, impactful connections through a series of one-on-one meetings \nThe software-enabled platform will ask you questions that target your connections and we’ll provide a framework for meaningful introductions. We believe in the power of networking and this session is a great monthly habit to sharpen your practice and grow your sphere of influence. \nJoin us!
URL:https://gorainmakers.com/event/rainmakers-speed-networking-4/
LOCATION:Online Event\, United States
CATEGORIES:Networking,Virtual Networking
ATTACH;FMTTYPE=image/png:https://gorainmakers.com/wp-content/uploads/2021/12/RM_Speed-Networking.png
END:VEVENT
END:VCALENDAR