BEGIN:VCALENDAR
VERSION:2.0
PRODID:-//Rainmakers - ECPv6.15.17.1//NONSGML v1.0//EN
CALSCALE:GREGORIAN
METHOD:PUBLISH
X-WR-CALNAME:Rainmakers
X-ORIGINAL-URL:https://gorainmakers.com
X-WR-CALDESC:Events for Rainmakers
REFRESH-INTERVAL;VALUE=DURATION:PT1H
X-Robots-Tag:noindex
X-PUBLISHED-TTL:PT1H
BEGIN:VTIMEZONE
TZID:America/Indiana/Indianapolis
BEGIN:DAYLIGHT
TZOFFSETFROM:-0500
TZOFFSETTO:-0400
TZNAME:EDT
DTSTART:20210314T070000
END:DAYLIGHT
BEGIN:STANDARD
TZOFFSETFROM:-0400
TZOFFSETTO:-0500
TZNAME:EST
DTSTART:20211107T060000
END:STANDARD
BEGIN:DAYLIGHT
TZOFFSETFROM:-0500
TZOFFSETTO:-0400
TZNAME:EDT
DTSTART:20220313T070000
END:DAYLIGHT
BEGIN:STANDARD
TZOFFSETFROM:-0400
TZOFFSETTO:-0500
TZNAME:EST
DTSTART:20221106T060000
END:STANDARD
BEGIN:DAYLIGHT
TZOFFSETFROM:-0500
TZOFFSETTO:-0400
TZNAME:EDT
DTSTART:20230312T070000
END:DAYLIGHT
BEGIN:STANDARD
TZOFFSETFROM:-0400
TZOFFSETTO:-0500
TZNAME:EST
DTSTART:20231105T060000
END:STANDARD
END:VTIMEZONE
BEGIN:VEVENT
DTSTART;TZID=America/Indiana/Indianapolis:20220607T083000
DTEND;TZID=America/Indiana/Indianapolis:20220607T100000
DTSTAMP:20260423T143540
CREATED:20220422T192628Z
LAST-MODIFIED:20220622T221127Z
UID:124215-1654590600-1654596000@gorainmakers.com
SUMMARY:ThinkUp
DESCRIPTION:Back by popular demand! \nRainmakers ThinkUP is a uniquely organized networking event for business owners and those who serve them. Picture a room full of sharp\, entrepreneurial-minded professionals brainstorming challenges\, mentoring one another\, and identifying new strategic relationship opportunities. \nBring an idea\, a challenge\, or a discussion topic. You’ll have the opportunity to talk in groups and get feedback to help you move forward in your thoughts. It’s the “Place to Start and progress your ideas to actionable steps.” \nThese events will allow time for some open networking followed by the Hot Seat discussions in small groups. \nJoin us at ThinkUp on the first Tuesday of every month! \nStart this exciting new program with a business challenge that is affecting you or your business. \nExample questions: \n\nHow do I attract candidates to the open vacancies in this job seekers market?\nHow can I grow profits in this economy with high inflation?\nHow can I retain my current staff when there are many other business opportunities being offered?\n\n  \nCome and join us for this new and exciting event that will challenge you and change you and/ or your business for the better. \n  \n\nTHANK YOU to Our Host: \n \n\n\nNexus is more than just a coworking space and venue location. While we do have the typical benefits these spaces offer like high-speed internet and great coffee\, we do things a little differently: our profits support social impact. Our pricing\, amenities and flexibility are all designed to tear down walls for socially-minded companies and organizations to enable them to grow their impact. While our mission and programs are focused on helping people embed sustainable social impact\, our space and memberships are open to people of all walks of life looking for an economical space to work\, meet and hold events\, thereby contributing to social impact. \nLearn more about Nexus here.
URL:https://gorainmakers.com/event/thinkup-5/
LOCATION:Nexus Impact Center\, 9511 Angola Ct\, Indianapolis\, 46268
CATEGORIES:Small Business,ThinkUP
ATTACH;FMTTYPE=image/png:https://gorainmakers.com/wp-content/uploads/2022/04/ThinkUp-2022.png
END:VEVENT
BEGIN:VEVENT
DTSTART;TZID=America/Indiana/Indianapolis:20220608T083000
DTEND;TZID=America/Indiana/Indianapolis:20220608T093000
DTSTAMP:20260423T143540
CREATED:20220525T191058Z
LAST-MODIFIED:20220525T192053Z
UID:124238-1654677000-1654680600@gorainmakers.com
SUMMARY:Why All Financial Roads Lead to Cash Flow - A Virtual Workshop
DESCRIPTION:Come Learn why all Financial Roads lead to Cash Flow!\n\n\n\nCash flow is one of the most critical components of success for a small or mid-sized business.\nWithout cash\, profits are meaningless.\n82% of businesses FAIL because of Cash Flow\, and 29% just flat run out of money.\n\n\n \nCash Flow Mapping lets you…\n > Forecast expenses\n > Prepare for dry months\n > Know what to charge your clients\n\n \n\n\nOur Facilitator: \n \nJerry Vaughn\, President \nJ. Galt Finance Suite
URL:https://gorainmakers.com/event/why-all-financial-roads-lead-to-cash-flow-a-virtual-workshop/
LOCATION:Online Event\, United States
CATEGORIES:Efficiency,Small Business
ATTACH;FMTTYPE=image/png:https://gorainmakers.com/wp-content/uploads/2022/05/Why-All-Financial-Raods-Lead-to-Cashflow.png
END:VEVENT
BEGIN:VEVENT
DTSTART;TZID=America/Indiana/Indianapolis:20220615T130000
DTEND;TZID=America/Indiana/Indianapolis:20220615T140000
DTSTAMP:20260423T143540
CREATED:20220123T183226Z
LAST-MODIFIED:20220525T165201Z
UID:124145-1655298000-1655301600@gorainmakers.com
SUMMARY:Filling Your Sales Pipeline
DESCRIPTION:Would you like to spend less time hunting for clients and more time helping your clients?  Would you love to have your sales pipeline full of people that are ready to buy from you? If you answered yes to one or both of those questions\, join Denise as she shares strategies and tactics that can save you time AND make you more money as you learn to build your business by referral. \n  \nFilling Your Sales Pipeline Series \nJoin Denise each month as she shares the components of putting together your own customized Referral Marketing plan for your business that when implemented\, will result in you filling your sales pipeline full of prospects that are ready to buy from you. \nJune Session: When somebody asks you “What do you do?” what do you say?  \nWhen asked what you do…\n\nDo you ever find yourself saying the same old thing? \nDo you stumble over your words to answer the question? \nDo you find yourself over-explaining what you do? \n\n\nMost people who ask you what you do\, are just waiting for you to stop talking so they can tell you what they do.  What if your answer to “What do you do?” actually sparked conversation and the urge to learn more about you and your business?\n\nIn this session\, we are going to work on three effective answers to the age-old question of “What do you do?”\n  \n  \nOur Facilitator: \n \nDenise Praul \nDenise Praul is a Referral Marketing Strategist and the founder of Whiteboard Learning. She is committed to sharing practical real-world information to help business professionals create referral marketing strategies to grow their businesses. \nShe put her referral knowledge to the test in her own property tax consulting business and significantly and consistently grew the business year after year with no additional investment of money or time. Using that experience and knowledge she developed a duplicatable system to help other businesses have the same success. \nDenise has created a system called Roadmap to Unlimited Referrals that she now trains and shares with other business people to help them significantly grow and scale their own businesses. \nDenise Praul \nWhite Board Learning \n317-989-2222 \nwb-learning.com \n 
URL:https://gorainmakers.com/event/filling-your-sales-pipeline-2022-06-15/
LOCATION:Zoom Webinar\, Indianapolis\, IN
CATEGORIES:Small Business
ATTACH;FMTTYPE=image/png:https://gorainmakers.com/wp-content/uploads/2022/01/Rainmakers-Presents_Filling-Your-Sales-Pipeline.png
END:VEVENT
BEGIN:VEVENT
DTSTART;TZID=America/Indiana/Indianapolis:20220621T083000
DTEND;TZID=America/Indiana/Indianapolis:20220621T103000
DTSTAMP:20260423T143540
CREATED:20220223T210201Z
LAST-MODIFIED:20220610T164318Z
UID:124174-1655800200-1655807400@gorainmakers.com
SUMMARY:LinkedIn Prospecting Workshop
DESCRIPTION:Leverage your LinkedIn account by sharing your needs with fellow Rainmakers and helping them with their ideal connections. Get the meetings you need to be successful in your business! \nEveryone who attends will have a chance to share the following:\nYour name\, The company you represent\, The service or product that you offer your clients\, and how you help your clients. Everyone else will search their own Linkedin connections for this criteria and make immediate introductions.\n\nTo attend this session you must know how to: \n\nSearch and use filters on Linkedin\nHave an all-star profile\nKnow-How to share a profile with a connection\nYou must have a written intro for others to send on your behalf.  I have attached a variety of samples from other members that might be helpful when putting together your intro.\n\n  \nIn this session\, you will share the following: \n\nDescribe who is your ideal strategic partner/referral partner.  Who calls on the same person in a corporation that you do?  (CIO/CEO/CFO\, ETC.)\nDescribe who is your ideal client (it’s not“everyone”)\nYou do not need to have a paid LinkedIn subscription\, although it’s nice to have.\n\n  \nWhat to expect (how-to): \n\nRound 1 connect to each other before the actual session (I will send the list of people who registered for this event ahead of time)\nRound 2 explain keywords describing who you want to meet.  Other members will send you a person that fits the bill and you reply through messenger if that looks good.\nRound 3 members send a three-way email or LinkedIn message as a warm introduction using verbiage provided during the session.\n\n\n  \n  \nOur Facilitator: \n \nJeff Crane\, Chief “Why” Officer\, The Entrepreneur’s Source  \nAs an Entrepreneur’s Source coach Jeff enjoys helping people discover their “Why” and creating a roadmap to help individuals and business owners in transition. With over 18 years in advertising\, marketing\, sales and management\, Jeff mentors individuals and teams to match their gifts and strengths with new possibilities and growth strategies. He lives in Indianapolis with his wife\, Leah\, and two children. He is a graduate of Ball State University\, an active leader at his Church and is also an Eagle Scout. Jeff is also a volunteer staff leader at Passport to Employment to help people in career transition.
URL:https://gorainmakers.com/event/linkedin-prospecting-workshop-2022-04-19-2022-06-21/
LOCATION:The Clubhouse in Carmel\, 200 S Rangeline Rd\, Suite 129\, Carmel\, 46032\, United States
CATEGORIES:LinkedIn Roundtable
ATTACH;FMTTYPE=image/png:https://gorainmakers.com/wp-content/uploads/2020/12/Rainmakers-Presents_LinkedInProspectingRtbl.png
END:VEVENT
BEGIN:VEVENT
DTSTART;TZID=America/Indiana/Indianapolis:20220622T083000
DTEND;TZID=America/Indiana/Indianapolis:20220622T100000
DTSTAMP:20260423T143540
CREATED:20220525T191420Z
LAST-MODIFIED:20220525T192614Z
UID:124240-1655886600-1655892000@gorainmakers.com
SUMMARY:Why All Financial Roads Lead to Cash Flow - An In-Person Workshop
DESCRIPTION:Join us LIVE to Learn why all Financial Roads lead to Cash Flow!\n\n\n\nCash flow is one of the most critical components of success for a small or mid-sized business.\nWithout cash\, profits are meaningless.\n82% of businesses FAIL because of Cash Flow\, and 29% just flat run out of money.\n\n\n \nCash Flow Mapping lets you…\n > Forecast expenses\n > Prepare for dry months\n > Know what to charge your clients\n\n \n\n\nOur Facilitator: \n \nJerry Vaughn\, President \nJ. Galt Finance Suite \n \n  \n  \nTHANK YOU to Our Host: \nNexus Impact Center \nNexus is more than just a coworking space and venue location.  While we do have the typical benefits these spaces offer like high-speed internet and great coffee\, we do things a little differently: our profits support social impact. Our pricing\, amenities and flexibility are all designed to tear down walls for socially-minded companies and organizations to enable them to grow their impact.  While our mission and programs are focused on helping people embed sustainable social impact\, our space and memberships are open to people of all walks of life looking for an economical space to work\, meet and hold events\, thereby contributing to social impact.
URL:https://gorainmakers.com/event/why-all-financial-roads-lead-to-cash-flow-in-person-workshop-2/
LOCATION:Nexus Impact Center\, 9511 Angola Ct\, Indianapolis\, 46268
CATEGORIES:Efficiency,Small Business
ATTACH;FMTTYPE=image/png:https://gorainmakers.com/wp-content/uploads/2022/05/Why-All-Financial-Raods-Lead-to-Cashflow.png
END:VEVENT
BEGIN:VEVENT
DTSTART;TZID=America/Indiana/Indianapolis:20220628T173000
DTEND;TZID=America/Indiana/Indianapolis:20220628T200000
DTSTAMP:20260423T143540
CREATED:20220119T153101Z
LAST-MODIFIED:20220622T220034Z
UID:124139-1656437400-1656446400@gorainmakers.com
SUMMARY:Eat + Drink
DESCRIPTION:Rainmakers Eat + Drink is our monthly social event. We travel all around the city to experience Indy’s best independent restaurant establishments.  Everyone welcome! Bring a friend or colleague and participate in a relaxed networking environment while enjoying the great tastes of Indy. \nJoin us in June at Iarias Restaurant! \n \nCocktails 5:30-6:30 \nDinner 6:30 – ? \n  \nNote: We’re responsible for finding a great restaurant! You’re responsible for your food and drink! \nLet’s support a local restaurant\, get to know other folks\, and have great food and beverages all at the same time! \n  \n  \nTHANK YOU to Our Sponsor: \n \nNathan Pfahler \nwith Weichert Realtors for sponsoring Rainmakers Eat + Drink! \nI am happily married to Jennifer Pfahler and we have 2 young boys who are fun and active! I have been a licensed REALTOR since 2005\, started the real estate team of The Pfahler Group\, in 2012\, and have owned my own brokerage since 2018\, purchasing the Weichert Franchise towards the end of 2019. To date\, I’ve been involved in over 700 real estate transactions and am pumped to think about how many families and individuals that means we have helped in their journey to homeownership! \nMy family and I reside in Brownsburg\, IN where we are involved in various school\, church\, and community activities! I am excited to lead a great team and a great brokerage! We would be honored to assist you in your residential or commercial needs. \n 
URL:https://gorainmakers.com/event/eat-drink-18/
LOCATION:Iarias Restaurant\, 317 S College Ave\, Indianapolis\, IN\, 46202
CATEGORIES:Networking,Social
ATTACH;FMTTYPE=image/png:https://gorainmakers.com/wp-content/uploads/2022/01/EatDrink2022_wide.png
END:VEVENT
BEGIN:VEVENT
DTSTART;TZID=America/Indiana/Indianapolis:20220629T180000
DTEND;TZID=America/Indiana/Indianapolis:20220629T193000
DTSTAMP:20260423T143540
CREATED:20220621T132212Z
LAST-MODIFIED:20220622T201918Z
UID:124260-1656525600-1656531000@gorainmakers.com
SUMMARY:Indiana Small Business Monthly Meetup
DESCRIPTION:Register for just $25 to attend this monthly meetup on June 29th AND Indiana Small Business Expo on September 16th!
URL:https://gorainmakers.com/event/indiana-small-business-monthly-meetup/
LOCATION:Indianapolis Yacht Club\, 12900 Fall Creek Road\, McCordsville\, 46055
CATEGORIES:Small Business
END:VEVENT
END:VCALENDAR