BEGIN:VCALENDAR
VERSION:2.0
PRODID:-//Rainmakers - ECPv6.15.17.1//NONSGML v1.0//EN
CALSCALE:GREGORIAN
METHOD:PUBLISH
X-WR-CALNAME:Rainmakers
X-ORIGINAL-URL:https://gorainmakers.com
X-WR-CALDESC:Events for Rainmakers
REFRESH-INTERVAL;VALUE=DURATION:PT1H
X-Robots-Tag:noindex
X-PUBLISHED-TTL:PT1H
BEGIN:VTIMEZONE
TZID:America/Indiana/Indianapolis
BEGIN:DAYLIGHT
TZOFFSETFROM:-0500
TZOFFSETTO:-0400
TZNAME:EDT
DTSTART:20210314T070000
END:DAYLIGHT
BEGIN:STANDARD
TZOFFSETFROM:-0400
TZOFFSETTO:-0500
TZNAME:EST
DTSTART:20211107T060000
END:STANDARD
BEGIN:DAYLIGHT
TZOFFSETFROM:-0500
TZOFFSETTO:-0400
TZNAME:EDT
DTSTART:20220313T070000
END:DAYLIGHT
BEGIN:STANDARD
TZOFFSETFROM:-0400
TZOFFSETTO:-0500
TZNAME:EST
DTSTART:20221106T060000
END:STANDARD
BEGIN:DAYLIGHT
TZOFFSETFROM:-0500
TZOFFSETTO:-0400
TZNAME:EDT
DTSTART:20230312T070000
END:DAYLIGHT
BEGIN:STANDARD
TZOFFSETFROM:-0400
TZOFFSETTO:-0500
TZNAME:EST
DTSTART:20231105T060000
END:STANDARD
END:VTIMEZONE
BEGIN:VEVENT
DTSTART;TZID=America/Indiana/Indianapolis:20221206T083000
DTEND;TZID=America/Indiana/Indianapolis:20221206T100000
DTSTAMP:20260418T182500
CREATED:20220422T193227Z
LAST-MODIFIED:20221205T203403Z
UID:124278-1670315400-1670320800@gorainmakers.com
SUMMARY:ThinkUp
DESCRIPTION:Join virtually or in person! \nRainmakers ThinkUP is a uniquely organized networking event for business owners and those who serve them. Picture a room full of sharp\, entrepreneurial-minded professionals brainstorming challenges\, mentoring one another\, and identifying new strategic relationship opportunities. \nBring an idea\, a challenge\, or a discussion topic. You’ll have the opportunity to talk in groups and get feedback to help you move forward in your thoughts. It’s the “Place to Start and progress your ideas to actionable steps.” \nThese events will allow time for some open networking followed by the Hot Seat discussions in small groups. \n  \nStart this exciting new program with a business challenge that is affecting you or your business. \nExample questions: \n\nHow do I attract candidates to the open vacancies in this job seekers market?\nHow can I grow profits in this economy with high inflation?\nHow can I retain my current staff when there are many other business opportunities being offered?\n\n  \nCome and join us for this new and exciting event that will challenge you and change you and/ or your business for the better. \n_________________________________\nWe are collecting shoes for Hope For The Holidays for Firefly Children and Family Alliance at all Rainmakers events/workshops in December.\n\n_________________________________\n\n\nTHANK YOU to Our Host: \n\n\nApprentice University was originally created to reduce a talent shortage in the technology industry. However\, we have expanded since then to a diverse community of professionals and students. Our apprentices’ interests range from marketing to cybersecurity to entrepreneurship to media and digital storytelling and more. Our model has undergone a few iterations\, but throughout the changes we remain to guide our students through challenging\, real-world experiences that prepare them for their future. We plan\, arrange\, and manage apprenticeships in the quickly changed\, high-demand careers of the future\, offering professional certificates in marketing\, IT administration\, cybersecurity\, web design & UX\, and much more. We are striving to build the professionals of the future.
URL:https://gorainmakers.com/event/thinkup-6-2022-12-06/
LOCATION:Apprentice University\, 6402 Corporate Drive\, Indianapolis\, 46278
CATEGORIES:Small Business,ThinkUP
ATTACH;FMTTYPE=image/png:https://gorainmakers.com/wp-content/uploads/2022/04/ThinkUp-2022.png
END:VEVENT
BEGIN:VEVENT
DTSTART;TZID=America/Indiana/Indianapolis:20221206T180000
DTEND;TZID=America/Indiana/Indianapolis:20221206T200000
DTSTAMP:20260418T182500
CREATED:20221110T171515Z
LAST-MODIFIED:20221205T203918Z
UID:124352-1670349600-1670356800@gorainmakers.com
SUMMARY:Holiday Eat + Drink
DESCRIPTION:Rainmakers Eat + Drink is our monthly social event. We travel all around the city to experience Indy’s best independent restaurant establishments. Everyone welcome! Bring a friend or colleague and participate in a relaxed networking environment while enjoying the great tastes of Indy. \n  \nJoin us in December for  a 3-course Holiday Meal \nat \nMatteo’s Italian Restaurant \n  \nIndulge in a special 3-course meal. Please note\, you must pre-pay for your meal. Prices are reflected in cost of ticket: $64.50 (tax & gratuity included)  \nMenu Options:  \nChoose one from each category:  \n1st course   \n\nHouse Salad \nCaesar Salad \n\n2nd course   \n\nTortellini Matteo’s \nChicken Parmigiana \nSalmon Limone \n\n3rd course  \n\nTiramisu \nDelizia limone\n\n  \n \nNote: We’re responsible for finding a great restaurant! You’re responsible for your food and drink! \nLet’s support a local restaurant\, get to know other folks\, and have great food and beverages all at the same time! \n_________________________________\nWe are collecting shoes for Hope For The Holidays for Firefly Children and Family Alliance at all Rainmakers events/workshops in December.\n\n_________________________________\n\n\n\nTHANK YOU to Our Sponsor: \n \nNathan Pfahler with Weichert Realtors for sponsoring Rainmakers Eat + Drink! \n  \nI am happily married to Jennifer Pfahler and we have 2 young boys who are fun and active! I have been a licensed REALTOR since 2005\, started the real estate team of The Pfahler Group\, in 2012\, and have owned my own brokerage since 2018\, purchasing the Weichert Franchise towards the end of 2019. To date\, I’ve been involved in over 700 real estate transactions and am pumped to think about how many families and individuals that means we have helped in their journey to homeownership! \n  \nMy family and I reside in Brownsburg\, IN where we are involved in various school\, church\, and community activities! I am excited to lead a great team and a great brokerage! We would be honored to assist you in your residential or commercial needs.
URL:https://gorainmakers.com/event/holiday-eat-drink-5/
LOCATION:Matteo’s Italian Restaurant\, 40 N 9th St.\, Noblesville\, IN\, 46060\, United States
ATTACH;FMTTYPE=image/png:https://gorainmakers.com/wp-content/uploads/2022/01/EatDrink2022_wide.png
END:VEVENT
BEGIN:VEVENT
DTSTART;TZID=America/Indiana/Indianapolis:20221209T110000
DTEND;TZID=America/Indiana/Indianapolis:20221209T140000
DTSTAMP:20260418T182500
CREATED:20221207T221332Z
LAST-MODIFIED:20221207T221332Z
UID:124369-1670583600-1670594400@gorainmakers.com
SUMMARY:Holiday Open House Give Back
DESCRIPTION:  \nSponsored by: \n \nNathan Pfahler with Weichert Realtors for sponsoring Rainmakers Eat + Drink! \n  \nI am happily married to Jennifer Pfahler and we have 2 young boys who are fun and active! I have been a licensed REALTOR since 2005\, started the real estate team of The Pfahler Group\, in 2012\, and have owned my own brokerage since 2018\, purchasing the Weichert Franchise towards the end of 2019. To date\, I’ve been involved in over 700 real estate transactions and am pumped to think about how many families and individuals that means we have helped in their journey to homeownership! \n  \nMy family and I reside in Brownsburg\, IN where we are involved in various school\, church\, and community activities! I am excited to lead a great team and a great brokerage! We would be honored to assist you in your residential or commercial needs.
URL:https://gorainmakers.com/event/holiday-open-house-give-back/
LOCATION:1451 S Green St.\, Ste B\, 1451 S Green St.\, Ste. B\, Brownsburg\, Indiana
END:VEVENT
BEGIN:VEVENT
DTSTART;TZID=America/Indiana/Indianapolis:20221213T170000
DTEND;TZID=America/Indiana/Indianapolis:20221213T193000
DTSTAMP:20260418T182500
CREATED:20221207T221424Z
LAST-MODIFIED:20221207T221424Z
UID:124371-1670950800-1670959800@gorainmakers.com
SUMMARY:Holiday Open House Give Back
DESCRIPTION:  \nSponsored by: \n \nNathan Pfahler with Weichert Realtors for sponsoring Rainmakers Eat + Drink! \n  \nI am happily married to Jennifer Pfahler and we have 2 young boys who are fun and active! I have been a licensed REALTOR since 2005\, started the real estate team of The Pfahler Group\, in 2012\, and have owned my own brokerage since 2018\, purchasing the Weichert Franchise towards the end of 2019. To date\, I’ve been involved in over 700 real estate transactions and am pumped to think about how many families and individuals that means we have helped in their journey to homeownership! \n  \nMy family and I reside in Brownsburg\, IN where we are involved in various school\, church\, and community activities! I am excited to lead a great team and a great brokerage! We would be honored to assist you in your residential or commercial needs.
URL:https://gorainmakers.com/event/holiday-open-house-give-back-2/
LOCATION:1451 S Green St.\, Ste B\, 1451 S Green St.\, Ste. B\, Brownsburg\, Indiana
END:VEVENT
BEGIN:VEVENT
DTSTART;TZID=America/Indiana/Indianapolis:20221214T083000
DTEND;TZID=America/Indiana/Indianapolis:20221214T100000
DTSTAMP:20260418T182500
CREATED:20221116T202200Z
LAST-MODIFIED:20221205T202826Z
UID:124359-1671006600-1671012000@gorainmakers.com
SUMMARY:Growing Relationships (Digital and Analog) That Work For You
DESCRIPTION:Growing Relationship (Digital and Analog) That Work For You  \n\n \nLinkedIn is the place to be! As a business directory of over 850 million users\, your ideal clients are there.  Learn how to start leveraging LinkedIn to grow your business.  In this session you will:\n \n\n\nLearn how to Optimize your profile to stand out in the crowd\nLearn advanced strategies to find your ideal prospects and partnerships\nLearn how to Start productive conversations that lead to sales\nLearn how to use the latest technology to scale your outreach to impressive levels \n\n\n\n\n8:30 – 9:00 Open Networking & Introductions\n9:00 – 10:00 Presentation\n\n\n\n\n\n\n_________________________________\nWe are collecting shoes for Hope For The Holidays for Firefly Children and Family Alliance at all Rainmakers events/workshops in December.\n\n_________________________________\n\n\n\n\n\n\nOur Facilitator:\nMatthew Kraft\, Kennected\n\n\nMatt Kraft started his professional career in language education. After a few years of pursuing a coaching career in collegiate athletics\, he took an opportunity to teach in Saudi Arabia. There\, he spent a total of three years teaching young adults at a top engineering university (KFUPM). Global changes in 2020 allowed him the space to reevaluate his career path and transition into the tech industry. Now he helps save business professionals time and simplifies opportunities through LinkedIn.\n\n \n \nFind Kennected on:Youtube | Instagram
URL:https://gorainmakers.com/event/growing-relationships-digital-and-analog-that-work-for-you/
LOCATION:Nexus Impact Center\, 9511 Angola Ct\, Indianapolis\, 46268
CATEGORIES:Small Business,Technology,Training
ATTACH;FMTTYPE=image/png:https://gorainmakers.com/wp-content/uploads/2022/11/Growing-Relationship-Digital-and-Analog-That-Work-For-You.png
END:VEVENT
BEGIN:VEVENT
DTSTART;TZID=America/Indiana/Indianapolis:20221220T083000
DTEND;TZID=America/Indiana/Indianapolis:20221220T103000
DTSTAMP:20260418T182500
CREATED:20220223T210201Z
LAST-MODIFIED:20221205T202748Z
UID:124180-1671525000-1671532200@gorainmakers.com
SUMMARY:LinkedIn Lead Share
DESCRIPTION:Leverage your LinkedIn account by sharing your needs with fellow Rainmakers and helping them with their ideal connections. Get the meetings you need to be successful in your business! \nEveryone who attends will have a chance to share the following:\nYour name\, The company you represent\, The service or product that you offer your clients\, and how you help your clients. Everyone else will search their own Linkedin connections for this criteria and make immediate introductions.\n_________________________________\nWe are collecting shoes for Hope For The Holidays for Firefly Children and Family Alliance at all Rainmakers events/workshops in December.\n\n_________________________________\n\nTo attend this session you must know how to: \n\nSearch and use filters on Linkedin\nHave an all-star profile\nKnow-How to share a profile with a connection\nYou must have a written intro for others to send on your behalf.  I have attached a variety of samples from other members that might be helpful when putting together your intro.\n\n  \nIn this session\, you will share the following: \n\nDescribe who is your ideal strategic partner/referral partner.  Who calls on the same person in a corporation that you do?  (CIO/CEO/CFO\, ETC.)\nDescribe who is your ideal client (it’s not“everyone”)\nYou do not need to have a paid LinkedIn subscription\, although it’s nice to have.\n\n  \nWhat to expect (how-to): \n\nRound 1 connect to each other before the actual session (I will send the list of people who registered for this event ahead of time)\nRound 2 explain keywords describing who you want to meet.  Other members will send you a person that fits the bill and you reply through messenger if that looks good.\nRound 3 members send a three-way email or LinkedIn message as a warm introduction using verbiage provided during the session.\n\n\n  \n  \nOur Facilitator: \n \nJeff Crane\, Chief “Why” Officer\, The Entrepreneur’s Source  \nAs an Entrepreneur’s Source coach Jeff enjoys helping people discover their “Why” and creating a roadmap to help individuals and business owners in transition. With over 18 years in advertising\, marketing\, sales and management\, Jeff mentors individuals and teams to match their gifts and strengths with new possibilities and growth strategies. He lives in Indianapolis with his wife\, Leah\, and two children. He is a graduate of Ball State University\, an active leader at his Church and is also an Eagle Scout. Jeff is also a volunteer staff leader at Passport to Employment to help people in career transition.
URL:https://gorainmakers.com/event/linkedin-prospecting-workshop-2022-04-19-2022-12-20/
LOCATION:Nexus Impact Center\, 9511 Angola Ct\, Indianapolis\, 46268
CATEGORIES:LinkedIn Roundtable
ATTACH;FMTTYPE=image/png:https://gorainmakers.com/wp-content/uploads/2022/02/Linkedin-Lead-Share-2022.png
END:VEVENT
BEGIN:VEVENT
DTSTART;TZID=America/Indiana/Indianapolis:20221220T083000
DTEND;TZID=America/Indiana/Indianapolis:20221220T103000
DTSTAMP:20260418T182500
CREATED:20221219T214118Z
LAST-MODIFIED:20221219T214118Z
UID:124383-1671525000-1671532200@gorainmakers.com
SUMMARY:LinkedIn Lead Share
DESCRIPTION:Leverage your LinkedIn account by sharing your needs with fellow Rainmakers and helping them with their ideal connections. Get the meetings you need to be successful in your business! \nEveryone who attends will have a chance to share the following:\nYour name\, The company you represent\, The service or product that you offer your clients\, and how you help your clients. Everyone else will search their own Linkedin connections for this criteria and make immediate introductions.\n_________________________________\nWe are collecting shoes for Hope For The Holidays for Firefly Children and Family Alliance at all Rainmakers events/workshops in December.\n\n_________________________________\n\nTo attend this session you must know how to: \n\nSearch and use filters on Linkedin\nHave an all-star profile\nKnow-How to share a profile with a connection\nYou must have a written intro for others to send on your behalf.  I have attached a variety of samples from other members that might be helpful when putting together your intro.\n\n  \nIn this session\, you will share the following: \n\nDescribe who is your ideal strategic partner/referral partner.  Who calls on the same person in a corporation that you do?  (CIO/CEO/CFO\, ETC.)\nDescribe who is your ideal client (it’s not“everyone”)\nYou do not need to have a paid LinkedIn subscription\, although it’s nice to have.\n\n  \nWhat to expect (how-to): \n\nRound 1 connect to each other before the actual session (I will send the list of people who registered for this event ahead of time)\nRound 2 explain keywords describing who you want to meet.  Other members will send you a person that fits the bill and you reply through messenger if that looks good.\nRound 3 members send a three-way email or LinkedIn message as a warm introduction using verbiage provided during the session.\n\n\n  \n  \nOur Facilitator: \n \nJeff Crane\, Chief “Why” Officer\, The Entrepreneur’s Source  \nAs an Entrepreneur’s Source coach Jeff enjoys helping people discover their “Why” and creating a roadmap to help individuals and business owners in transition. With over 18 years in advertising\, marketing\, sales and management\, Jeff mentors individuals and teams to match their gifts and strengths with new possibilities and growth strategies. He lives in Indianapolis with his wife\, Leah\, and two children. He is a graduate of Ball State University\, an active leader at his Church and is also an Eagle Scout. Jeff is also a volunteer staff leader at Passport to Employment to help people in career transition.
URL:https://gorainmakers.com/event/linkedin-prospecting-workshop-2022-04-19-2022-12-20-2/
LOCATION:Online Event\, United States
CATEGORIES:LinkedIn Roundtable
ATTACH;FMTTYPE=image/png:https://gorainmakers.com/wp-content/uploads/2022/02/Linkedin-Lead-Share-2022.png
END:VEVENT
END:VCALENDAR