BEGIN:VCALENDAR
VERSION:2.0
PRODID:-//Rainmakers - ECPv6.15.17.1//NONSGML v1.0//EN
CALSCALE:GREGORIAN
METHOD:PUBLISH
X-ORIGINAL-URL:https://gorainmakers.com
X-WR-CALDESC:Events for Rainmakers
REFRESH-INTERVAL;VALUE=DURATION:PT1H
X-Robots-Tag:noindex
X-PUBLISHED-TTL:PT1H
BEGIN:VTIMEZONE
TZID:America/Indiana/Indianapolis
BEGIN:DAYLIGHT
TZOFFSETFROM:-0500
TZOFFSETTO:-0400
TZNAME:EDT
DTSTART:20220313T070000
END:DAYLIGHT
BEGIN:STANDARD
TZOFFSETFROM:-0400
TZOFFSETTO:-0500
TZNAME:EST
DTSTART:20221106T060000
END:STANDARD
BEGIN:DAYLIGHT
TZOFFSETFROM:-0500
TZOFFSETTO:-0400
TZNAME:EDT
DTSTART:20230312T070000
END:DAYLIGHT
BEGIN:STANDARD
TZOFFSETFROM:-0400
TZOFFSETTO:-0500
TZNAME:EST
DTSTART:20231105T060000
END:STANDARD
BEGIN:DAYLIGHT
TZOFFSETFROM:-0500
TZOFFSETTO:-0400
TZNAME:EDT
DTSTART:20240310T070000
END:DAYLIGHT
BEGIN:STANDARD
TZOFFSETFROM:-0400
TZOFFSETTO:-0500
TZNAME:EST
DTSTART:20241103T060000
END:STANDARD
END:VTIMEZONE
BEGIN:VEVENT
DTSTART;TZID=America/Indiana/Indianapolis:20230601T090000
DTEND;TZID=America/Indiana/Indianapolis:20230601T100000
DTSTAMP:20260421T184335
CREATED:20230522T012728Z
LAST-MODIFIED:20230522T012728Z
UID:124540-1685610000-1685613600@gorainmakers.com
SUMMARY:Building Business Credit Workshop
DESCRIPTION:Learn how to get business credit for your company EIN that’s not linked to you personally or your personal credit. Secure HIGH-limit vendor\, store\, fleet\, and cash credit in your business name without a personal guarantee or personal credit check. No collateral or cash flow is required for approval. \n  \nYou will learn the following: \n\nWhat is Business Credit\nHow to get the credit you need\n7 Steps to EIN Business Credit\nYour SSN is not your business’s business\n\n \n  \nOur Facilitator: \n \nJerry Vaughn\, President \nJ. Galt Finance Suite
URL:https://gorainmakers.com/event/building-business-credit-workshop/
LOCATION:Online Event\, United States
CATEGORIES:Small Business
ATTACH;FMTTYPE=image/png:https://gorainmakers.com/wp-content/uploads/2022/07/Business-Credit-Avoid-These-Mistakes.png
END:VEVENT
BEGIN:VEVENT
DTSTART;TZID=America/Indiana/Indianapolis:20230606T083000
DTEND;TZID=America/Indiana/Indianapolis:20230606T100000
DTSTAMP:20260421T184335
CREATED:20230104T152217Z
LAST-MODIFIED:20230310T202815Z
UID:124389-1686040200-1686045600@gorainmakers.com
SUMMARY:ThinkUp
DESCRIPTION:Rainmakers ThinkUP is a uniquely organized networking event for business owners and those who serve them. Picture a room full of sharp\, entrepreneurial-minded professionals brainstorming challenges\, mentoring one another\, and identifying new strategic relationship opportunities. \nBring an idea\, a challenge\, or a discussion topic. You’ll have the opportunity to talk in groups and get feedback to help you move forward in your thoughts. It’s the “Place to Start and progress your ideas to actionable steps.” \nThese events will allow time for some open networking followed by the Hot Seat discussions in small groups. \n  \nStart this exciting new program with a business challenge that is affecting you or your business. \nExample questions: \n\nHow do I attract candidates to the open vacancies in this job seekers market?\nHow can I grow profits in this economy with high inflation?\nHow can I retain my current staff when there are many other business opportunities being offered?\n\n  \nCome and join us for this new and exciting event that will challenge you and change you and/ or your business for the better. \n\n_________________________________\n\n\nTHANK YOU to Our Host: \n\n\nApprentice University was originally created to reduce a talent shortage in the technology industry. However\, we have expanded since then to a diverse community of professionals and students. Our apprentices’ interests range from marketing to cybersecurity to entrepreneurship to media and digital storytelling and more. Our model has undergone a few iterations\, but throughout the changes we remain to guide our students through challenging\, real-world experiences that prepare them for their future. We plan\, arrange\, and manage apprenticeships in the quickly changed\, high-demand careers of the future\, offering professional certificates in marketing\, IT administration\, cybersecurity\, web design & UX\, and much more. We are striving to build the professionals of the future.
URL:https://gorainmakers.com/event/thinkup-8-2023-06-06/
LOCATION:Apprentice University\, 6402 Corporate Drive\, Indianapolis\, 46278
CATEGORIES:Small Business,ThinkUP
ATTACH;FMTTYPE=image/png:https://gorainmakers.com/wp-content/uploads/2022/04/ThinkUp-2022.png
END:VEVENT
BEGIN:VEVENT
DTSTART;TZID=America/Indiana/Indianapolis:20230615T090000
DTEND;TZID=America/Indiana/Indianapolis:20230615T100000
DTSTAMP:20260421T184335
CREATED:20230522T013142Z
LAST-MODIFIED:20230522T141016Z
UID:124541-1686819600-1686823200@gorainmakers.com
SUMMARY:Cash Flow Management For Businesses
DESCRIPTION:Ready to create the future you want but poor Cash Flow is holding you back? \nEveryone has the power to take control of their cash flow and tell their money where to go instead of asking where it went. Too many business owners refer to their gross top line revenue as their profit. We know that seems silly but it’s true. We will empower you to understand the difference between gross top line revenue and your gross profit. This will also help you create business goals such as selling more and/or reducing costs which of course leads to more profit which leads to helping you meet your personal goals. \n  \nStart your journey to better Cash Flow Management during our class. \n  \nOur Facilitator: \n \nJerry Vaughn\, President \nJ. Galt Finance Suite
URL:https://gorainmakers.com/event/understanding-cash-flow-workshop/
LOCATION:Nexus Impact Center\, 9511 Angola Ct\, Indianapolis\, 46268
CATEGORIES:Small Business
ATTACH;FMTTYPE=image/png:https://gorainmakers.com/wp-content/uploads/2023/05/Understanding-Cash-Flow.png
END:VEVENT
BEGIN:VEVENT
DTSTART;TZID=America/Indiana/Indianapolis:20230621T090000
DTEND;TZID=America/Indiana/Indianapolis:20230621T100000
DTSTAMP:20260421T184335
CREATED:20230104T152731Z
LAST-MODIFIED:20230525T135528Z
UID:124498-1687338000-1687341600@gorainmakers.com
SUMMARY:Calculating ROI on Your Networking Activities
DESCRIPTION:Would you like to spend less time hunting for clients and more time helping your clients?  Would you love to have your sales pipeline full of people that are ready to buy from you? If you answered yes to one or both of those questions\, join Denise as she shares strategies and tactics that can save you time AND make you more money as you learn to build your business by referral. \nJune Topic: Calculating ROI on Your Networking Activities \n\nAlmost every business owner does some form of networking for their business\, BUT how do you know if that networking is really paying off for you?\n\nThis month we will discuss:\n\n\n\n How Much Your Networking is Costing You\n How Much Your Networking is Making You\n How to Improve Your ROI for Your Networking Activities\n\n\n  \n  \nFilling Your Sales Pipeline Series \nJoin Denise each month as she shares the components of putting together your own customized Referral Marketing plan for your business that when implemented\, will result in you filling your sales pipeline full of prospects that are ready to buy from you. \n  \nTopic: Coming soon!\n\n\n  \nOur Facilitator: \n \nDenise Praul \nDenise Praul is a Referral Marketing Strategist and the founder of Whiteboard Learning. She is committed to sharing practical real-world information to help business professionals create referral marketing strategies to grow their businesses. \nShe put her referral knowledge to the test in her own property tax consulting business and significantly and consistently grew the business year after year with no additional investment of money or time. Using that experience and knowledge she developed a duplicatable system to help other businesses have the same success. \nDenise has created a system called Roadmap to Unlimited Referrals that she now trains and shares with other business people to help them significantly grow and scale their own businesses. \nDenise Praul \nWhite Board Learning \n317-989-2222 \nwb-learning.com \n 
URL:https://gorainmakers.com/event/filling-your-sales-pipeline-3-2023-04-19-2023-06-21/
LOCATION:Online Event\, United States
CATEGORIES:Small Business
ATTACH;FMTTYPE=image/png:https://gorainmakers.com/wp-content/uploads/2022/01/Filling-Your-Sales-Pipeline.png
END:VEVENT
BEGIN:VEVENT
DTSTART;TZID=America/Indiana/Indianapolis:20230623T110000
DTEND;TZID=America/Indiana/Indianapolis:20230623T123000
DTSTAMP:20260421T184335
CREATED:20230524T144123Z
LAST-MODIFIED:20230609T121515Z
UID:124545-1687518000-1687523400@gorainmakers.com
SUMMARY:Power of Women
DESCRIPTION:June Topic: From Struggle to Success \nThis will be an engaging and transformative networking event dedicated to supporting and uplifting women in their professional and personal lives.  \nSamantha Tishner\, a Relationship Coach\, and Jill O’Boyle\, High Performance Coach\, provide an insightful workshop packed with tools and strategies to overcome obstacles and thrive in both your career and personal relationships. \nBy the end of this session\, you’ll be able to clearly identify how to recharge your life using the exercises provided as well as develop your own Personal Power Statement that you can take with you as your reminder of who you are and your ability to create the life that was meant for you! \n \nThis event aims to create meaningful connections\, foster personal growth\, and equip professional women with the confidence and resources needed to achieve success in all aspects of their life. \nPower of Women (POW) is on a mission to create a space where women can gather and be connected\, inspired\, and grow. POW will be a quarterly women’s event that focuses on current trends and challenges that women are facing.
URL:https://gorainmakers.com/event/power-of-women-2/
LOCATION:Nexus Impact Center\, 9511 Angola Ct\, Indianapolis\, 46268
CATEGORIES:Empowering Women Roundtable
ATTACH;FMTTYPE=image/png:https://gorainmakers.com/wp-content/uploads/2022/09/Power-of-Women.png
END:VEVENT
BEGIN:VEVENT
DTSTART;TZID=America/Indiana/Indianapolis:20230627T173000
DTEND;TZID=America/Indiana/Indianapolis:20230627T193000
DTSTAMP:20260421T184335
CREATED:20230104T153126Z
LAST-MODIFIED:20230602T212829Z
UID:124404-1687887000-1687894200@gorainmakers.com
SUMMARY:Eat + Drink
DESCRIPTION:Rainmakers Eat + Drink is our monthly social event. We travel all around the city to experience Indy’s best independent restaurant establishments.  Everyone welcome! Bring a friend or colleague and participate in a relaxed networking environment while enjoying the great tastes of Indy. \nJoin us in June at Rick’s Cafe Boatyard! \nDetails coming soon! \n5:30-6:30 Cocktails \n6:30-? Dinner \n  \nNote: We’re responsible for finding a great restaurant! You’re responsible for your food and drink! \nLet’s support a local restaurant\, get to know other folks\, and have great food and beverages all at the same time! \n  \n \nAbout Rick’s Cafe Boatyard: \nWhen Rick Albrecht moved to Indianapolis from Louisville in the 1970s\, he was an insurance salesman who had previously been enlisted in the United States Navy. Rick would quickly become a well-known restaurateur\, owning several bars and eateries in the greater Indianapolis area\, including downtown\, Geist\, Keystone and eventually Eagle Creek.  \nPREVIOUS RESTAURANTS  \nRick`s Cafe Americain opened in Union Station in downtown Indianapolis in 1986 and was the first of many endeavors for Rick. The Americain was themed after the movie Casablanca starring Humphrey Bogart. In 1987\, Rick`s Cafe Dockside was opened on Geist Reservoir. The space was previously a bait shop and small bar\, and was expanded to have more bar space and plenty of outside seating. Rick`s Dockside was an immediate success and is what got Rick in the waterfront dining scene\, a unique venture in land-locked Indianapolis. Rick has also owned several other concepts in Indianapolis\, including Rico`s Supper Club in Carmel\, Rick`s at Riley Towers\, and The Cork at the Crossing. \n  \n\n  \n  \nTHANK YOU to Our Sponsor: \n \nNathan Pfahler \nwith Weichert Realtors for sponsoring Rainmakers Eat + Drink! \nI am happily married to Jennifer Pfahler and we have 2 young boys who are fun and active! I have been a licensed REALTOR since 2005\, started the real estate team of The Pfahler Group\, in 2012\, and have owned my own brokerage since 2018\, purchasing the Weichert Franchise towards the end of 2019. To date\, I’ve been involved in over 700 real estate transactions and am pumped to think about how many families and individuals that means we have helped in their journey to homeownership! \nMy family and I reside in Brownsburg\, IN where we are involved in various school\, church\, and community activities! I am excited to lead a great team and a great brokerage! We would be honored to assist you in your residential or commercial needs. \n 
URL:https://gorainmakers.com/event/eat-drink-21-2023-04-25-2023-06-27/
LOCATION:Rick’s Cafe Boatyard\, 4050 Dandy Trail\, Indianapolis\, IN\, 46254
CATEGORIES:Networking,Social
ATTACH;FMTTYPE=image/png:https://gorainmakers.com/wp-content/uploads/2022/01/EatDrink2022_wide.png
END:VEVENT
END:VCALENDAR