BEGIN:VCALENDAR
VERSION:2.0
PRODID:-//Rainmakers - ECPv6.15.17.1//NONSGML v1.0//EN
CALSCALE:GREGORIAN
METHOD:PUBLISH
X-ORIGINAL-URL:https://gorainmakers.com
X-WR-CALDESC:Events for Rainmakers
REFRESH-INTERVAL;VALUE=DURATION:PT1H
X-Robots-Tag:noindex
X-PUBLISHED-TTL:PT1H
BEGIN:VTIMEZONE
TZID:America/Indiana/Indianapolis
BEGIN:DAYLIGHT
TZOFFSETFROM:-0500
TZOFFSETTO:-0400
TZNAME:EDT
DTSTART:20230312T070000
END:DAYLIGHT
BEGIN:STANDARD
TZOFFSETFROM:-0400
TZOFFSETTO:-0500
TZNAME:EST
DTSTART:20231105T060000
END:STANDARD
BEGIN:DAYLIGHT
TZOFFSETFROM:-0500
TZOFFSETTO:-0400
TZNAME:EDT
DTSTART:20240310T070000
END:DAYLIGHT
BEGIN:STANDARD
TZOFFSETFROM:-0400
TZOFFSETTO:-0500
TZNAME:EST
DTSTART:20241103T060000
END:STANDARD
BEGIN:DAYLIGHT
TZOFFSETFROM:-0500
TZOFFSETTO:-0400
TZNAME:EDT
DTSTART:20250309T070000
END:DAYLIGHT
BEGIN:STANDARD
TZOFFSETFROM:-0400
TZOFFSETTO:-0500
TZNAME:EST
DTSTART:20251102T060000
END:STANDARD
END:VTIMEZONE
BEGIN:VEVENT
DTSTART;TZID=America/Indiana/Indianapolis:20240116T083000
DTEND;TZID=America/Indiana/Indianapolis:20240116T103000
DTSTAMP:20260420T072226
CREATED:20231121T173933Z
LAST-MODIFIED:20231121T181741Z
UID:124622-1705393800-1705401000@gorainmakers.com
SUMMARY:LinkedIn Lead Share
DESCRIPTION:Leverage your LinkedIn account by sharing your needs with fellow Rainmakers and helping them with their ideal connections. Get the meetings you need to be successful in your business! \nEveryone who attends will have a chance to share the following:\nYour name\, The company you represent\, The service or product that you offer your clients\, and how you help your clients. Everyone else will search their own Linkedin connections for this criteria and make immediate introductions.\n\n_________________________________\n\nTo attend this session you must know how to: \n\nSearch and use filters on Linkedin\nHave an all-star profile\nKnow-How to share a profile with a connection\nYou must have a written intro for others to send on your behalf.  I have attached a variety of samples from other members that might be helpful when putting together your intro.\n\n  \nIn this session\, you will share the following: \n\nDescribe who is your ideal strategic partner/referral partner.  Who calls on the same person in a corporation that you do?  (CIO/CEO/CFO\, ETC.)\nDescribe who is your ideal client (it’s not“everyone”)\nYou do not need to have a paid LinkedIn subscription\, although it’s nice to have.\n\n  \nWhat to expect (how-to): \n\nRound 1 connect to each other before the actual session (I will send the list of people who registered for this event ahead of time)\nRound 2 explain keywords describing who you want to meet.  Other members will send you a person that fits the bill and you reply through messenger if that looks good.\nRound 3 members send a three-way email or LinkedIn message as a warm introduction using verbiage provided during the session.\n\n\n  \nOur Facilitator: \n \nJim Patton \nJim Patton is a Financial Planner with WestPoint Financial Group.  He provides objective and customized insurance and investment strategies to help meet the financial needs of his clients. \nJim is a graduate of Purdue University where he earned his Bachelor of Science in Economics.  He later earned his Master of Business Administration from Oklahoma University and his MS in Adult Education from Indiana University. Jim is also a graduate of the US Army War College. \nPrior to joining WestPoint Financial Group\, Jim was the owner of J Patton Consulting\, LLC. He also worked for Transamerica Financial Advisors as an Investment Advisor Representative. From 1970 to 2000\, Jim served in the United States Army as a Colonel. During his service\, he was stationed in Germany and Korea. Given Jim’s background\, he enjoys focusing on veteran business owners. \nJim is a member of the Society of Financial Services Professionals and a member of the Board of Directors of the Central Indiana Chapter of the Society of Financial Services Professionals. \nIn his free time\, Jim enjoys spending time with his family and friends. His hobbies include hiking and reading.
URL:https://gorainmakers.com/event/linkedin-lead-share-4/
LOCATION:Nexus Impact Center\, 9511 Angola Ct\, Indianapolis\, 46268
CATEGORIES:LinkedIn Roundtable
ATTACH;FMTTYPE=image/png:https://gorainmakers.com/wp-content/uploads/2022/02/Linkedin-Lead-Share-2022.png
END:VEVENT
BEGIN:VEVENT
DTSTART;TZID=America/Indiana/Indianapolis:20240125T170000
DTEND;TZID=America/Indiana/Indianapolis:20240125T200000
DTSTAMP:20260420T072226
CREATED:20231201T225907Z
LAST-MODIFIED:20240123T160635Z
UID:124636-1706202000-1706212800@gorainmakers.com
SUMMARY:Let It Rain
DESCRIPTION:Save the Date for an Unforgettable Evening! \n\nRainmakers Presents James Dixon “the Absolute Motivator” – Let It Rain\n \nJoin us for an evening of inspiration\, connection\, and celebration – a culmination of motivation\, delectable flavors\, and shared experiences. \n  \nRSVP: Confirm your attendance to secure your spot at this empowering gathering \n  \nYou can look forward to…\n\nMotivational Speakers: Brace yourself for an evening of profound wisdom and inspiration from some of the most renowned motivational speakers in the industry. Their stories and insights will leave you empowered and ready to conquer new horizons.\n\nAppetizers: Delight your taste buds with an exquisite array of appetizers\, carefully curated to enhance your culinary experience\n\nHelp us in supporting our 2024 first-quarter non-profit\, LION195 Against Trafficking\, Inc.\n\n  \nKeynote Motivators:\n\nJames Dixon\, aka Supermanis4real\, is a Rainmaker alumni\, motivational speaker\, Best-selling author\, known for his high-energy speaking engagements.  As the best-selling author of “Absolute Motivation\,” James Dixon has become a prominent figure in the field of personal development and success. James’s ability to embody the concept of turning challenges into opportunities resonates deeply with readers\, making him a beacon of inspiration and motivation. \n\nWith over 128 million views on his Absolute Motivation YouTube channel\, James Dixon\, known as the “Absolute Motivator\,” has reached and touched the lives of millions worldwide. His videos have become a source of guidance\, encouragement\, and empowerment for individuals seeking personal and professional growth. Beyond his online presence\, James actively serves as an amputee mentor\, providing support and guidance to individuals facing similar challenges. Follow James on Instagram: Supermanis4real.\n_______________ \nJames Dentleyis an entrepreneur\, best-selling author\, philanthropist and one of the nation’s top Life and Business Strategist. As one of the world’s most renowned motivational speakers\, James Dentley is a dynamic personality and highly-sought-after resource in business and professional circles for Fortune 500 CEOs\, small business owners\, non-profit and community leaders from all sectors of society looking to expand opportunity. \nHis passion is to empower entrepreneurs and business owners to create massive success and to achieve their dreams. James’ passion for coaching and mentoring speakers has transformed “good speakers to great speakers and great speakers to legendary. He has spent over three decades working with start-ups to major global brands to help them increase sales\, productivity\, and overall success. \n  \n  \n\nLearn more about our 2024 first-quarter non-profit:\nLION195 Against Trafficking\, Inc.\n \nThe mission of LION195 Against Trafficking\, Inc. is to support child survivors of human trafficking with a safe place to heal and recover\, while also collaborating with national and international partners to put an end to human trafficking. Our approach involves not only providing love and care to those affected by trafficking and exploitation\, but also seeking justice against those responsible and working with global coalitions to address the underlying causes of trafficking. Our ultimate objective is to establish a comprehensive global network to combat trafficking\, which will allow survivors to heal\, reintegrate into society\, and become leaders in their communities.
URL:https://gorainmakers.com/event/let-it-rain/
LOCATION:Nexus Impact Center\, 9511 Angola Ct\, Indianapolis\, 46268
END:VEVENT
BEGIN:VEVENT
DTSTART;TZID=America/Indiana/Indianapolis:20240130T173000
DTEND;TZID=America/Indiana/Indianapolis:20240130T193000
DTSTAMP:20260420T072226
CREATED:20231121T172408Z
LAST-MODIFIED:20231230T141257Z
UID:124600-1706635800-1706643000@gorainmakers.com
SUMMARY:Eat + Drink
DESCRIPTION:Rainmakers Eat + Drink is our monthly social event. We travel all around the city to experience Indy’s best independent restaurant establishments.  Everyone welcome! Bring a friend or colleague and participate in a relaxed networking environment while enjoying the great tastes of Indy. \nJoin us at Fernando’s Mexican & Brazilian Cuisine to celebrate the start of a fantastic new year! \n5:30-6:30 Cocktails \n6:30-? Dinner \n \n  \nNote: We’re responsible for finding a great restaurant! You’re responsible for your food and drink! \nLet’s support a local restaurant\, get to know other folks\, and have great food and beverages all at the same time! \n  \n  \nTHANK YOU to Our Sponsor: \n \nNathan Pfahler \nwith Weichert Realtors for sponsoring Rainmakers Eat + Drink! \nI am happily married to Jennifer Pfahler and we have 2 young boys who are fun and active! I have been a licensed REALTOR since 2005\, started the real estate team of The Pfahler Group\, in 2012\, and have owned my own brokerage since 2018\, purchasing the Weichert Franchise towards the end of 2019. To date\, I’ve been involved in over 700 real estate transactions and am pumped to think about how many families and individuals that means we have helped in their journey to homeownership! \nMy family and I reside in Brownsburg\, IN where we are involved in various school\, church\, and community activities! I am excited to lead a great team and a great brokerage! We would be honored to assist you in your residential or commercial needs. \n 
URL:https://gorainmakers.com/event/eat-drink-23/
LOCATION:Fernando’s Mexican & Brazilian Cuisine\, 834 E 64th St\, Indianapolis\, Indiana\, 46220
CATEGORIES:Networking,Social
ATTACH;FMTTYPE=image/png:https://gorainmakers.com/wp-content/uploads/2022/01/EatDrink2022_wide.png
END:VEVENT
END:VCALENDAR